BEGIN:VCALENDAR
VERSION:2.0
PRODID:-//Gefrater - ECPv6.15.20//NONSGML v1.0//EN
CALSCALE:GREGORIAN
METHOD:PUBLISH
X-ORIGINAL-URL:https://albinoteixeira.org.br
X-WR-CALDESC:Eventos para Gefrater
REFRESH-INTERVAL;VALUE=DURATION:PT1H
X-Robots-Tag:noindex
X-PUBLISHED-TTL:PT1H
BEGIN:VTIMEZONE
TZID:America/Sao_Paulo
BEGIN:STANDARD
TZOFFSETFROM:-0300
TZOFFSETTO:-0300
TZNAME:-03
DTSTART:20210101T000000
END:STANDARD
END:VTIMEZONE
BEGIN:VEVENT
DTSTART;TZID=America/Sao_Paulo:20220814T100000
DTEND;TZID=America/Sao_Paulo:20220814T100000
DTSTAMP:20260425T222720
CREATED:20220727T150156Z
LAST-MODIFIED:20220727T150157Z
UID:6072-1660471200-1660471200@albinoteixeira.org.br
SUMMARY:Qualquer que não tomar a sua cruz e vier após mim\, não pode ser meu discípulo
DESCRIPTION:
URL:https://albinoteixeira.org.br/evento/qualquer-que-nao-tomar-a-sua-cruz-e-vier-apos-mim-nao-pode-ser-meu-discipulo/
LOCATION:Grupo Espírita de Fraternidade Albino Teixeira\, Rua dos Aeroviários\, 240\, Bairro Liberdade\, Belo Horizonte\, MG\, 31270-330\, Brasil
CATEGORIES:Reunião Pública
ATTACH;FMTTYPE=image/jpeg:https://albinoteixeira.org.br/wp-content/uploads/2022/06/sede-scaled-e1656615992280.jpg
END:VEVENT
BEGIN:VEVENT
DTSTART;TZID=America/Sao_Paulo:20220814T190000
DTEND;TZID=America/Sao_Paulo:20220814T190000
DTSTAMP:20260425T222720
CREATED:20220727T151417Z
LAST-MODIFIED:20220727T151417Z
UID:6079-1660503600-1660503600@albinoteixeira.org.br
SUMMARY:Tomou o cálice e\, tendo dado graça\, o deu aos discípulos\, dizendo: - Bebei dele todos
DESCRIPTION:
URL:https://albinoteixeira.org.br/evento/tomou-o-calice-e-tendo-dado-graca-o-deu-aos-discipulos-dizendo-bebei-dele-todos/
LOCATION:Plataforma Zoom (Senha: 123)
CATEGORIES:Online,Reunião Pública
ATTACH;FMTTYPE=image/jpeg:https://albinoteixeira.org.br/wp-content/uploads/2022/06/sede-scaled-e1656615992280.jpg
END:VEVENT
END:VCALENDAR