BEGIN:VCALENDAR
VERSION:2.0
PRODID:-//Gefrater - ECPv6.15.20//NONSGML v1.0//EN
CALSCALE:GREGORIAN
METHOD:PUBLISH
X-WR-CALNAME:Gefrater
X-ORIGINAL-URL:https://albinoteixeira.org.br
X-WR-CALDESC:Eventos para Gefrater
REFRESH-INTERVAL;VALUE=DURATION:PT1H
X-Robots-Tag:noindex
X-PUBLISHED-TTL:PT1H
BEGIN:VTIMEZONE
TZID:America/Sao_Paulo
BEGIN:STANDARD
TZOFFSETFROM:-0300
TZOFFSETTO:-0300
TZNAME:-03
DTSTART:20210101T000000
END:STANDARD
END:VTIMEZONE
BEGIN:VEVENT
DTSTART;TZID=America/Sao_Paulo:20220820T100000
DTEND;TZID=America/Sao_Paulo:20220820T100000
DTSTAMP:20260425T205809
CREATED:20220816T214021Z
LAST-MODIFIED:20220816T214022Z
UID:6116-1660989600-1660989600@albinoteixeira.org.br
SUMMARY:O perdão
DESCRIPTION:
URL:https://albinoteixeira.org.br/evento/o-perdao-8/
LOCATION:Grupo Espírita de Fraternidade Albino Teixeira\, Rua dos Aeroviários\, 240\, Bairro Liberdade\, Belo Horizonte\, MG\, 31270-330\, Brasil
CATEGORIES:Reunião Pública
ATTACH;FMTTYPE=image/jpeg:https://albinoteixeira.org.br/wp-content/uploads/2022/06/sede-scaled-e1656615992280.jpg
END:VEVENT
BEGIN:VEVENT
DTSTART;TZID=America/Sao_Paulo:20220820T150000
DTEND;TZID=America/Sao_Paulo:20220820T150000
DTSTAMP:20260425T205809
CREATED:20220816T214201Z
LAST-MODIFIED:20220816T214201Z
UID:6119-1661007600-1661007600@albinoteixeira.org.br
SUMMARY:Não vem trazer a paz\, mas espada
DESCRIPTION:
URL:https://albinoteixeira.org.br/evento/nao-vem-trazer-a-paz-mas-espada/
LOCATION:Grupo Espírita de Fraternidade Albino Teixeira\, Rua dos Aeroviários\, 240\, Bairro Liberdade\, Belo Horizonte\, MG\, 31270-330\, Brasil
CATEGORIES:Reunião Pública
ATTACH;FMTTYPE=image/jpeg:https://albinoteixeira.org.br/wp-content/uploads/2022/06/sede-scaled-e1656615992280.jpg
END:VEVENT
BEGIN:VEVENT
DTSTART;TZID=America/Sao_Paulo:20220820T183000
DTEND;TZID=America/Sao_Paulo:20220820T183000
DTSTAMP:20260425T205809
CREATED:20220816T214432Z
LAST-MODIFIED:20220816T214432Z
UID:6121-1661020200-1661020200@albinoteixeira.org.br
SUMMARY:Se alguma virtude há ou se algum louvor existe\, seja isto o que ocupe o vosso pensamento
DESCRIPTION:
URL:https://albinoteixeira.org.br/evento/se-alguma-virtude-ha-ou-se-algum-louvor-existe-seja-isto-o-que-ocupe-o-vosso-pensamento/
LOCATION:Grupo Espírita de Fraternidade Albino Teixeira\, Rua dos Aeroviários\, 240\, Bairro Liberdade\, Belo Horizonte\, MG\, 31270-330\, Brasil
CATEGORIES:Reunião Pública
ATTACH;FMTTYPE=image/jpeg:https://albinoteixeira.org.br/wp-content/uploads/2022/06/sede-scaled-e1656615992280.jpg
END:VEVENT
END:VCALENDAR