BEGIN:VCALENDAR
VERSION:2.0
PRODID:-//Gefrater - ECPv6.15.20//NONSGML v1.0//EN
CALSCALE:GREGORIAN
METHOD:PUBLISH
X-ORIGINAL-URL:https://albinoteixeira.org.br
X-WR-CALDESC:Eventos para Gefrater
REFRESH-INTERVAL;VALUE=DURATION:PT1H
X-Robots-Tag:noindex
X-PUBLISHED-TTL:PT1H
BEGIN:VTIMEZONE
TZID:America/Sao_Paulo
BEGIN:STANDARD
TZOFFSETFROM:-0300
TZOFFSETTO:-0300
TZNAME:-03
DTSTART:20210101T000000
END:STANDARD
END:VTIMEZONE
BEGIN:VEVENT
DTSTART;TZID=America/Sao_Paulo:20220828T100000
DTEND;TZID=America/Sao_Paulo:20220828T100000
DTSTAMP:20260425T222645
CREATED:20220816T221729Z
LAST-MODIFIED:20220816T221730Z
UID:6147-1661680800-1661680800@albinoteixeira.org.br
SUMMARY:Fraternidade
DESCRIPTION:
URL:https://albinoteixeira.org.br/evento/fraternidade-5/
LOCATION:Grupo Espírita de Fraternidade Albino Teixeira\, Rua dos Aeroviários\, 240\, Bairro Liberdade\, Belo Horizonte\, MG\, 31270-330\, Brasil
CATEGORIES:Reunião Pública
ATTACH;FMTTYPE=image/jpeg:https://albinoteixeira.org.br/wp-content/uploads/2022/06/sede-scaled-e1656615992280.jpg
END:VEVENT
BEGIN:VEVENT
DTSTART;TZID=America/Sao_Paulo:20220828T190000
DTEND;TZID=America/Sao_Paulo:20220828T190000
DTSTAMP:20260425T222645
CREATED:20220816T223152Z
LAST-MODIFIED:20220816T223234Z
UID:6159-1661713200-1661713200@albinoteixeira.org.br
SUMMARY:Por que vês o argueiro no olho de teu irmão?
DESCRIPTION:
URL:https://albinoteixeira.org.br/evento/por-que-ves-o-argueiro-no-olho-de-teu-irmao/
LOCATION:Plataforma Zoom (Senha: 123)
CATEGORIES:Online,Reunião Pública
ATTACH;FMTTYPE=image/jpeg:https://albinoteixeira.org.br/wp-content/uploads/2022/06/sede-scaled-e1656615992280.jpg
END:VEVENT
END:VCALENDAR