BEGIN:VCALENDAR
VERSION:2.0
PRODID:-//Gefrater - ECPv6.15.20//NONSGML v1.0//EN
CALSCALE:GREGORIAN
METHOD:PUBLISH
X-WR-CALNAME:Gefrater
X-ORIGINAL-URL:https://albinoteixeira.org.br
X-WR-CALDESC:Eventos para Gefrater
REFRESH-INTERVAL;VALUE=DURATION:PT1H
X-Robots-Tag:noindex
X-PUBLISHED-TTL:PT1H
BEGIN:VTIMEZONE
TZID:America/Sao_Paulo
BEGIN:STANDARD
TZOFFSETFROM:-0300
TZOFFSETTO:-0300
TZNAME:-03
DTSTART:20210101T000000
END:STANDARD
END:VTIMEZONE
BEGIN:VEVENT
DTSTART;TZID=America/Sao_Paulo:20220903T100000
DTEND;TZID=America/Sao_Paulo:20220903T100000
DTSTAMP:20260425T222637
CREATED:20220826T110431Z
LAST-MODIFIED:20220826T110431Z
UID:6177-1662199200-1662199200@albinoteixeira.org.br
SUMMARY:Comunhão com Deus
DESCRIPTION:
URL:https://albinoteixeira.org.br/evento/comunhao-com-deus-3/
LOCATION:Grupo Espírita de Fraternidade Albino Teixeira\, Rua dos Aeroviários\, 240\, Bairro Liberdade\, Belo Horizonte\, MG\, 31270-330\, Brasil
CATEGORIES:Reunião Pública
ATTACH;FMTTYPE=image/jpeg:https://albinoteixeira.org.br/wp-content/uploads/2022/06/sede-scaled-e1656615992280.jpg
END:VEVENT
BEGIN:VEVENT
DTSTART;TZID=America/Sao_Paulo:20220903T150000
DTEND;TZID=America/Sao_Paulo:20220903T150000
DTSTAMP:20260425T222637
CREATED:20220826T110548Z
LAST-MODIFIED:20220826T110548Z
UID:6179-1662217200-1662217200@albinoteixeira.org.br
SUMMARY:Não ponhais a candeia debaixo do alqueire
DESCRIPTION:
URL:https://albinoteixeira.org.br/evento/nao-ponhais-a-candeia-debaixo-do-alqueire-2/
LOCATION:Grupo Espírita de Fraternidade Albino Teixeira\, Rua dos Aeroviários\, 240\, Bairro Liberdade\, Belo Horizonte\, MG\, 31270-330\, Brasil
CATEGORIES:Reunião Pública
ATTACH;FMTTYPE=image/jpeg:https://albinoteixeira.org.br/wp-content/uploads/2022/06/sede-scaled-e1656615992280.jpg
END:VEVENT
BEGIN:VEVENT
DTSTART;TZID=America/Sao_Paulo:20220903T183000
DTEND;TZID=America/Sao_Paulo:20220903T183000
DTSTAMP:20260425T222637
CREATED:20220826T110711Z
LAST-MODIFIED:20220826T110712Z
UID:6181-1662229800-1662229800@albinoteixeira.org.br
SUMMARY:A caridade material e a caridade moral
DESCRIPTION:
URL:https://albinoteixeira.org.br/evento/a-caridade-material-e-a-caridade-moral-4/
LOCATION:Grupo Espírita de Fraternidade Albino Teixeira\, Rua dos Aeroviários\, 240\, Bairro Liberdade\, Belo Horizonte\, MG\, 31270-330\, Brasil
CATEGORIES:Reunião Pública
ATTACH;FMTTYPE=image/jpeg:https://albinoteixeira.org.br/wp-content/uploads/2022/06/sede-scaled-e1656615992280.jpg
END:VEVENT
END:VCALENDAR