BEGIN:VCALENDAR
VERSION:2.0
PRODID:-//Gefrater - ECPv6.15.20//NONSGML v1.0//EN
CALSCALE:GREGORIAN
METHOD:PUBLISH
X-ORIGINAL-URL:https://albinoteixeira.org.br
X-WR-CALDESC:Eventos para Gefrater
REFRESH-INTERVAL;VALUE=DURATION:PT1H
X-Robots-Tag:noindex
X-PUBLISHED-TTL:PT1H
BEGIN:VTIMEZONE
TZID:America/Sao_Paulo
BEGIN:STANDARD
TZOFFSETFROM:-0300
TZOFFSETTO:-0300
TZNAME:-03
DTSTART:20210101T000000
END:STANDARD
END:VTIMEZONE
BEGIN:VEVENT
DTSTART;TZID=America/Sao_Paulo:20220904T100000
DTEND;TZID=America/Sao_Paulo:20220904T100000
DTSTAMP:20260425T234700
CREATED:20220826T110909Z
LAST-MODIFIED:20220826T110909Z
UID:6183-1662285600-1662285600@albinoteixeira.org.br
SUMMARY:Recomeçar sempre: é preciso modificar-se
DESCRIPTION:
URL:https://albinoteixeira.org.br/evento/recomecar-sempre-e-preciso-modificar-se-2/
LOCATION:Grupo Espírita de Fraternidade Albino Teixeira\, Rua dos Aeroviários\, 240\, Bairro Liberdade\, Belo Horizonte\, MG\, 31270-330\, Brasil
CATEGORIES:Reunião Pública
ATTACH;FMTTYPE=image/jpeg:https://albinoteixeira.org.br/wp-content/uploads/2022/06/sede-scaled-e1656615992280.jpg
END:VEVENT
BEGIN:VEVENT
DTSTART;TZID=America/Sao_Paulo:20220904T190000
DTEND;TZID=America/Sao_Paulo:20220904T190000
DTSTAMP:20260425T234700
CREATED:20220826T114417Z
LAST-MODIFIED:20220826T114417Z
UID:6218-1662318000-1662318000@albinoteixeira.org.br
SUMMARY:Suicídio\, prevenção e intervenção
DESCRIPTION:
URL:https://albinoteixeira.org.br/evento/suicidio-prevencao-e-intervencao-2/
LOCATION:Plataforma Zoom (Senha: 123)
CATEGORIES:Online,Reunião Pública
ATTACH;FMTTYPE=image/jpeg:https://albinoteixeira.org.br/wp-content/uploads/2022/06/sede-scaled-e1656615992280.jpg
END:VEVENT
END:VCALENDAR