BEGIN:VCALENDAR
VERSION:2.0
PRODID:-//Gefrater - ECPv6.15.20//NONSGML v1.0//EN
CALSCALE:GREGORIAN
METHOD:PUBLISH
X-WR-CALNAME:Gefrater
X-ORIGINAL-URL:https://albinoteixeira.org.br
X-WR-CALDESC:Eventos para Gefrater
REFRESH-INTERVAL;VALUE=DURATION:PT1H
X-Robots-Tag:noindex
X-PUBLISHED-TTL:PT1H
BEGIN:VTIMEZONE
TZID:America/Sao_Paulo
BEGIN:STANDARD
TZOFFSETFROM:-0300
TZOFFSETTO:-0300
TZNAME:-03
DTSTART:20210101T000000
END:STANDARD
END:VTIMEZONE
BEGIN:VEVENT
DTSTART;TZID=America/Sao_Paulo:20220909T150000
DTEND;TZID=America/Sao_Paulo:20220909T150000
DTSTAMP:20260425T222636
CREATED:20220826T112931Z
LAST-MODIFIED:20220826T112931Z
UID:6197-1662735600-1662735600@albinoteixeira.org.br
SUMMARY:Nossos destinos convergem para luz
DESCRIPTION:
URL:https://albinoteixeira.org.br/evento/nossos-destinos-convergem-para-luz/
LOCATION:Grupo Espírita de Fraternidade Albino Teixeira\, Rua dos Aeroviários\, 240\, Bairro Liberdade\, Belo Horizonte\, MG\, 31270-330\, Brasil
CATEGORIES:Reunião Pública
ATTACH;FMTTYPE=image/jpeg:https://albinoteixeira.org.br/wp-content/uploads/2022/06/sede-scaled-e1656615992280.jpg
END:VEVENT
BEGIN:VEVENT
DTSTART;TZID=America/Sao_Paulo:20220909T200000
DTEND;TZID=America/Sao_Paulo:20220909T200000
DTSTAMP:20260425T222636
CREATED:20220826T112747Z
LAST-MODIFIED:20220826T112747Z
UID:6195-1662753600-1662753600@albinoteixeira.org.br
SUMMARY:Autoconsciência e liberdade: suicídio não!
DESCRIPTION:
URL:https://albinoteixeira.org.br/evento/autoconsciencia-e-liberdade-suicidio-nao-3/
LOCATION:Grupo Espírita de Fraternidade Albino Teixeira\, Rua dos Aeroviários\, 240\, Bairro Liberdade\, Belo Horizonte\, MG\, 31270-330\, Brasil
CATEGORIES:Reunião Pública
ATTACH;FMTTYPE=image/jpeg:https://albinoteixeira.org.br/wp-content/uploads/2022/06/sede-scaled-e1656615992280.jpg
END:VEVENT
END:VCALENDAR