BEGIN:VCALENDAR
VERSION:2.0
PRODID:-//Gefrater - ECPv6.15.20//NONSGML v1.0//EN
CALSCALE:GREGORIAN
METHOD:PUBLISH
X-WR-CALNAME:Gefrater
X-ORIGINAL-URL:https://albinoteixeira.org.br
X-WR-CALDESC:Eventos para Gefrater
REFRESH-INTERVAL;VALUE=DURATION:PT1H
X-Robots-Tag:noindex
X-PUBLISHED-TTL:PT1H
BEGIN:VTIMEZONE
TZID:America/Sao_Paulo
BEGIN:STANDARD
TZOFFSETFROM:-0300
TZOFFSETTO:-0300
TZNAME:-03
DTSTART:20210101T000000
END:STANDARD
END:VTIMEZONE
BEGIN:VEVENT
DTSTART;TZID=America/Sao_Paulo:20221116T150000
DTEND;TZID=America/Sao_Paulo:20221116T150000
DTSTAMP:20260426T011129
CREATED:20221116T140553Z
LAST-MODIFIED:20221116T140553Z
UID:6500-1668610800-1668610800@albinoteixeira.org.br
SUMMARY:Fragilidade emocional
DESCRIPTION:
URL:https://albinoteixeira.org.br/evento/fragilidade-emocional-2/
LOCATION:Grupo Espírita de Fraternidade Albino Teixeira\, Rua dos Aeroviários\, 240\, Bairro Liberdade\, Belo Horizonte\, MG\, 31270-330\, Brasil
CATEGORIES:Reunião Pública
ATTACH;FMTTYPE=image/jpeg:https://albinoteixeira.org.br/wp-content/uploads/2022/06/sede-scaled-e1656615992280.jpg
END:VEVENT
BEGIN:VEVENT
DTSTART;TZID=America/Sao_Paulo:20221116T200000
DTEND;TZID=America/Sao_Paulo:20221116T200000
DTSTAMP:20260426T011129
CREATED:20221116T140657Z
LAST-MODIFIED:20221116T140657Z
UID:6502-1668628800-1668628800@albinoteixeira.org.br
SUMMARY:Parábola da Serpente
DESCRIPTION:
URL:https://albinoteixeira.org.br/evento/parabola-da-serpente/
LOCATION:Grupo Espírita de Fraternidade Albino Teixeira\, Rua dos Aeroviários\, 240\, Bairro Liberdade\, Belo Horizonte\, MG\, 31270-330\, Brasil
CATEGORIES:Reunião Pública
ATTACH;FMTTYPE=image/jpeg:https://albinoteixeira.org.br/wp-content/uploads/2022/06/sede-scaled-e1656615992280.jpg
END:VEVENT
END:VCALENDAR