BEGIN:VCALENDAR
VERSION:2.0
PRODID:-//Gefrater - ECPv6.15.20//NONSGML v1.0//EN
CALSCALE:GREGORIAN
METHOD:PUBLISH
X-ORIGINAL-URL:https://albinoteixeira.org.br
X-WR-CALDESC:Eventos para Gefrater
REFRESH-INTERVAL;VALUE=DURATION:PT1H
X-Robots-Tag:noindex
X-PUBLISHED-TTL:PT1H
BEGIN:VTIMEZONE
TZID:America/Sao_Paulo
BEGIN:STANDARD
TZOFFSETFROM:-0300
TZOFFSETTO:-0300
TZNAME:-03
DTSTART:20210101T000000
END:STANDARD
END:VTIMEZONE
BEGIN:VEVENT
DTSTART;TZID=America/Sao_Paulo:20221126T100000
DTEND;TZID=America/Sao_Paulo:20221126T100000
DTSTAMP:20260426T011652
CREATED:20221116T174031Z
LAST-MODIFIED:20221116T174032Z
UID:6538-1669456800-1669456800@albinoteixeira.org.br
SUMMARY:O ser humano e sua epiritualização
DESCRIPTION:
URL:https://albinoteixeira.org.br/evento/o-ser-humano-e-sua-epiritualizacao/
LOCATION:Grupo Espírita de Fraternidade Albino Teixeira\, Rua dos Aeroviários\, 240\, Bairro Liberdade\, Belo Horizonte\, MG\, 31270-330\, Brasil
CATEGORIES:Reunião Pública
ATTACH;FMTTYPE=image/jpeg:https://albinoteixeira.org.br/wp-content/uploads/2022/06/sede-scaled-e1656615992280.jpg
END:VEVENT
BEGIN:VEVENT
DTSTART;TZID=America/Sao_Paulo:20221126T150000
DTEND;TZID=America/Sao_Paulo:20221126T150000
DTSTAMP:20260426T011652
CREATED:20221116T174148Z
LAST-MODIFIED:20221116T174148Z
UID:6540-1669474800-1669474800@albinoteixeira.org.br
SUMMARY:O Cristo Consolador
DESCRIPTION:
URL:https://albinoteixeira.org.br/evento/o-cristo-consolador-2/
LOCATION:Grupo Espírita de Fraternidade Albino Teixeira\, Rua dos Aeroviários\, 240\, Bairro Liberdade\, Belo Horizonte\, MG\, 31270-330\, Brasil
CATEGORIES:Reunião Pública
ATTACH;FMTTYPE=image/jpeg:https://albinoteixeira.org.br/wp-content/uploads/2022/06/sede-scaled-e1656615992280.jpg
END:VEVENT
BEGIN:VEVENT
DTSTART;TZID=America/Sao_Paulo:20221126T183000
DTEND;TZID=America/Sao_Paulo:20221126T183000
DTSTAMP:20260426T011652
CREATED:20221116T174250Z
LAST-MODIFIED:20221116T174250Z
UID:6542-1669487400-1669487400@albinoteixeira.org.br
SUMMARY:Sedes perfeitos
DESCRIPTION:
URL:https://albinoteixeira.org.br/evento/sedes-perfeitos/
LOCATION:Grupo Espírita de Fraternidade Albino Teixeira\, Rua dos Aeroviários\, 240\, Bairro Liberdade\, Belo Horizonte\, MG\, 31270-330\, Brasil
CATEGORIES:Reunião Pública
ATTACH;FMTTYPE=image/jpeg:https://albinoteixeira.org.br/wp-content/uploads/2022/06/sede-scaled-e1656615992280.jpg
END:VEVENT
END:VCALENDAR