BEGIN:VCALENDAR
VERSION:2.0
PRODID:-//Gefrater - ECPv6.15.20//NONSGML v1.0//EN
CALSCALE:GREGORIAN
METHOD:PUBLISH
X-ORIGINAL-URL:https://albinoteixeira.org.br
X-WR-CALDESC:Eventos para Gefrater
REFRESH-INTERVAL;VALUE=DURATION:PT1H
X-Robots-Tag:noindex
X-PUBLISHED-TTL:PT1H
BEGIN:VTIMEZONE
TZID:America/Sao_Paulo
BEGIN:STANDARD
TZOFFSETFROM:-0300
TZOFFSETTO:-0300
TZNAME:-03
DTSTART:20220101T000000
END:STANDARD
END:VTIMEZONE
BEGIN:VEVENT
DTSTART;TZID=America/Sao_Paulo:20230222T150000
DTEND;TZID=America/Sao_Paulo:20230222T150000
DTSTAMP:20260423T095231
CREATED:20230215T122553Z
LAST-MODIFIED:20230215T122553Z
UID:7010-1677078000-1677078000@albinoteixeira.org.br
SUMMARY:Amai vossos inimigos
DESCRIPTION:
URL:https://albinoteixeira.org.br/evento/amai-vossos-inimigos/
LOCATION:Grupo Espírita de Fraternidade Albino Teixeira\, Rua dos Aeroviários\, 240\, Bairro Liberdade\, Belo Horizonte\, MG\, 31270-330\, Brasil
CATEGORIES:Reunião Pública
ATTACH;FMTTYPE=image/jpeg:https://albinoteixeira.org.br/wp-content/uploads/2022/06/sede-scaled-e1656615992280.jpg
END:VEVENT
BEGIN:VEVENT
DTSTART;TZID=America/Sao_Paulo:20230222T200000
DTEND;TZID=America/Sao_Paulo:20230222T200000
DTSTAMP:20260423T095231
CREATED:20230215T122736Z
LAST-MODIFIED:20230224T143056Z
UID:7012-1677096000-1677096000@albinoteixeira.org.br
SUMMARY:Edificando a paz interior
DESCRIPTION:
URL:https://albinoteixeira.org.br/evento/edificando-a-paz-interior-5/
LOCATION:Grupo Espírita de Fraternidade Albino Teixeira\, Rua dos Aeroviários\, 240\, Bairro Liberdade\, Belo Horizonte\, MG\, 31270-330\, Brasil
CATEGORIES:Reunião Pública
ATTACH;FMTTYPE=image/jpeg:https://albinoteixeira.org.br/wp-content/uploads/2022/06/sede-scaled-e1656615992280.jpg
END:VEVENT
END:VCALENDAR