BEGIN:VCALENDAR
VERSION:2.0
PRODID:-//Gefrater - ECPv6.15.20//NONSGML v1.0//EN
CALSCALE:GREGORIAN
METHOD:PUBLISH
X-WR-CALNAME:Gefrater
X-ORIGINAL-URL:https://albinoteixeira.org.br
X-WR-CALDESC:Eventos para Gefrater
REFRESH-INTERVAL;VALUE=DURATION:PT1H
X-Robots-Tag:noindex
X-PUBLISHED-TTL:PT1H
BEGIN:VTIMEZONE
TZID:America/Sao_Paulo
BEGIN:STANDARD
TZOFFSETFROM:-0300
TZOFFSETTO:-0300
TZNAME:-03
DTSTART:20220101T000000
END:STANDARD
END:VTIMEZONE
BEGIN:VEVENT
DTSTART;TZID=America/Sao_Paulo:20230304T100000
DTEND;TZID=America/Sao_Paulo:20230304T100000
DTSTAMP:20260423T095105
CREATED:20230301T174833Z
LAST-MODIFIED:20230301T174833Z
UID:7059-1677924000-1677924000@albinoteixeira.org.br
SUMMARY:A importância dos pais e dos evangelizadores na formação do ser
DESCRIPTION:
URL:https://albinoteixeira.org.br/evento/a-importancia-dos-pais-e-dos-evangelizadores-na-formacao-do-ser-5/
LOCATION:Grupo Espírita de Fraternidade Albino Teixeira\, Rua dos Aeroviários\, 240\, Bairro Liberdade\, Belo Horizonte\, MG\, 31270-330\, Brasil
CATEGORIES:Reunião Pública
ATTACH;FMTTYPE=image/jpeg:https://albinoteixeira.org.br/wp-content/uploads/2022/06/sede-scaled-e1656615992280.jpg
END:VEVENT
BEGIN:VEVENT
DTSTART;TZID=America/Sao_Paulo:20230304T143000
DTEND;TZID=America/Sao_Paulo:20230304T143000
DTSTAMP:20260423T095105
CREATED:20230301T174933Z
LAST-MODIFIED:20230301T174933Z
UID:7061-1677940200-1677940200@albinoteixeira.org.br
SUMMARY:A importância dos pais e dos evangelizadores na formação do ser
DESCRIPTION:
URL:https://albinoteixeira.org.br/evento/a-importancia-dos-pais-e-dos-evangelizadores-na-formacao-do-ser-6/
LOCATION:Grupo Espírita de Fraternidade Albino Teixeira\, Rua dos Aeroviários\, 240\, Bairro Liberdade\, Belo Horizonte\, MG\, 31270-330\, Brasil
CATEGORIES:Reunião Pública
END:VEVENT
BEGIN:VEVENT
DTSTART;TZID=America/Sao_Paulo:20230304T183000
DTEND;TZID=America/Sao_Paulo:20230304T183000
DTSTAMP:20260423T095105
CREATED:20230301T175228Z
LAST-MODIFIED:20230301T175228Z
UID:7063-1677954600-1677954600@albinoteixeira.org.br
SUMMARY:A escolha de provas
DESCRIPTION:
URL:https://albinoteixeira.org.br/evento/a-escolha-de-provas-10/
LOCATION:Grupo Espírita de Fraternidade Albino Teixeira\, Rua dos Aeroviários\, 240\, Bairro Liberdade\, Belo Horizonte\, MG\, 31270-330\, Brasil
CATEGORIES:Reunião Pública
ATTACH;FMTTYPE=image/jpeg:https://albinoteixeira.org.br/wp-content/uploads/2022/06/sede-scaled-e1656615992280.jpg
END:VEVENT
END:VCALENDAR