BEGIN:VCALENDAR
VERSION:2.0
PRODID:-//Gefrater - ECPv6.15.20//NONSGML v1.0//EN
CALSCALE:GREGORIAN
METHOD:PUBLISH
X-WR-CALNAME:Gefrater
X-ORIGINAL-URL:https://albinoteixeira.org.br
X-WR-CALDESC:Eventos para Gefrater
REFRESH-INTERVAL;VALUE=DURATION:PT1H
X-Robots-Tag:noindex
X-PUBLISHED-TTL:PT1H
BEGIN:VTIMEZONE
TZID:America/Sao_Paulo
BEGIN:STANDARD
TZOFFSETFROM:-0300
TZOFFSETTO:-0300
TZNAME:-03
DTSTART:20220101T000000
END:STANDARD
END:VTIMEZONE
BEGIN:VEVENT
DTSTART;TZID=America/Sao_Paulo:20230305T100000
DTEND;TZID=America/Sao_Paulo:20230305T100000
DTSTAMP:20260423T112910
CREATED:20230301T181113Z
LAST-MODIFIED:20230301T181114Z
UID:7065-1678010400-1678010400@albinoteixeira.org.br
SUMMARY:A importância dos pais e dos evangelizadores na formação do ser
DESCRIPTION:
URL:https://albinoteixeira.org.br/evento/a-importancia-dos-pais-e-dos-evangelizadores-na-formacao-do-ser-7/
LOCATION:Grupo Espírita de Fraternidade Albino Teixeira\, Rua dos Aeroviários\, 240\, Bairro Liberdade\, Belo Horizonte\, MG\, 31270-330\, Brasil
CATEGORIES:Reunião Pública
ATTACH;FMTTYPE=image/jpeg:https://albinoteixeira.org.br/wp-content/uploads/2022/06/sede-scaled-e1656615992280.jpg
END:VEVENT
BEGIN:VEVENT
DTSTART;TZID=America/Sao_Paulo:20230305T190000
DTEND;TZID=America/Sao_Paulo:20230305T190000
DTSTAMP:20260423T112910
CREATED:20230302T111026Z
LAST-MODIFIED:20230302T111026Z
UID:7099-1678042800-1678042800@albinoteixeira.org.br
SUMMARY:Ante o Livre Arbítrio
DESCRIPTION:
URL:https://albinoteixeira.org.br/evento/ante-o-livre-arbitrio-9/
LOCATION:Plataforma Zoom (Senha: 123)
CATEGORIES:Online,Reunião Pública
ATTACH;FMTTYPE=image/jpeg:https://albinoteixeira.org.br/wp-content/uploads/2022/06/sede-scaled-e1656615992280.jpg
END:VEVENT
END:VCALENDAR