BEGIN:VCALENDAR
VERSION:2.0
PRODID:-//Gefrater - ECPv6.15.20//NONSGML v1.0//EN
CALSCALE:GREGORIAN
METHOD:PUBLISH
X-ORIGINAL-URL:https://albinoteixeira.org.br
X-WR-CALDESC:Eventos para Gefrater
REFRESH-INTERVAL;VALUE=DURATION:PT1H
X-Robots-Tag:noindex
X-PUBLISHED-TTL:PT1H
BEGIN:VTIMEZONE
TZID:America/Sao_Paulo
BEGIN:STANDARD
TZOFFSETFROM:-0300
TZOFFSETTO:-0300
TZNAME:-03
DTSTART:20220101T000000
END:STANDARD
END:VTIMEZONE
BEGIN:VEVENT
DTSTART;TZID=America/Sao_Paulo:20230308T150000
DTEND;TZID=America/Sao_Paulo:20230308T150000
DTSTAMP:20260423T115358
CREATED:20230301T181548Z
LAST-MODIFIED:20230301T181548Z
UID:7072-1678287600-1678287600@albinoteixeira.org.br
SUMMARY:Não ponhais a candeia debaixo do alqueire
DESCRIPTION:
URL:https://albinoteixeira.org.br/evento/nao-ponhais-a-candeia-debaixo-do-alqueire-4/
LOCATION:Grupo Espírita de Fraternidade Albino Teixeira\, Rua dos Aeroviários\, 240\, Bairro Liberdade\, Belo Horizonte\, MG\, 31270-330\, Brasil
CATEGORIES:Reunião Pública
ATTACH;FMTTYPE=image/jpeg:https://albinoteixeira.org.br/wp-content/uploads/2022/06/sede-scaled-e1656615992280.jpg
END:VEVENT
BEGIN:VEVENT
DTSTART;TZID=America/Sao_Paulo:20230308T200000
DTEND;TZID=America/Sao_Paulo:20230308T200000
DTSTAMP:20260423T115358
CREATED:20230301T181724Z
LAST-MODIFIED:20230301T181725Z
UID:7074-1678305600-1678305600@albinoteixeira.org.br
SUMMARY:Buscai e achareis
DESCRIPTION:
URL:https://albinoteixeira.org.br/evento/buscai-e-achareis-3/
LOCATION:Grupo Espírita de Fraternidade Albino Teixeira\, Rua dos Aeroviários\, 240\, Bairro Liberdade\, Belo Horizonte\, MG\, 31270-330\, Brasil
CATEGORIES:Reunião Pública
ATTACH;FMTTYPE=image/jpeg:https://albinoteixeira.org.br/wp-content/uploads/2022/06/sede-scaled-e1656615992280.jpg
END:VEVENT
END:VCALENDAR