BEGIN:VCALENDAR
VERSION:2.0
PRODID:-//Gefrater - ECPv6.15.20//NONSGML v1.0//EN
CALSCALE:GREGORIAN
METHOD:PUBLISH
X-WR-CALNAME:Gefrater
X-ORIGINAL-URL:https://albinoteixeira.org.br
X-WR-CALDESC:Eventos para Gefrater
REFRESH-INTERVAL;VALUE=DURATION:PT1H
X-Robots-Tag:noindex
X-PUBLISHED-TTL:PT1H
BEGIN:VTIMEZONE
TZID:America/Sao_Paulo
BEGIN:STANDARD
TZOFFSETFROM:-0300
TZOFFSETTO:-0300
TZNAME:-03
DTSTART:20220101T000000
END:STANDARD
END:VTIMEZONE
BEGIN:VEVENT
DTSTART;TZID=America/Sao_Paulo:20230422T100000
DTEND;TZID=America/Sao_Paulo:20230422T100000
DTSTAMP:20260423T144234
CREATED:20230424T113756Z
LAST-MODIFIED:20230424T113938Z
UID:7305-1682157600-1682157600@albinoteixeira.org.br
SUMMARY:Vigiai e orai para não entrardes em tentação
DESCRIPTION:
URL:https://albinoteixeira.org.br/evento/vigiai-e-orai-para-nao-entrardes-em-tentacao-4/
LOCATION:Grupo Espírita de Fraternidade Albino Teixeira\, Rua dos Aeroviários\, 240\, Bairro Liberdade\, Belo Horizonte\, MG\, 31270-330\, Brasil
CATEGORIES:Reunião Pública
ATTACH;FMTTYPE=image/jpeg:https://albinoteixeira.org.br/wp-content/uploads/2022/06/sede-scaled-e1656615992280.jpg
END:VEVENT
BEGIN:VEVENT
DTSTART;TZID=America/Sao_Paulo:20230422T143000
DTEND;TZID=America/Sao_Paulo:20230422T143000
DTSTAMP:20260423T144234
CREATED:20230424T113942Z
LAST-MODIFIED:20230424T114101Z
UID:7307-1682173800-1682173800@albinoteixeira.org.br
SUMMARY:A cura de um paralítico
DESCRIPTION:
URL:https://albinoteixeira.org.br/evento/a-cura-de-um-paralitico-7/
LOCATION:Plataforma Zoom (Senha: 123)
CATEGORIES:Reunião Pública
ATTACH;FMTTYPE=image/jpeg:https://albinoteixeira.org.br/wp-content/uploads/2022/06/sede-scaled-e1656615992280.jpg
END:VEVENT
BEGIN:VEVENT
DTSTART;TZID=America/Sao_Paulo:20230422T183000
DTEND;TZID=America/Sao_Paulo:20230422T183000
DTSTAMP:20260423T144234
CREATED:20230424T114107Z
LAST-MODIFIED:20230424T114309Z
UID:7309-1682188200-1682188200@albinoteixeira.org.br
SUMMARY:Onde estiver o seu tesouro\, aí estará seu coração
DESCRIPTION:
URL:https://albinoteixeira.org.br/evento/onde-estiver-o-seu-tesouro-ai-estara-seu-coracao-3/
LOCATION:Grupo Espírita de Fraternidade Albino Teixeira\, Rua dos Aeroviários\, 240\, Bairro Liberdade\, Belo Horizonte\, MG\, 31270-330\, Brasil
CATEGORIES:Reunião Pública
ATTACH;FMTTYPE=image/jpeg:https://albinoteixeira.org.br/wp-content/uploads/2022/06/sede-scaled-e1656615992280.jpg
END:VEVENT
END:VCALENDAR