BEGIN:VCALENDAR
VERSION:2.0
PRODID:-//Gefrater - ECPv6.15.20//NONSGML v1.0//EN
CALSCALE:GREGORIAN
METHOD:PUBLISH
X-WR-CALNAME:Gefrater
X-ORIGINAL-URL:https://albinoteixeira.org.br
X-WR-CALDESC:Eventos para Gefrater
REFRESH-INTERVAL;VALUE=DURATION:PT1H
X-Robots-Tag:noindex
X-PUBLISHED-TTL:PT1H
BEGIN:VTIMEZONE
TZID:America/Sao_Paulo
BEGIN:STANDARD
TZOFFSETFROM:-0300
TZOFFSETTO:-0300
TZNAME:-03
DTSTART:20220101T000000
END:STANDARD
END:VTIMEZONE
BEGIN:VEVENT
DTSTART;TZID=America/Sao_Paulo:20230428T150000
DTEND;TZID=America/Sao_Paulo:20230428T150000
DTSTAMP:20260423T131500
CREATED:20230424T112646Z
LAST-MODIFIED:20230424T112755Z
UID:7289-1682694000-1682694000@albinoteixeira.org.br
SUMMARY:Boas obras
DESCRIPTION:
URL:https://albinoteixeira.org.br/evento/boas-obras-8/
LOCATION:Grupo Espírita de Fraternidade Albino Teixeira\, Rua dos Aeroviários\, 240\, Bairro Liberdade\, Belo Horizonte\, MG\, 31270-330\, Brasil
CATEGORIES:Reunião Pública
ATTACH;FMTTYPE=image/jpeg:https://albinoteixeira.org.br/wp-content/uploads/2022/06/sede-scaled-e1656615992280.jpg
END:VEVENT
BEGIN:VEVENT
DTSTART;TZID=America/Sao_Paulo:20230428T200000
DTEND;TZID=America/Sao_Paulo:20230428T200000
DTSTAMP:20260423T131500
CREATED:20230424T112805Z
LAST-MODIFIED:20230424T112927Z
UID:7291-1682712000-1682712000@albinoteixeira.org.br
SUMMARY:As lições de Jesus e a mulher adúltera
DESCRIPTION:
URL:https://albinoteixeira.org.br/evento/as-licoes-de-jesus-e-a-mulher-adultera-5/
LOCATION:Grupo Espírita de Fraternidade Albino Teixeira\, Rua dos Aeroviários\, 240\, Bairro Liberdade\, Belo Horizonte\, MG\, 31270-330\, Brasil
CATEGORIES:Reunião Pública
ATTACH;FMTTYPE=image/jpeg:https://albinoteixeira.org.br/wp-content/uploads/2022/06/sede-scaled-e1656615992280.jpg
END:VEVENT
END:VCALENDAR