BEGIN:VCALENDAR
VERSION:2.0
PRODID:-//Gefrater - ECPv6.15.20//NONSGML v1.0//EN
CALSCALE:GREGORIAN
METHOD:PUBLISH
X-WR-CALNAME:Gefrater
X-ORIGINAL-URL:https://albinoteixeira.org.br
X-WR-CALDESC:Eventos para Gefrater
REFRESH-INTERVAL;VALUE=DURATION:PT1H
X-Robots-Tag:noindex
X-PUBLISHED-TTL:PT1H
BEGIN:VTIMEZONE
TZID:America/Sao_Paulo
BEGIN:STANDARD
TZOFFSETFROM:-0300
TZOFFSETTO:-0300
TZNAME:-03
DTSTART:20220101T000000
END:STANDARD
END:VTIMEZONE
BEGIN:VEVENT
DTSTART;TZID=America/Sao_Paulo:20230527T100000
DTEND;TZID=America/Sao_Paulo:20230527T100000
DTSTAMP:20260423T160807
CREATED:20230521T121851Z
LAST-MODIFIED:20230521T121855Z
UID:7411-1685181600-1685181600@albinoteixeira.org.br
SUMMARY:Leis morais - lei de destruição
DESCRIPTION:
URL:https://albinoteixeira.org.br/evento/leis-morais-lei-de-destruicao-5/
LOCATION:Grupo Espírita de Fraternidade Albino Teixeira\, Rua dos Aeroviários\, 240\, Bairro Liberdade\, Belo Horizonte\, MG\, 31270-330\, Brasil
CATEGORIES:Reunião Pública
ATTACH;FMTTYPE=image/jpeg:https://albinoteixeira.org.br/wp-content/uploads/2022/06/sede-scaled-e1656615992280.jpg
END:VEVENT
BEGIN:VEVENT
DTSTART;TZID=America/Sao_Paulo:20230527T143000
DTEND;TZID=America/Sao_Paulo:20230527T143000
DTSTAMP:20260423T160807
CREATED:20230527T111329Z
LAST-MODIFIED:20230527T111329Z
UID:7414-1685197800-1685197800@albinoteixeira.org.br
SUMMARY:O jugo de Jesus
DESCRIPTION:
URL:https://albinoteixeira.org.br/evento/o-jugo-de-jesus-3/
LOCATION:Grupo Espírita de Fraternidade Albino Teixeira\, Rua dos Aeroviários\, 240\, Bairro Liberdade\, Belo Horizonte\, MG\, 31270-330\, Brasil
CATEGORIES:Reunião Pública
ATTACH;FMTTYPE=image/jpeg:https://albinoteixeira.org.br/wp-content/uploads/2022/06/sede-scaled-e1656615992280.jpg
END:VEVENT
BEGIN:VEVENT
DTSTART;TZID=America/Sao_Paulo:20230527T183000
DTEND;TZID=America/Sao_Paulo:20230527T183000
DTSTAMP:20260423T160807
CREATED:20230527T111435Z
LAST-MODIFIED:20230527T111436Z
UID:7416-1685212200-1685212200@albinoteixeira.org.br
SUMMARY:Leis morais - Lei de igualdade
DESCRIPTION:
URL:https://albinoteixeira.org.br/evento/leis-morais-lei-de-igualdade-4/
LOCATION:Grupo Espírita de Fraternidade Albino Teixeira\, Rua dos Aeroviários\, 240\, Bairro Liberdade\, Belo Horizonte\, MG\, 31270-330\, Brasil
CATEGORIES:Reunião Pública
ATTACH;FMTTYPE=image/jpeg:https://albinoteixeira.org.br/wp-content/uploads/2022/06/sede-scaled-e1656615992280.jpg
END:VEVENT
END:VCALENDAR