BEGIN:VCALENDAR
VERSION:2.0
PRODID:-//Gefrater - ECPv6.15.20//NONSGML v1.0//EN
CALSCALE:GREGORIAN
METHOD:PUBLISH
X-WR-CALNAME:Gefrater
X-ORIGINAL-URL:https://albinoteixeira.org.br
X-WR-CALDESC:Eventos para Gefrater
REFRESH-INTERVAL;VALUE=DURATION:PT1H
X-Robots-Tag:noindex
X-PUBLISHED-TTL:PT1H
BEGIN:VTIMEZONE
TZID:America/Sao_Paulo
BEGIN:STANDARD
TZOFFSETFROM:-0300
TZOFFSETTO:-0300
TZNAME:-03
DTSTART:20220101T000000
END:STANDARD
END:VTIMEZONE
BEGIN:VEVENT
DTSTART;TZID=America/Sao_Paulo:20231126T100000
DTEND;TZID=America/Sao_Paulo:20231126T100000
DTSTAMP:20260425T134615
CREATED:20231125T093909Z
LAST-MODIFIED:20231125T093909Z
UID:8047-1700992800-1700992800@albinoteixeira.org.br
SUMMARY:As bem aventuranças
DESCRIPTION:
URL:https://albinoteixeira.org.br/evento/as-bem-aventurancas-3/
LOCATION:Grupo Espírita de Fraternidade Albino Teixeira\, Rua dos Aeroviários\, 240\, Bairro Liberdade\, Belo Horizonte\, MG\, 31270-330\, Brasil
CATEGORIES:Reunião Pública
END:VEVENT
BEGIN:VEVENT
DTSTART;TZID=America/Sao_Paulo:20231126T190000
DTEND;TZID=America/Sao_Paulo:20231126T190000
DTSTAMP:20260425T134615
CREATED:20231125T094046Z
LAST-MODIFIED:20231125T095030Z
UID:8050-1701025200-1701025200@albinoteixeira.org.br
SUMMARY:Cura da mulher encurvada em dia de sábado
DESCRIPTION:
URL:https://albinoteixeira.org.br/evento/cura-da-mulher-encurvada-em-dia-de-sabado-2/
LOCATION:Plataforma Zoom (Senha: 123)
CATEGORIES:Online,Reunião Pública
ATTACH;FMTTYPE=image/jpeg:https://albinoteixeira.org.br/wp-content/uploads/2022/06/sede-scaled-e1656615992280.jpg
END:VEVENT
END:VCALENDAR