BEGIN:VCALENDAR
VERSION:2.0
PRODID:-//Gefrater - ECPv6.15.20//NONSGML v1.0//EN
CALSCALE:GREGORIAN
METHOD:PUBLISH
X-WR-CALNAME:Gefrater
X-ORIGINAL-URL:https://albinoteixeira.org.br
X-WR-CALDESC:Eventos para Gefrater
REFRESH-INTERVAL;VALUE=DURATION:PT1H
X-Robots-Tag:noindex
X-PUBLISHED-TTL:PT1H
BEGIN:VTIMEZONE
TZID:America/Sao_Paulo
BEGIN:STANDARD
TZOFFSETFROM:-0300
TZOFFSETTO:-0300
TZNAME:-03
DTSTART:20230101T000000
END:STANDARD
END:VTIMEZONE
BEGIN:VEVENT
DTSTART;TZID=America/Sao_Paulo:20240217T100000
DTEND;TZID=America/Sao_Paulo:20240217T100000
DTSTAMP:20260425T211553
CREATED:20240219T133339Z
LAST-MODIFIED:20240219T133339Z
UID:8204-1708164000-1708164000@albinoteixeira.org.br
SUMMARY:Em louvor do equilíbrio
DESCRIPTION:
URL:https://albinoteixeira.org.br/evento/em-louvor-do-equilibrio-4/
LOCATION:Grupo Espírita de Fraternidade Albino Teixeira\, Rua dos Aeroviários\, 240\, Bairro Liberdade\, Belo Horizonte\, MG\, 31270-330\, Brasil
CATEGORIES:Reunião Pública
ATTACH;FMTTYPE=image/jpeg:https://albinoteixeira.org.br/wp-content/uploads/2022/06/sede-scaled-e1656615992280.jpg
END:VEVENT
BEGIN:VEVENT
DTSTART;TZID=America/Sao_Paulo:20240217T143000
DTEND;TZID=America/Sao_Paulo:20240217T143000
DTSTAMP:20260425T211553
CREATED:20240219T133610Z
LAST-MODIFIED:20240219T133610Z
UID:8206-1708180200-1708180200@albinoteixeira.org.br
SUMMARY:Se teus olhos forem bons\, teu corpo terá luz
DESCRIPTION:
URL:https://albinoteixeira.org.br/evento/se-teus-olhos-forem-bons-teu-corpo-tera-luz/
LOCATION:Grupo Espírita de Fraternidade Albino Teixeira\, Rua dos Aeroviários\, 240\, Bairro Liberdade\, Belo Horizonte\, MG\, 31270-330\, Brasil
CATEGORIES:Reunião Pública
ATTACH;FMTTYPE=image/jpeg:https://albinoteixeira.org.br/wp-content/uploads/2022/06/sede-scaled-e1656615992280.jpg
END:VEVENT
END:VCALENDAR