BEGIN:VCALENDAR
VERSION:2.0
PRODID:-//Gefrater - ECPv6.15.20//NONSGML v1.0//EN
CALSCALE:GREGORIAN
METHOD:PUBLISH
X-ORIGINAL-URL:https://albinoteixeira.org.br
X-WR-CALDESC:Eventos para Gefrater
REFRESH-INTERVAL;VALUE=DURATION:PT1H
X-Robots-Tag:noindex
X-PUBLISHED-TTL:PT1H
BEGIN:VTIMEZONE
TZID:America/Sao_Paulo
BEGIN:STANDARD
TZOFFSETFROM:-0300
TZOFFSETTO:-0300
TZNAME:-03
DTSTART:20230101T000000
END:STANDARD
END:VTIMEZONE
BEGIN:VEVENT
DTSTART;TZID=America/Sao_Paulo:20240329T150000
DTEND;TZID=America/Sao_Paulo:20240329T150000
DTSTAMP:20260425T224802
CREATED:20240325T125146Z
LAST-MODIFIED:20240325T125146Z
UID:8336-1711724400-1711724400@albinoteixeira.org.br
SUMMARY:Bom ânimo
DESCRIPTION:
URL:https://albinoteixeira.org.br/evento/bom-animo-12/
LOCATION:Grupo Espírita de Fraternidade Albino Teixeira\, Rua dos Aeroviários\, 240\, Bairro Liberdade\, Belo Horizonte\, MG\, 31270-330\, Brasil
CATEGORIES:Reunião Pública
ATTACH;FMTTYPE=image/jpeg:https://albinoteixeira.org.br/wp-content/uploads/2022/06/sede-scaled-e1656615992280.jpg
END:VEVENT
BEGIN:VEVENT
DTSTART;TZID=America/Sao_Paulo:20240329T200000
DTEND;TZID=America/Sao_Paulo:20240329T200000
DTSTAMP:20260425T224802
CREATED:20240325T125320Z
LAST-MODIFIED:20240325T130430Z
UID:8338-1711742400-1711742400@albinoteixeira.org.br
SUMMARY:A crucificação\, calvário e ressurreição do Cristo
DESCRIPTION:
URL:https://albinoteixeira.org.br/evento/a-crucificacao-calvario-e-ressurreicao-do-cristo-2/
LOCATION:Grupo Espírita de Fraternidade Albino Teixeira\, Rua dos Aeroviários\, 240\, Bairro Liberdade\, Belo Horizonte\, MG\, 31270-330\, Brasil
CATEGORIES:Reunião Pública
ATTACH;FMTTYPE=image/jpeg:https://albinoteixeira.org.br/wp-content/uploads/2022/06/sede-scaled-e1656615992280.jpg
END:VEVENT
END:VCALENDAR