BEGIN:VCALENDAR
VERSION:2.0
PRODID:-//Gefrater - ECPv6.15.20//NONSGML v1.0//EN
CALSCALE:GREGORIAN
METHOD:PUBLISH
X-WR-CALNAME:Gefrater
X-ORIGINAL-URL:https://albinoteixeira.org.br
X-WR-CALDESC:Eventos para Gefrater
REFRESH-INTERVAL;VALUE=DURATION:PT1H
X-Robots-Tag:noindex
X-PUBLISHED-TTL:PT1H
BEGIN:VTIMEZONE
TZID:America/Sao_Paulo
BEGIN:STANDARD
TZOFFSETFROM:-0300
TZOFFSETTO:-0300
TZNAME:-03
DTSTART:20230101T000000
END:STANDARD
END:VTIMEZONE
BEGIN:VEVENT
DTSTART;TZID=America/Sao_Paulo:20240427T100000
DTEND;TZID=America/Sao_Paulo:20240427T100000
DTSTAMP:20260426T013048
CREATED:20240421T121050Z
LAST-MODIFIED:20240421T121955Z
UID:8456-1714212000-1714212000@albinoteixeira.org.br
SUMMARY:O mensageiro distraído
DESCRIPTION:
URL:https://albinoteixeira.org.br/evento/o-mensageiro-distraido/
LOCATION:Grupo Espírita de Fraternidade Albino Teixeira\, Rua dos Aeroviários\, 240\, Bairro Liberdade\, Belo Horizonte\, MG\, 31270-330\, Brasil
CATEGORIES:Reunião Pública
ATTACH;FMTTYPE=image/jpeg:https://albinoteixeira.org.br/wp-content/uploads/2022/06/sede-scaled-e1656615992280.jpg
END:VEVENT
BEGIN:VEVENT
DTSTART;TZID=America/Sao_Paulo:20240427T143000
DTEND;TZID=America/Sao_Paulo:20240427T143000
DTSTAMP:20260426T013048
CREATED:20240421T121226Z
LAST-MODIFIED:20240421T122020Z
UID:8458-1714228200-1714228200@albinoteixeira.org.br
SUMMARY:A parábola relembrada
DESCRIPTION:
URL:https://albinoteixeira.org.br/evento/a-parabola-relembrada/
LOCATION:Grupo Espírita de Fraternidade Albino Teixeira\, Rua dos Aeroviários\, 240\, Bairro Liberdade\, Belo Horizonte\, MG\, 31270-330\, Brasil
CATEGORIES:Reunião Pública
ATTACH;FMTTYPE=image/jpeg:https://albinoteixeira.org.br/wp-content/uploads/2022/06/sede-scaled-e1656615992280.jpg
END:VEVENT
END:VCALENDAR