BEGIN:VCALENDAR
VERSION:2.0
PRODID:-//Gefrater - ECPv6.15.20//NONSGML v1.0//EN
CALSCALE:GREGORIAN
METHOD:PUBLISH
X-WR-CALNAME:Gefrater
X-ORIGINAL-URL:https://albinoteixeira.org.br
X-WR-CALDESC:Eventos para Gefrater
REFRESH-INTERVAL;VALUE=DURATION:PT1H
X-Robots-Tag:noindex
X-PUBLISHED-TTL:PT1H
BEGIN:VTIMEZONE
TZID:America/Sao_Paulo
BEGIN:STANDARD
TZOFFSETFROM:-0300
TZOFFSETTO:-0300
TZNAME:-03
DTSTART:20210101T000000
END:STANDARD
END:VTIMEZONE
BEGIN:VEVENT
DTSTART;TZID=America/Sao_Paulo:20220928T150000
DTEND;TZID=America/Sao_Paulo:20220928T150000
DTSTAMP:20260425T234924
CREATED:20220917T133329Z
LAST-MODIFIED:20220917T133329Z
UID:6272-1664377200-1664377200@albinoteixeira.org.br
SUMMARY:Dai a César o que é de César
DESCRIPTION:
URL:https://albinoteixeira.org.br/evento/dai-a-cesar-o-que-e-de-cesar-3/
LOCATION:Grupo Espírita de Fraternidade Albino Teixeira\, Rua dos Aeroviários\, 240\, Bairro Liberdade\, Belo Horizonte\, MG\, 31270-330\, Brasil
CATEGORIES:Reunião Pública
ATTACH;FMTTYPE=image/jpeg:https://albinoteixeira.org.br/wp-content/uploads/2022/06/sede-scaled-e1656615992280.jpg
END:VEVENT
BEGIN:VEVENT
DTSTART;TZID=America/Sao_Paulo:20220928T200000
DTEND;TZID=America/Sao_Paulo:20220928T200000
DTSTAMP:20260425T234924
CREATED:20220917T133521Z
LAST-MODIFIED:20220917T133646Z
UID:6274-1664395200-1664395200@albinoteixeira.org.br
SUMMARY:Bases para constituição do lar
DESCRIPTION:
URL:https://albinoteixeira.org.br/evento/bases-para-constituicao-do-lar-2/
LOCATION:Grupo Espírita de Fraternidade Albino Teixeira\, Rua dos Aeroviários\, 240\, Bairro Liberdade\, Belo Horizonte\, MG\, 31270-330\, Brasil
CATEGORIES:Reunião Pública
ATTACH;FMTTYPE=image/jpeg:https://albinoteixeira.org.br/wp-content/uploads/2022/06/sede-scaled-e1656615992280.jpg
END:VEVENT
BEGIN:VEVENT
DTSTART;TZID=America/Sao_Paulo:20220929T200000
DTEND;TZID=America/Sao_Paulo:20220929T200000
DTSTAMP:20260425T234924
CREATED:20220917T133828Z
LAST-MODIFIED:20220917T133829Z
UID:6276-1664481600-1664481600@albinoteixeira.org.br
SUMMARY:Ante o livre arbítrio
DESCRIPTION:
URL:https://albinoteixeira.org.br/evento/ante-o-livre-arbitrio-7/
LOCATION:Grupo Espírita de Fraternidade Albino Teixeira\, Rua dos Aeroviários\, 240\, Bairro Liberdade\, Belo Horizonte\, MG\, 31270-330\, Brasil
CATEGORIES:Reunião Pública
ATTACH;FMTTYPE=image/jpeg:https://albinoteixeira.org.br/wp-content/uploads/2022/06/sede-scaled-e1656615992280.jpg
END:VEVENT
BEGIN:VEVENT
DTSTART;TZID=America/Sao_Paulo:20220930T150000
DTEND;TZID=America/Sao_Paulo:20220930T150000
DTSTAMP:20260425T234924
CREATED:20220917T133952Z
LAST-MODIFIED:20220917T133952Z
UID:6278-1664550000-1664550000@albinoteixeira.org.br
SUMMARY:No auxílio a todos
DESCRIPTION:
URL:https://albinoteixeira.org.br/evento/no-auxilio-a-todos/
LOCATION:Grupo Espírita de Fraternidade Albino Teixeira\, Rua dos Aeroviários\, 240\, Bairro Liberdade\, Belo Horizonte\, MG\, 31270-330\, Brasil
CATEGORIES:Reunião Pública
ATTACH;FMTTYPE=image/jpeg:https://albinoteixeira.org.br/wp-content/uploads/2022/06/sede-scaled-e1656615992280.jpg
END:VEVENT
BEGIN:VEVENT
DTSTART;TZID=America/Sao_Paulo:20220930T200000
DTEND;TZID=America/Sao_Paulo:20220930T200000
DTSTAMP:20260425T234924
CREATED:20220917T134111Z
LAST-MODIFIED:20220917T134112Z
UID:6280-1664568000-1664568000@albinoteixeira.org.br
SUMMARY:O Sal da Terra
DESCRIPTION:
URL:https://albinoteixeira.org.br/evento/o-sal-da-terra-4/
LOCATION:Grupo Espírita de Fraternidade Albino Teixeira\, Rua dos Aeroviários\, 240\, Bairro Liberdade\, Belo Horizonte\, MG\, 31270-330\, Brasil
CATEGORIES:Reunião Pública
ATTACH;FMTTYPE=image/jpeg:https://albinoteixeira.org.br/wp-content/uploads/2022/06/sede-scaled-e1656615992280.jpg
END:VEVENT
BEGIN:VEVENT
DTSTART;TZID=America/Sao_Paulo:20221001T100000
DTEND;TZID=America/Sao_Paulo:20221001T100000
DTSTAMP:20260425T234924
CREATED:20221001T022011Z
LAST-MODIFIED:20221001T022011Z
UID:6304-1664618400-1664618400@albinoteixeira.org.br
SUMMARY:Princípios básicos: Deus
DESCRIPTION:
URL:https://albinoteixeira.org.br/evento/principios-basicos-deus-4/
LOCATION:Grupo Espírita de Fraternidade Albino Teixeira\, Rua dos Aeroviários\, 240\, Bairro Liberdade\, Belo Horizonte\, MG\, 31270-330\, Brasil
CATEGORIES:Reunião Pública
ATTACH;FMTTYPE=image/jpeg:https://albinoteixeira.org.br/wp-content/uploads/2022/06/sede-scaled-e1656615992280.jpg
END:VEVENT
BEGIN:VEVENT
DTSTART;TZID=America/Sao_Paulo:20221001T150000
DTEND;TZID=America/Sao_Paulo:20221001T150000
DTSTAMP:20260425T234924
CREATED:20221001T022135Z
LAST-MODIFIED:20221001T022135Z
UID:6307-1664636400-1664636400@albinoteixeira.org.br
SUMMARY:Boas obras
DESCRIPTION:
URL:https://albinoteixeira.org.br/evento/boas-obras-7/
LOCATION:Grupo Espírita de Fraternidade Albino Teixeira\, Rua dos Aeroviários\, 240\, Bairro Liberdade\, Belo Horizonte\, MG\, 31270-330\, Brasil
CATEGORIES:Reunião Pública
ATTACH;FMTTYPE=image/jpeg:https://albinoteixeira.org.br/wp-content/uploads/2022/06/sede-scaled-e1656615992280.jpg
END:VEVENT
BEGIN:VEVENT
DTSTART;TZID=America/Sao_Paulo:20221001T183000
DTEND;TZID=America/Sao_Paulo:20221001T183000
DTSTAMP:20260425T234924
CREATED:20221001T022316Z
LAST-MODIFIED:20221001T022316Z
UID:6309-1664649000-1664649000@albinoteixeira.org.br
SUMMARY:Amai os vossos inimigos
DESCRIPTION:
URL:https://albinoteixeira.org.br/evento/amai-os-vossos-inimigos-3/
LOCATION:Grupo Espírita de Fraternidade Albino Teixeira\, Rua dos Aeroviários\, 240\, Bairro Liberdade\, Belo Horizonte\, MG\, 31270-330\, Brasil
CATEGORIES:Reunião Pública
ATTACH;FMTTYPE=image/jpeg:https://albinoteixeira.org.br/wp-content/uploads/2022/06/sede-scaled-e1656615992280.jpg
END:VEVENT
BEGIN:VEVENT
DTSTART;TZID=America/Sao_Paulo:20221002T100000
DTEND;TZID=America/Sao_Paulo:20221002T100000
DTSTAMP:20260425T234924
CREATED:20221001T022511Z
LAST-MODIFIED:20221001T022512Z
UID:6311-1664704800-1664704800@albinoteixeira.org.br
SUMMARY:O tríplice aspecto da Doutrina Espírita
DESCRIPTION:
URL:https://albinoteixeira.org.br/evento/o-triplice-aspecto-da-doutrina-espirita-2/
LOCATION:Grupo Espírita de Fraternidade Albino Teixeira\, Rua dos Aeroviários\, 240\, Bairro Liberdade\, Belo Horizonte\, MG\, 31270-330\, Brasil
CATEGORIES:Reunião Pública
ATTACH;FMTTYPE=image/jpeg:https://albinoteixeira.org.br/wp-content/uploads/2022/06/sede-scaled-e1656615992280.jpg
END:VEVENT
BEGIN:VEVENT
DTSTART;TZID=America/Sao_Paulo:20221002T190000
DTEND;TZID=America/Sao_Paulo:20221002T190000
DTSTAMP:20260425T234924
CREATED:20221001T090829Z
LAST-MODIFIED:20221001T091213Z
UID:6360-1664737200-1664737200@albinoteixeira.org.br
SUMMARY:A caridade como a entendia Jesus
DESCRIPTION:
URL:https://albinoteixeira.org.br/evento/a-caridade-como-a-entendia-jesus-2/
LOCATION:Plataforma Zoom (Senha: 123)
CATEGORIES:Online,Reunião Pública
ATTACH;FMTTYPE=image/jpeg:https://albinoteixeira.org.br/wp-content/uploads/2022/06/sede-scaled-e1656615992280.jpg
END:VEVENT
BEGIN:VEVENT
DTSTART;TZID=America/Sao_Paulo:20221003T200000
DTEND;TZID=America/Sao_Paulo:20221003T200000
DTSTAMP:20260425T234924
CREATED:20221001T082946Z
LAST-MODIFIED:20221001T082946Z
UID:6313-1664827200-1664827200@albinoteixeira.org.br
SUMMARY:Kardec\, o codificador do espiritismo
DESCRIPTION:
URL:https://albinoteixeira.org.br/evento/kardec-o-codificador-do-espiritismo-4/
LOCATION:Grupo Espírita de Fraternidade Albino Teixeira\, Rua dos Aeroviários\, 240\, Bairro Liberdade\, Belo Horizonte\, MG\, 31270-330\, Brasil
CATEGORIES:Reunião Pública
ATTACH;FMTTYPE=image/jpeg:https://albinoteixeira.org.br/wp-content/uploads/2022/06/sede-scaled-e1656615992280.jpg
END:VEVENT
BEGIN:VEVENT
DTSTART;TZID=America/Sao_Paulo:20221004T200000
DTEND;TZID=America/Sao_Paulo:20221004T200000
DTSTAMP:20260425T234924
CREATED:20221001T083109Z
LAST-MODIFIED:20221001T083110Z
UID:6315-1664913600-1664913600@albinoteixeira.org.br
SUMMARY:A obra básica
DESCRIPTION:
URL:https://albinoteixeira.org.br/evento/a-obra-basica/
LOCATION:Grupo Espírita de Fraternidade Albino Teixeira\, Rua dos Aeroviários\, 240\, Bairro Liberdade\, Belo Horizonte\, MG\, 31270-330\, Brasil
CATEGORIES:Reunião Pública
ATTACH;FMTTYPE=image/jpeg:https://albinoteixeira.org.br/wp-content/uploads/2022/06/sede-scaled-e1656615992280.jpg
END:VEVENT
BEGIN:VEVENT
DTSTART;TZID=America/Sao_Paulo:20221005T150000
DTEND;TZID=America/Sao_Paulo:20221005T150000
DTSTAMP:20260425T234924
CREATED:20221001T083324Z
LAST-MODIFIED:20221001T083325Z
UID:6317-1664982000-1664982000@albinoteixeira.org.br
SUMMARY:O Evangelho Segundo o Espiritismo - o ensino moral
DESCRIPTION:
URL:https://albinoteixeira.org.br/evento/o-evangelho-segundo-o-espiritismo-o-ensino-moral-3/
LOCATION:Grupo Espírita de Fraternidade Albino Teixeira\, Rua dos Aeroviários\, 240\, Bairro Liberdade\, Belo Horizonte\, MG\, 31270-330\, Brasil
CATEGORIES:Reunião Pública
ATTACH;FMTTYPE=image/jpeg:https://albinoteixeira.org.br/wp-content/uploads/2022/06/sede-scaled-e1656615992280.jpg
END:VEVENT
BEGIN:VEVENT
DTSTART;TZID=America/Sao_Paulo:20221005T200000
DTEND;TZID=America/Sao_Paulo:20221005T200000
DTSTAMP:20260425T234924
CREATED:20221001T083454Z
LAST-MODIFIED:20221001T083454Z
UID:6319-1665000000-1665000000@albinoteixeira.org.br
SUMMARY:A importância de O Livro dos Espíritos
DESCRIPTION:
URL:https://albinoteixeira.org.br/evento/a-importancia-de-o-livro-dos-espiritos-4/
LOCATION:Grupo Espírita de Fraternidade Albino Teixeira\, Rua dos Aeroviários\, 240\, Bairro Liberdade\, Belo Horizonte\, MG\, 31270-330\, Brasil
CATEGORIES:Reunião Pública
ATTACH;FMTTYPE=image/jpeg:https://albinoteixeira.org.br/wp-content/uploads/2022/06/sede-scaled-e1656615992280.jpg
END:VEVENT
BEGIN:VEVENT
DTSTART;TZID=America/Sao_Paulo:20221006T200000
DTEND;TZID=America/Sao_Paulo:20221006T200000
DTSTAMP:20260425T234924
CREATED:20221001T083640Z
LAST-MODIFIED:20221001T083640Z
UID:6321-1665086400-1665086400@albinoteixeira.org.br
SUMMARY:A vida futura
DESCRIPTION:
URL:https://albinoteixeira.org.br/evento/a-vida-futura/
LOCATION:Grupo Espírita de Fraternidade Albino Teixeira\, Rua dos Aeroviários\, 240\, Bairro Liberdade\, Belo Horizonte\, MG\, 31270-330\, Brasil
CATEGORIES:Reunião Pública
ATTACH;FMTTYPE=image/jpeg:https://albinoteixeira.org.br/wp-content/uploads/2022/06/sede-scaled-e1656615992280.jpg
END:VEVENT
BEGIN:VEVENT
DTSTART;TZID=America/Sao_Paulo:20221007T150000
DTEND;TZID=America/Sao_Paulo:20221007T150000
DTSTAMP:20260425T234924
CREATED:20221001T083805Z
LAST-MODIFIED:20221001T083805Z
UID:6323-1665154800-1665154800@albinoteixeira.org.br
SUMMARY:Regeneração da humanidade
DESCRIPTION:
URL:https://albinoteixeira.org.br/evento/regeneracao-da-humanidade/
LOCATION:Grupo Espírita de Fraternidade Albino Teixeira\, Rua dos Aeroviários\, 240\, Bairro Liberdade\, Belo Horizonte\, MG\, 31270-330\, Brasil
CATEGORIES:Reunião Pública
ATTACH;FMTTYPE=image/jpeg:https://albinoteixeira.org.br/wp-content/uploads/2022/06/sede-scaled-e1656615992280.jpg
END:VEVENT
BEGIN:VEVENT
DTSTART;TZID=America/Sao_Paulo:20221007T200000
DTEND;TZID=America/Sao_Paulo:20221007T200000
DTSTAMP:20260425T234924
CREATED:20221001T083950Z
LAST-MODIFIED:20221001T083950Z
UID:6325-1665172800-1665172800@albinoteixeira.org.br
SUMMARY:O egoísmo e o orgulho
DESCRIPTION:
URL:https://albinoteixeira.org.br/evento/o-egoismo-e-o-orgulho/
LOCATION:Grupo Espírita de Fraternidade Albino Teixeira\, Rua dos Aeroviários\, 240\, Bairro Liberdade\, Belo Horizonte\, MG\, 31270-330\, Brasil
CATEGORIES:Reunião Pública
ATTACH;FMTTYPE=image/jpeg:https://albinoteixeira.org.br/wp-content/uploads/2022/06/sede-scaled-e1656615992280.jpg
END:VEVENT
BEGIN:VEVENT
DTSTART;TZID=America/Sao_Paulo:20221008T100000
DTEND;TZID=America/Sao_Paulo:20221008T100000
DTSTAMP:20260425T234924
CREATED:20221001T084238Z
LAST-MODIFIED:20221001T084239Z
UID:6327-1665223200-1665223200@albinoteixeira.org.br
SUMMARY:Espiritismo: filosofia com bases científicas e consequências morais
DESCRIPTION:
URL:https://albinoteixeira.org.br/evento/espiritismo-filosofia-com-bases-cientificas-e-consequencias-morais-4/
LOCATION:Grupo Espírita de Fraternidade Albino Teixeira\, Rua dos Aeroviários\, 240\, Bairro Liberdade\, Belo Horizonte\, MG\, 31270-330\, Brasil
CATEGORIES:Reunião Pública
ATTACH;FMTTYPE=image/jpeg:https://albinoteixeira.org.br/wp-content/uploads/2022/06/sede-scaled-e1656615992280.jpg
END:VEVENT
BEGIN:VEVENT
DTSTART;TZID=America/Sao_Paulo:20221008T150000
DTEND;TZID=America/Sao_Paulo:20221008T150000
DTSTAMP:20260425T234924
CREATED:20221001T084431Z
LAST-MODIFIED:20221001T084431Z
UID:6329-1665241200-1665241200@albinoteixeira.org.br
SUMMARY:Liberdade\, igualdade e fraternidade
DESCRIPTION:
URL:https://albinoteixeira.org.br/evento/liberdade-igualdade-e-fraternidade/
LOCATION:Grupo Espírita de Fraternidade Albino Teixeira\, Rua dos Aeroviários\, 240\, Bairro Liberdade\, Belo Horizonte\, MG\, 31270-330\, Brasil
CATEGORIES:Reunião Pública
ATTACH;FMTTYPE=image/jpeg:https://albinoteixeira.org.br/wp-content/uploads/2022/06/sede-scaled-e1656615992280.jpg
END:VEVENT
BEGIN:VEVENT
DTSTART;TZID=America/Sao_Paulo:20221008T183000
DTEND;TZID=America/Sao_Paulo:20221008T183000
DTSTAMP:20260425T234924
CREATED:20221001T084703Z
LAST-MODIFIED:20221001T091340Z
UID:6331-1665253800-1665253800@albinoteixeira.org.br
SUMMARY:Nascer\, morrer\, renascer\, progredir sempre\, tal é a lei
DESCRIPTION:
URL:https://albinoteixeira.org.br/evento/nascer-morrer-renascer-progredir-sempre-tal-e-a-lei/
LOCATION:Grupo Espírita de Fraternidade Albino Teixeira\, Rua dos Aeroviários\, 240\, Bairro Liberdade\, Belo Horizonte\, MG\, 31270-330\, Brasil
CATEGORIES:Reunião Pública
ATTACH;FMTTYPE=image/jpeg:https://albinoteixeira.org.br/wp-content/uploads/2022/06/sede-scaled-e1656615992280.jpg
END:VEVENT
BEGIN:VEVENT
DTSTART;TZID=America/Sao_Paulo:20221009T100000
DTEND;TZID=America/Sao_Paulo:20221009T100000
DTSTAMP:20260425T234924
CREATED:20221001T084908Z
LAST-MODIFIED:20221001T084955Z
UID:6333-1665309600-1665309600@albinoteixeira.org.br
SUMMARY:Projeto 1868: Obras póstumas
DESCRIPTION:
URL:https://albinoteixeira.org.br/evento/projeto-1868-obras-postumas/
LOCATION:Grupo Espírita de Fraternidade Albino Teixeira\, Rua dos Aeroviários\, 240\, Bairro Liberdade\, Belo Horizonte\, MG\, 31270-330\, Brasil
CATEGORIES:Reunião Pública
ATTACH;FMTTYPE=image/jpeg:https://albinoteixeira.org.br/wp-content/uploads/2022/06/sede-scaled-e1656615992280.jpg
END:VEVENT
BEGIN:VEVENT
DTSTART;TZID=America/Sao_Paulo:20221009T190000
DTEND;TZID=America/Sao_Paulo:20221009T190000
DTSTAMP:20260425T234924
CREATED:20221001T091127Z
LAST-MODIFIED:20221001T091127Z
UID:6362-1665342000-1665342000@albinoteixeira.org.br
SUMMARY:A era do Espírito: tempo de fé\, razão e autoconhecimento
DESCRIPTION:
URL:https://albinoteixeira.org.br/evento/a-era-do-espirito-tempo-de-fe-razao-e-autoconhecimento-5/
LOCATION:Plataforma Zoom (Senha: 123)
CATEGORIES:Online,Reunião Pública
ATTACH;FMTTYPE=image/jpeg:https://albinoteixeira.org.br/wp-content/uploads/2022/06/sede-scaled-e1656615992280.jpg
END:VEVENT
BEGIN:VEVENT
DTSTART;TZID=America/Sao_Paulo:20221010T200000
DTEND;TZID=America/Sao_Paulo:20221010T200000
DTSTAMP:20260425T234924
CREATED:20221001T085142Z
LAST-MODIFIED:20221001T085143Z
UID:6335-1665432000-1665432000@albinoteixeira.org.br
SUMMARY:Espíritos protetores
DESCRIPTION:
URL:https://albinoteixeira.org.br/evento/espiritos-protetores-5/
LOCATION:Grupo Espírita de Fraternidade Albino Teixeira\, Rua dos Aeroviários\, 240\, Bairro Liberdade\, Belo Horizonte\, MG\, 31270-330\, Brasil
CATEGORIES:Reunião Pública
ATTACH;FMTTYPE=image/jpeg:https://albinoteixeira.org.br/wp-content/uploads/2022/06/sede-scaled-e1656615992280.jpg
END:VEVENT
BEGIN:VEVENT
DTSTART;TZID=America/Sao_Paulo:20221011T200000
DTEND;TZID=America/Sao_Paulo:20221011T200000
DTSTAMP:20260425T234924
CREATED:20221001T085341Z
LAST-MODIFIED:20221001T085341Z
UID:6337-1665518400-1665518400@albinoteixeira.org.br
SUMMARY:A fé humana e a divina
DESCRIPTION:
URL:https://albinoteixeira.org.br/evento/a-fe-humana-e-a-divina/
LOCATION:Grupo Espírita de Fraternidade Albino Teixeira\, Rua dos Aeroviários\, 240\, Bairro Liberdade\, Belo Horizonte\, MG\, 31270-330\, Brasil
CATEGORIES:Reunião Pública
ATTACH;FMTTYPE=image/jpeg:https://albinoteixeira.org.br/wp-content/uploads/2022/06/sede-scaled-e1656615992280.jpg
END:VEVENT
BEGIN:VEVENT
DTSTART;TZID=America/Sao_Paulo:20221012T150000
DTEND;TZID=America/Sao_Paulo:20221012T150000
DTSTAMP:20260425T234924
CREATED:20221001T085516Z
LAST-MODIFIED:20221001T085517Z
UID:6340-1665586800-1665586800@albinoteixeira.org.br
SUMMARY:A superioridade da natureza de Jesus
DESCRIPTION:
URL:https://albinoteixeira.org.br/evento/a-superioridade-da-natureza-de-jesus-3/
LOCATION:Grupo Espírita de Fraternidade Albino Teixeira\, Rua dos Aeroviários\, 240\, Bairro Liberdade\, Belo Horizonte\, MG\, 31270-330\, Brasil
CATEGORIES:Reunião Pública
ATTACH;FMTTYPE=image/jpeg:https://albinoteixeira.org.br/wp-content/uploads/2022/06/sede-scaled-e1656615992280.jpg
END:VEVENT
BEGIN:VEVENT
DTSTART;TZID=America/Sao_Paulo:20221012T200000
DTEND;TZID=America/Sao_Paulo:20221012T200000
DTSTAMP:20260425T234924
CREATED:20221001T085654Z
LAST-MODIFIED:20221001T085654Z
UID:6342-1665604800-1665604800@albinoteixeira.org.br
SUMMARY:A purificação do templo
DESCRIPTION:
URL:https://albinoteixeira.org.br/evento/a-purificacao-do-templo-6/
LOCATION:Grupo Espírita de Fraternidade Albino Teixeira\, Rua dos Aeroviários\, 240\, Bairro Liberdade\, Belo Horizonte\, MG\, 31270-330\, Brasil
CATEGORIES:Reunião Pública
ATTACH;FMTTYPE=image/jpeg:https://albinoteixeira.org.br/wp-content/uploads/2022/06/sede-scaled-e1656615992280.jpg
END:VEVENT
BEGIN:VEVENT
DTSTART;TZID=America/Sao_Paulo:20221013T200000
DTEND;TZID=America/Sao_Paulo:20221013T200000
DTSTAMP:20260425T234924
CREATED:20221001T085810Z
LAST-MODIFIED:20221001T091504Z
UID:6344-1665691200-1665691200@albinoteixeira.org.br
SUMMARY:A porta estreita
DESCRIPTION:
URL:https://albinoteixeira.org.br/evento/a-porta-estreita-3/
LOCATION:Grupo Espírita de Fraternidade Albino Teixeira\, Rua dos Aeroviários\, 240\, Bairro Liberdade\, Belo Horizonte\, MG\, 31270-330\, Brasil
CATEGORIES:Reunião Pública
ATTACH;FMTTYPE=image/jpeg:https://albinoteixeira.org.br/wp-content/uploads/2022/06/sede-scaled-e1656615992280.jpg
END:VEVENT
BEGIN:VEVENT
DTSTART;TZID=America/Sao_Paulo:20221014T150000
DTEND;TZID=America/Sao_Paulo:20221014T150000
DTSTAMP:20260425T234924
CREATED:20221001T090002Z
LAST-MODIFIED:20221001T090002Z
UID:6346-1665759600-1665759600@albinoteixeira.org.br
SUMMARY:Aquele que se eleva será rebaixado
DESCRIPTION:
URL:https://albinoteixeira.org.br/evento/aquele-que-se-eleva-sera-rebaixado-2/
LOCATION:Grupo Espírita de Fraternidade Albino Teixeira\, Rua dos Aeroviários\, 240\, Bairro Liberdade\, Belo Horizonte\, MG\, 31270-330\, Brasil
CATEGORIES:Reunião Pública
ATTACH;FMTTYPE=image/jpeg:https://albinoteixeira.org.br/wp-content/uploads/2022/06/sede-scaled-e1656615992280.jpg
END:VEVENT
BEGIN:VEVENT
DTSTART;TZID=America/Sao_Paulo:20221014T200000
DTEND;TZID=America/Sao_Paulo:20221014T200000
DTSTAMP:20260425T234924
CREATED:20221001T090120Z
LAST-MODIFIED:20221001T090121Z
UID:6348-1665777600-1665777600@albinoteixeira.org.br
SUMMARY:A solução está em nossas mãos
DESCRIPTION:
URL:https://albinoteixeira.org.br/evento/a-solucao-esta-em-nossas-maos-5/
LOCATION:Grupo Espírita de Fraternidade Albino Teixeira\, Rua dos Aeroviários\, 240\, Bairro Liberdade\, Belo Horizonte\, MG\, 31270-330\, Brasil
CATEGORIES:Reunião Pública
ATTACH;FMTTYPE=image/jpeg:https://albinoteixeira.org.br/wp-content/uploads/2022/06/sede-scaled-e1656615992280.jpg
END:VEVENT
BEGIN:VEVENT
DTSTART;TZID=America/Sao_Paulo:20221015T100000
DTEND;TZID=America/Sao_Paulo:20221015T100000
DTSTAMP:20260425T234924
CREATED:20221001T090230Z
LAST-MODIFIED:20221001T090230Z
UID:6351-1665828000-1665828000@albinoteixeira.org.br
SUMMARY:A pesca maravilhosa
DESCRIPTION:
URL:https://albinoteixeira.org.br/evento/a-pesca-maravilhosa-4/
LOCATION:Grupo Espírita de Fraternidade Albino Teixeira\, Rua dos Aeroviários\, 240\, Bairro Liberdade\, Belo Horizonte\, MG\, 31270-330\, Brasil
CATEGORIES:Reunião Pública
ATTACH;FMTTYPE=image/jpeg:https://albinoteixeira.org.br/wp-content/uploads/2022/06/sede-scaled-e1656615992280.jpg
END:VEVENT
END:VCALENDAR