BEGIN:VCALENDAR
VERSION:2.0
PRODID:-//Gefrater - ECPv6.15.20//NONSGML v1.0//EN
CALSCALE:GREGORIAN
METHOD:PUBLISH
X-WR-CALNAME:Gefrater
X-ORIGINAL-URL:https://albinoteixeira.org.br
X-WR-CALDESC:Eventos para Gefrater
REFRESH-INTERVAL;VALUE=DURATION:PT1H
X-Robots-Tag:noindex
X-PUBLISHED-TTL:PT1H
BEGIN:VTIMEZONE
TZID:America/Sao_Paulo
BEGIN:STANDARD
TZOFFSETFROM:-0300
TZOFFSETTO:-0300
TZNAME:-03
DTSTART:20220101T000000
END:STANDARD
END:VTIMEZONE
BEGIN:VEVENT
DTSTART;TZID=America/Sao_Paulo:20230405T150000
DTEND;TZID=America/Sao_Paulo:20230405T150000
DTSTAMP:20260423T174009
CREATED:20230403T201311Z
LAST-MODIFIED:20230403T201311Z
UID:7197-1680706800-1680706800@albinoteixeira.org.br
SUMMARY:Mandamento de Maria: fazei tudo o que ele voz disser
DESCRIPTION:
URL:https://albinoteixeira.org.br/evento/mandamento-de-maria-fazei-tudo-o-que-ele-voz-disser/
LOCATION:Grupo Espírita de Fraternidade Albino Teixeira\, Rua dos Aeroviários\, 240\, Bairro Liberdade\, Belo Horizonte\, MG\, 31270-330\, Brasil
CATEGORIES:Reunião Pública
ATTACH;FMTTYPE=image/jpeg:https://albinoteixeira.org.br/wp-content/uploads/2022/06/sede-scaled-e1656615992280.jpg
END:VEVENT
BEGIN:VEVENT
DTSTART;TZID=America/Sao_Paulo:20230405T200000
DTEND;TZID=America/Sao_Paulo:20230405T200000
DTSTAMP:20260423T174009
CREATED:20230403T201601Z
LAST-MODIFIED:20230403T201601Z
UID:7199-1680724800-1680724800@albinoteixeira.org.br
SUMMARY:A ressurreição da filha de Jairo
DESCRIPTION:
URL:https://albinoteixeira.org.br/evento/a-ressurreicao-da-filha-de-jairo-3/
LOCATION:Grupo Espírita de Fraternidade Albino Teixeira\, Rua dos Aeroviários\, 240\, Bairro Liberdade\, Belo Horizonte\, MG\, 31270-330\, Brasil
CATEGORIES:Reunião Pública
ATTACH;FMTTYPE=image/jpeg:https://albinoteixeira.org.br/wp-content/uploads/2022/06/sede-scaled-e1656615992280.jpg
END:VEVENT
BEGIN:VEVENT
DTSTART;TZID=America/Sao_Paulo:20230406T200000
DTEND;TZID=America/Sao_Paulo:20230406T200000
DTSTAMP:20260423T174009
CREATED:20230403T201725Z
LAST-MODIFIED:20230403T201725Z
UID:7201-1680811200-1680811200@albinoteixeira.org.br
SUMMARY:A caminho de Emaús
DESCRIPTION:
URL:https://albinoteixeira.org.br/evento/a-caminho-de-emaus-6/
LOCATION:Grupo Espírita de Fraternidade Albino Teixeira\, Rua dos Aeroviários\, 240\, Bairro Liberdade\, Belo Horizonte\, MG\, 31270-330\, Brasil
CATEGORIES:Reunião Pública
ATTACH;FMTTYPE=image/jpeg:https://albinoteixeira.org.br/wp-content/uploads/2022/06/sede-scaled-e1656615992280.jpg
END:VEVENT
BEGIN:VEVENT
DTSTART;TZID=America/Sao_Paulo:20230407T150000
DTEND;TZID=America/Sao_Paulo:20230407T150000
DTSTAMP:20260423T174009
CREATED:20230403T201935Z
LAST-MODIFIED:20230403T201936Z
UID:7203-1680879600-1680879600@albinoteixeira.org.br
SUMMARY:Nisto todos conhecerão que sois meus discípulos\, se tiverdes amor uns aos outros
DESCRIPTION:
URL:https://albinoteixeira.org.br/evento/nisto-todos-conhecerao-que-sois-meus-discipulos-se-tiverdes-amor-uns-aos-outros-2/
LOCATION:Grupo Espírita de Fraternidade Albino Teixeira\, Rua dos Aeroviários\, 240\, Bairro Liberdade\, Belo Horizonte\, MG\, 31270-330\, Brasil
CATEGORIES:Reunião Pública
ATTACH;FMTTYPE=image/jpeg:https://albinoteixeira.org.br/wp-content/uploads/2022/06/sede-scaled-e1656615992280.jpg
END:VEVENT
BEGIN:VEVENT
DTSTART;TZID=America/Sao_Paulo:20230407T200000
DTEND;TZID=America/Sao_Paulo:20230407T200000
DTSTAMP:20260423T174009
CREATED:20230403T202030Z
LAST-MODIFIED:20230403T202031Z
UID:7205-1680897600-1680897600@albinoteixeira.org.br
SUMMARY:A prece
DESCRIPTION:
URL:https://albinoteixeira.org.br/evento/a-prece/
LOCATION:Grupo Espírita de Fraternidade Albino Teixeira\, Rua dos Aeroviários\, 240\, Bairro Liberdade\, Belo Horizonte\, MG\, 31270-330\, Brasil
CATEGORIES:Reunião Pública
ATTACH;FMTTYPE=image/jpeg:https://albinoteixeira.org.br/wp-content/uploads/2022/06/sede-scaled-e1656615992280.jpg
END:VEVENT
BEGIN:VEVENT
DTSTART;TZID=America/Sao_Paulo:20230408T100000
DTEND;TZID=America/Sao_Paulo:20230408T100000
DTSTAMP:20260423T174009
CREATED:20230409T122508Z
LAST-MODIFIED:20230409T122508Z
UID:7235-1680948000-1680948000@albinoteixeira.org.br
SUMMARY:Não é a vida mais que alimento?
DESCRIPTION:
URL:https://albinoteixeira.org.br/evento/nao-e-a-vida-mais-que-alimento/
LOCATION:Grupo Espírita de Fraternidade Albino Teixeira\, Rua dos Aeroviários\, 240\, Bairro Liberdade\, Belo Horizonte\, MG\, 31270-330\, Brasil
CATEGORIES:Reunião Pública
ATTACH;FMTTYPE=image/jpeg:https://albinoteixeira.org.br/wp-content/uploads/2022/06/sede-scaled-e1656615992280.jpg
END:VEVENT
BEGIN:VEVENT
DTSTART;TZID=America/Sao_Paulo:20230408T143000
DTEND;TZID=America/Sao_Paulo:20230408T143000
DTSTAMP:20260423T174009
CREATED:20230409T122645Z
LAST-MODIFIED:20230409T122646Z
UID:7237-1680964200-1680964200@albinoteixeira.org.br
SUMMARY:A pesca maravilhosa
DESCRIPTION:
URL:https://albinoteixeira.org.br/evento/a-pesca-maravilhosa-5/
LOCATION:Grupo Espírita de Fraternidade Albino Teixeira\, Rua dos Aeroviários\, 240\, Bairro Liberdade\, Belo Horizonte\, MG\, 31270-330\, Brasil
CATEGORIES:Reunião Pública
ATTACH;FMTTYPE=image/jpeg:https://albinoteixeira.org.br/wp-content/uploads/2022/06/sede-scaled-e1656615992280.jpg
END:VEVENT
BEGIN:VEVENT
DTSTART;TZID=America/Sao_Paulo:20230408T183000
DTEND;TZID=America/Sao_Paulo:20230408T183000
DTSTAMP:20260423T174009
CREATED:20230409T122818Z
LAST-MODIFIED:20230409T122819Z
UID:7239-1680978600-1680978600@albinoteixeira.org.br
SUMMARY:Parábola do juiz iníquo
DESCRIPTION:
URL:https://albinoteixeira.org.br/evento/parabola-do-juiz-iniquo-2/
LOCATION:Grupo Espírita de Fraternidade Albino Teixeira\, Rua dos Aeroviários\, 240\, Bairro Liberdade\, Belo Horizonte\, MG\, 31270-330\, Brasil
CATEGORIES:Reunião Pública
ATTACH;FMTTYPE=image/jpeg:https://albinoteixeira.org.br/wp-content/uploads/2022/06/sede-scaled-e1656615992280.jpg
END:VEVENT
BEGIN:VEVENT
DTSTART;TZID=America/Sao_Paulo:20230409T100000
DTEND;TZID=America/Sao_Paulo:20230409T100000
DTSTAMP:20260423T174009
CREATED:20230409T120507Z
LAST-MODIFIED:20230409T120508Z
UID:7213-1681034400-1681034400@albinoteixeira.org.br
SUMMARY:Na conquista de liberdade
DESCRIPTION:
URL:https://albinoteixeira.org.br/evento/na-conquista-de-liberdade/
LOCATION:Grupo Espírita de Fraternidade Albino Teixeira\, Rua dos Aeroviários\, 240\, Bairro Liberdade\, Belo Horizonte\, MG\, 31270-330\, Brasil
CATEGORIES:Reunião Pública
ATTACH;FMTTYPE=image/jpeg:https://albinoteixeira.org.br/wp-content/uploads/2022/06/sede-scaled-e1656615992280.jpg
END:VEVENT
BEGIN:VEVENT
DTSTART;TZID=America/Sao_Paulo:20230409T190000
DTEND;TZID=America/Sao_Paulo:20230409T190000
DTSTAMP:20260423T174009
CREATED:20230331T202400Z
LAST-MODIFIED:20230409T122226Z
UID:7187-1681066800-1681066800@albinoteixeira.org.br
SUMMARY:Prossigamos
DESCRIPTION:
URL:https://albinoteixeira.org.br/evento/prossigamos-3/
LOCATION:Grupo Espírita de Fraternidade Albino Teixeira\, Rua dos Aeroviários\, 240\, Bairro Liberdade\, Belo Horizonte\, MG\, 31270-330\, Brasil
CATEGORIES:Online,Reunião Pública
ATTACH;FMTTYPE=image/jpeg:https://albinoteixeira.org.br/wp-content/uploads/2022/06/sede-scaled-e1656615992280.jpg
END:VEVENT
BEGIN:VEVENT
DTSTART;TZID=America/Sao_Paulo:20230410T200000
DTEND;TZID=America/Sao_Paulo:20230410T200000
DTSTAMP:20260423T174009
CREATED:20230409T120636Z
LAST-MODIFIED:20230409T120636Z
UID:7215-1681156800-1681156800@albinoteixeira.org.br
SUMMARY:Dependência química na visão espírita
DESCRIPTION:
URL:https://albinoteixeira.org.br/evento/dependencia-quimica-na-visao-espirita-2/
LOCATION:Grupo Espírita de Fraternidade Albino Teixeira\, Rua dos Aeroviários\, 240\, Bairro Liberdade\, Belo Horizonte\, MG\, 31270-330\, Brasil
CATEGORIES:Reunião Pública
ATTACH;FMTTYPE=image/jpeg:https://albinoteixeira.org.br/wp-content/uploads/2022/06/sede-scaled-e1656615992280.jpg
END:VEVENT
BEGIN:VEVENT
DTSTART;TZID=America/Sao_Paulo:20230411T200000
DTEND;TZID=America/Sao_Paulo:20230411T200000
DTSTAMP:20260423T174009
CREATED:20230409T120745Z
LAST-MODIFIED:20230409T120745Z
UID:7217-1681243200-1681243200@albinoteixeira.org.br
SUMMARY:Cura e auto cura
DESCRIPTION:
URL:https://albinoteixeira.org.br/evento/cura-e-auto-cura-2/
LOCATION:Grupo Espírita de Fraternidade Albino Teixeira\, Rua dos Aeroviários\, 240\, Bairro Liberdade\, Belo Horizonte\, MG\, 31270-330\, Brasil
CATEGORIES:Reunião Pública
ATTACH;FMTTYPE=image/jpeg:https://albinoteixeira.org.br/wp-content/uploads/2022/06/sede-scaled-e1656615992280.jpg
END:VEVENT
BEGIN:VEVENT
DTSTART;TZID=America/Sao_Paulo:20230412T150000
DTEND;TZID=America/Sao_Paulo:20230412T150000
DTSTAMP:20260423T174009
CREATED:20230409T120946Z
LAST-MODIFIED:20230409T120947Z
UID:7219-1681311600-1681311600@albinoteixeira.org.br
SUMMARY:Saúde e espiritualidade\, abordando a ligação e ponte entre os temas
DESCRIPTION:
URL:https://albinoteixeira.org.br/evento/saude-e-espiritualidade-abordando-a-ligacao-e-ponte-entre-os-temas-2/
LOCATION:Grupo Espírita de Fraternidade Albino Teixeira\, Rua dos Aeroviários\, 240\, Bairro Liberdade\, Belo Horizonte\, MG\, 31270-330\, Brasil
CATEGORIES:Reunião Pública
ATTACH;FMTTYPE=image/jpeg:https://albinoteixeira.org.br/wp-content/uploads/2022/06/sede-scaled-e1656615992280.jpg
END:VEVENT
BEGIN:VEVENT
DTSTART;TZID=America/Sao_Paulo:20230412T200000
DTEND;TZID=America/Sao_Paulo:20230412T200000
DTSTAMP:20260423T174009
CREATED:20230409T121105Z
LAST-MODIFIED:20230409T121105Z
UID:7221-1681329600-1681329600@albinoteixeira.org.br
SUMMARY:Gestação: encontro entre almas
DESCRIPTION:
URL:https://albinoteixeira.org.br/evento/gestacao-encontro-entre-almas/
LOCATION:Grupo Espírita de Fraternidade Albino Teixeira\, Rua dos Aeroviários\, 240\, Bairro Liberdade\, Belo Horizonte\, MG\, 31270-330\, Brasil
CATEGORIES:Reunião Pública
ATTACH;FMTTYPE=image/jpeg:https://albinoteixeira.org.br/wp-content/uploads/2022/06/sede-scaled-e1656615992280.jpg
END:VEVENT
BEGIN:VEVENT
DTSTART;TZID=America/Sao_Paulo:20230413T200000
DTEND;TZID=America/Sao_Paulo:20230413T200000
DTSTAMP:20260423T174009
CREATED:20230409T121221Z
LAST-MODIFIED:20230409T121221Z
UID:7223-1681416000-1681416000@albinoteixeira.org.br
SUMMARY:Caridade: cura da alma
DESCRIPTION:
URL:https://albinoteixeira.org.br/evento/caridade-cura-da-alma-5/
LOCATION:Grupo Espírita de Fraternidade Albino Teixeira\, Rua dos Aeroviários\, 240\, Bairro Liberdade\, Belo Horizonte\, MG\, 31270-330\, Brasil
CATEGORIES:Reunião Pública
END:VEVENT
BEGIN:VEVENT
DTSTART;TZID=America/Sao_Paulo:20230414T150000
DTEND;TZID=America/Sao_Paulo:20230414T150000
DTSTAMP:20260423T174009
CREATED:20230409T121438Z
LAST-MODIFIED:20230409T121438Z
UID:7225-1681484400-1681484400@albinoteixeira.org.br
SUMMARY:Transformação moral e os mecanismos do ego
DESCRIPTION:
URL:https://albinoteixeira.org.br/evento/transformacao-moral-e-os-mecanismos-do-ego-2/
LOCATION:Grupo Espírita de Fraternidade Albino Teixeira\, Rua dos Aeroviários\, 240\, Bairro Liberdade\, Belo Horizonte\, MG\, 31270-330\, Brasil
CATEGORIES:Reunião Pública
ATTACH;FMTTYPE=image/jpeg:https://albinoteixeira.org.br/wp-content/uploads/2022/06/sede-scaled-e1656615992280.jpg
END:VEVENT
BEGIN:VEVENT
DTSTART;TZID=America/Sao_Paulo:20230414T200000
DTEND;TZID=America/Sao_Paulo:20230414T200000
DTSTAMP:20260423T174009
CREATED:20230409T121545Z
LAST-MODIFIED:20230409T121604Z
UID:7227-1681502400-1681502400@albinoteixeira.org.br
SUMMARY:Medicina da alma
DESCRIPTION:
URL:https://albinoteixeira.org.br/evento/medicina-da-alma-2/
LOCATION:Grupo Espírita de Fraternidade Albino Teixeira\, Rua dos Aeroviários\, 240\, Bairro Liberdade\, Belo Horizonte\, MG\, 31270-330\, Brasil
CATEGORIES:Reunião Pública
ATTACH;FMTTYPE=image/jpeg:https://albinoteixeira.org.br/wp-content/uploads/2022/06/sede-scaled-e1656615992280.jpg
END:VEVENT
BEGIN:VEVENT
DTSTART;TZID=America/Sao_Paulo:20230415T100000
DTEND;TZID=America/Sao_Paulo:20230415T100000
DTSTAMP:20260423T174009
CREATED:20230409T121822Z
LAST-MODIFIED:20230409T121823Z
UID:7229-1681552800-1681552800@albinoteixeira.org.br
SUMMARY:Visão médico afetiva sobre a dependência emotivo afetiva
DESCRIPTION:
URL:https://albinoteixeira.org.br/evento/visao-medico-afetiva-sobre-a-dependencia-emotivo-afetiva/
LOCATION:Grupo Espírita de Fraternidade Albino Teixeira\, Rua dos Aeroviários\, 240\, Bairro Liberdade\, Belo Horizonte\, MG\, 31270-330\, Brasil
CATEGORIES:Reunião Pública
ATTACH;FMTTYPE=image/jpeg:https://albinoteixeira.org.br/wp-content/uploads/2022/06/sede-scaled-e1656615992280.jpg
END:VEVENT
BEGIN:VEVENT
DTSTART;TZID=America/Sao_Paulo:20230415T143000
DTEND;TZID=America/Sao_Paulo:20230415T143000
DTSTAMP:20260423T174009
CREATED:20230409T121943Z
LAST-MODIFIED:20230409T121943Z
UID:7231-1681569000-1681569000@albinoteixeira.org.br
SUMMARY:Depressão não é frescura
DESCRIPTION:
URL:https://albinoteixeira.org.br/evento/depressao-nao-e-frescura/
LOCATION:Grupo Espírita de Fraternidade Albino Teixeira\, Rua dos Aeroviários\, 240\, Bairro Liberdade\, Belo Horizonte\, MG\, 31270-330\, Brasil
CATEGORIES:Reunião Pública
ATTACH;FMTTYPE=image/jpeg:https://albinoteixeira.org.br/wp-content/uploads/2022/06/sede-scaled-e1656615992280.jpg
END:VEVENT
BEGIN:VEVENT
DTSTART;TZID=America/Sao_Paulo:20230415T183000
DTEND;TZID=America/Sao_Paulo:20230415T183000
DTSTAMP:20260423T174009
CREATED:20230409T122051Z
LAST-MODIFIED:20230409T122051Z
UID:7233-1681583400-1681583400@albinoteixeira.org.br
SUMMARY:Saúde do corpo e do espírito
DESCRIPTION:
URL:https://albinoteixeira.org.br/evento/saude-do-corpo-e-do-espirito-5/
LOCATION:Grupo Espírita de Fraternidade Albino Teixeira\, Rua dos Aeroviários\, 240\, Bairro Liberdade\, Belo Horizonte\, MG\, 31270-330\, Brasil
CATEGORIES:Reunião Pública
ATTACH;FMTTYPE=image/jpeg:https://albinoteixeira.org.br/wp-content/uploads/2022/06/sede-scaled-e1656615992280.jpg
END:VEVENT
BEGIN:VEVENT
DTSTART;TZID=America/Sao_Paulo:20230416T100000
DTEND;TZID=America/Sao_Paulo:20230416T100000
DTSTAMP:20260423T174009
CREATED:20230416T000043Z
LAST-MODIFIED:20230416T000157Z
UID:7273-1681639200-1681639200@albinoteixeira.org.br
SUMMARY:Depressão na visão espírita
DESCRIPTION:
URL:https://albinoteixeira.org.br/evento/depressao-na-visao-espirita-6/
LOCATION:Grupo Espírita de Fraternidade Albino Teixeira\, Rua dos Aeroviários\, 240\, Bairro Liberdade\, Belo Horizonte\, MG\, 31270-330\, Brasil
CATEGORIES:Reunião Pública
ATTACH;FMTTYPE=image/jpeg:https://albinoteixeira.org.br/wp-content/uploads/2022/06/sede-scaled-e1656615992280.jpg
END:VEVENT
BEGIN:VEVENT
DTSTART;TZID=America/Sao_Paulo:20230416T190000
DTEND;TZID=America/Sao_Paulo:20230416T190000
DTSTAMP:20260423T174009
CREATED:20230416T000355Z
LAST-MODIFIED:20230416T000520Z
UID:7276-1681671600-1681671600@albinoteixeira.org.br
SUMMARY:Depressão - aspectos clínicos e espirituais
DESCRIPTION:
URL:https://albinoteixeira.org.br/evento/depressao-aspectos-clinicos-e-espirituais/
LOCATION:Plataforma Zoom (Senha: 123)
CATEGORIES:Online,Reunião Pública
ATTACH;FMTTYPE=image/jpeg:https://albinoteixeira.org.br/wp-content/uploads/2022/06/sede-scaled-e1656615992280.jpg
END:VEVENT
BEGIN:VEVENT
DTSTART;TZID=America/Sao_Paulo:20230417T200000
DTEND;TZID=America/Sao_Paulo:20230417T200000
DTSTAMP:20260423T174009
CREATED:20230415T235006Z
LAST-MODIFIED:20230415T235145Z
UID:7258-1681761600-1681761600@albinoteixeira.org.br
SUMMARY:Expiação coletiva
DESCRIPTION:
URL:https://albinoteixeira.org.br/evento/expiacao-coletiva/
LOCATION:Grupo Espírita de Fraternidade Albino Teixeira\, Rua dos Aeroviários\, 240\, Bairro Liberdade\, Belo Horizonte\, MG\, 31270-330\, Brasil
CATEGORIES:Reunião Pública
ATTACH;FMTTYPE=image/jpeg:https://albinoteixeira.org.br/wp-content/uploads/2022/06/sede-scaled-e1656615992280.jpg
END:VEVENT
BEGIN:VEVENT
DTSTART;TZID=America/Sao_Paulo:20230418T200000
DTEND;TZID=America/Sao_Paulo:20230418T200000
DTSTAMP:20260423T174009
CREATED:20230415T235203Z
LAST-MODIFIED:20230415T235324Z
UID:7261-1681848000-1681848000@albinoteixeira.org.br
SUMMARY:A cura da mulher hemorroíssa
DESCRIPTION:
URL:https://albinoteixeira.org.br/evento/a-cura-da-mulher-hemorroissa-6/
LOCATION:Grupo Espírita de Fraternidade Albino Teixeira\, Rua dos Aeroviários\, 240\, Bairro Liberdade\, Belo Horizonte\, MG\, 31270-330\, Brasil
CATEGORIES:Reunião Pública
ATTACH;FMTTYPE=image/jpeg:https://albinoteixeira.org.br/wp-content/uploads/2022/06/sede-scaled-e1656615992280.jpg
END:VEVENT
BEGIN:VEVENT
DTSTART;TZID=America/Sao_Paulo:20230419T150000
DTEND;TZID=America/Sao_Paulo:20230419T150000
DTSTAMP:20260423T174009
CREATED:20230415T235329Z
LAST-MODIFIED:20230415T235441Z
UID:7263-1681916400-1681916400@albinoteixeira.org.br
SUMMARY:Crítica - julgando o próximo
DESCRIPTION:
URL:https://albinoteixeira.org.br/evento/critica-julgando-o-proximo-3/
LOCATION:Grupo Espírita de Fraternidade Albino Teixeira\, Rua dos Aeroviários\, 240\, Bairro Liberdade\, Belo Horizonte\, MG\, 31270-330\, Brasil
CATEGORIES:Reunião Pública
ATTACH;FMTTYPE=image/jpeg:https://albinoteixeira.org.br/wp-content/uploads/2022/06/sede-scaled-e1656615992280.jpg
END:VEVENT
BEGIN:VEVENT
DTSTART;TZID=America/Sao_Paulo:20230419T200000
DTEND;TZID=America/Sao_Paulo:20230419T200000
DTSTAMP:20260423T174009
CREATED:20230415T235456Z
LAST-MODIFIED:20230415T235630Z
UID:7265-1681934400-1681934400@albinoteixeira.org.br
SUMMARY:A inspiração de Pedro
DESCRIPTION:
URL:https://albinoteixeira.org.br/evento/a-inspiracao-de-pedro-7/
LOCATION:Grupo Espírita de Fraternidade Albino Teixeira\, Rua dos Aeroviários\, 240\, Bairro Liberdade\, Belo Horizonte\, MG\, 31270-330\, Brasil
CATEGORIES:Reunião Pública
ATTACH;FMTTYPE=image/jpeg:https://albinoteixeira.org.br/wp-content/uploads/2022/06/sede-scaled-e1656615992280.jpg
END:VEVENT
BEGIN:VEVENT
DTSTART;TZID=America/Sao_Paulo:20230420T200000
DTEND;TZID=America/Sao_Paulo:20230420T200000
DTSTAMP:20260423T174009
CREATED:20230415T235634Z
LAST-MODIFIED:20230415T235751Z
UID:7267-1682020800-1682020800@albinoteixeira.org.br
SUMMARY:Caridade: cura da alma
DESCRIPTION:
URL:https://albinoteixeira.org.br/evento/caridade-cura-da-alma-6/
LOCATION:Grupo Espírita de Fraternidade Albino Teixeira\, Rua dos Aeroviários\, 240\, Bairro Liberdade\, Belo Horizonte\, MG\, 31270-330\, Brasil
CATEGORIES:Reunião Pública
ATTACH;FMTTYPE=image/jpeg:https://albinoteixeira.org.br/wp-content/uploads/2022/06/sede-scaled-e1656615992280.jpg
END:VEVENT
BEGIN:VEVENT
DTSTART;TZID=America/Sao_Paulo:20230421T150000
DTEND;TZID=America/Sao_Paulo:20230421T150000
DTSTAMP:20260423T174009
CREATED:20230415T235757Z
LAST-MODIFIED:20230415T235904Z
UID:7269-1682089200-1682089200@albinoteixeira.org.br
SUMMARY:Na luz da compaixão
DESCRIPTION:
URL:https://albinoteixeira.org.br/evento/na-luz-da-compaixao-2/
LOCATION:Grupo Espírita de Fraternidade Albino Teixeira\, Rua dos Aeroviários\, 240\, Bairro Liberdade\, Belo Horizonte\, MG\, 31270-330\, Brasil
CATEGORIES:Reunião Pública
ATTACH;FMTTYPE=image/jpeg:https://albinoteixeira.org.br/wp-content/uploads/2022/06/sede-scaled-e1656615992280.jpg
END:VEVENT
BEGIN:VEVENT
DTSTART;TZID=America/Sao_Paulo:20230421T200000
DTEND;TZID=America/Sao_Paulo:20230421T200000
DTSTAMP:20260423T174009
CREATED:20230415T235919Z
LAST-MODIFIED:20230416T000030Z
UID:7271-1682107200-1682107200@albinoteixeira.org.br
SUMMARY:A missão de Paulo
DESCRIPTION:
URL:https://albinoteixeira.org.br/evento/a-missao-de-paulo-4/
LOCATION:Grupo Espírita de Fraternidade Albino Teixeira\, Rua dos Aeroviários\, 240\, Bairro Liberdade\, Belo Horizonte\, MG\, 31270-330\, Brasil
CATEGORIES:Reunião Pública
ATTACH;FMTTYPE=image/jpeg:https://albinoteixeira.org.br/wp-content/uploads/2022/06/sede-scaled-e1656615992280.jpg
END:VEVENT
BEGIN:VEVENT
DTSTART;TZID=America/Sao_Paulo:20230422T100000
DTEND;TZID=America/Sao_Paulo:20230422T100000
DTSTAMP:20260423T174009
CREATED:20230424T113756Z
LAST-MODIFIED:20230424T113938Z
UID:7305-1682157600-1682157600@albinoteixeira.org.br
SUMMARY:Vigiai e orai para não entrardes em tentação
DESCRIPTION:
URL:https://albinoteixeira.org.br/evento/vigiai-e-orai-para-nao-entrardes-em-tentacao-4/
LOCATION:Grupo Espírita de Fraternidade Albino Teixeira\, Rua dos Aeroviários\, 240\, Bairro Liberdade\, Belo Horizonte\, MG\, 31270-330\, Brasil
CATEGORIES:Reunião Pública
ATTACH;FMTTYPE=image/jpeg:https://albinoteixeira.org.br/wp-content/uploads/2022/06/sede-scaled-e1656615992280.jpg
END:VEVENT
END:VCALENDAR