BEGIN:VCALENDAR
VERSION:2.0
PRODID:-//Gefrater - ECPv6.15.20//NONSGML v1.0//EN
CALSCALE:GREGORIAN
METHOD:PUBLISH
X-WR-CALNAME:Gefrater
X-ORIGINAL-URL:https://albinoteixeira.org.br
X-WR-CALDESC:Eventos para Gefrater
REFRESH-INTERVAL;VALUE=DURATION:PT1H
X-Robots-Tag:noindex
X-PUBLISHED-TTL:PT1H
BEGIN:VTIMEZONE
TZID:America/Sao_Paulo
BEGIN:STANDARD
TZOFFSETFROM:-0300
TZOFFSETTO:-0300
TZNAME:-03
DTSTART:20220101T000000
END:STANDARD
END:VTIMEZONE
BEGIN:VEVENT
DTSTART;TZID=America/Sao_Paulo:20230424T200000
DTEND;TZID=America/Sao_Paulo:20230424T200000
DTSTAMP:20260423T173949
CREATED:20230424T112117Z
LAST-MODIFIED:20230424T112233Z
UID:7279-1682366400-1682366400@albinoteixeira.org.br
SUMMARY:A verdade vos libertará
DESCRIPTION:
URL:https://albinoteixeira.org.br/evento/a-verdade-vos-libertara-6/
LOCATION:Grupo Espírita de Fraternidade Albino Teixeira\, Rua dos Aeroviários\, 240\, Bairro Liberdade\, Belo Horizonte\, MG\, 31270-330\, Brasil
CATEGORIES:Reunião Pública
ATTACH;FMTTYPE=image/jpeg:https://albinoteixeira.org.br/wp-content/uploads/2022/06/sede-scaled-e1656615992280.jpg
END:VEVENT
BEGIN:VEVENT
DTSTART;TZID=America/Sao_Paulo:20230425T200000
DTEND;TZID=America/Sao_Paulo:20230425T200000
DTSTAMP:20260423T173949
CREATED:20230424T112241Z
LAST-MODIFIED:20230424T112339Z
UID:7281-1682452800-1682452800@albinoteixeira.org.br
SUMMARY:As três revelações
DESCRIPTION:
URL:https://albinoteixeira.org.br/evento/as-tres-revelacoes/
LOCATION:Grupo Espírita de Fraternidade Albino Teixeira\, Rua dos Aeroviários\, 240\, Bairro Liberdade\, Belo Horizonte\, MG\, 31270-330\, Brasil
CATEGORIES:Reunião Pública
ATTACH;FMTTYPE=image/jpeg:https://albinoteixeira.org.br/wp-content/uploads/2022/06/sede-scaled-e1656615992280.jpg
END:VEVENT
BEGIN:VEVENT
DTSTART;TZID=America/Sao_Paulo:20230426T150000
DTEND;TZID=America/Sao_Paulo:20230426T150000
DTSTAMP:20260423T173949
CREATED:20230424T112347Z
LAST-MODIFIED:20230424T112447Z
UID:7283-1682521200-1682521200@albinoteixeira.org.br
SUMMARY:A missão de Jesus
DESCRIPTION:
URL:https://albinoteixeira.org.br/evento/a-missao-de-jesus-7/
LOCATION:Grupo Espírita de Fraternidade Albino Teixeira\, Rua dos Aeroviários\, 240\, Bairro Liberdade\, Belo Horizonte\, MG\, 31270-330\, Brasil
CATEGORIES:Reunião Pública
ATTACH;FMTTYPE=image/jpeg:https://albinoteixeira.org.br/wp-content/uploads/2022/06/sede-scaled-e1656615992280.jpg
END:VEVENT
BEGIN:VEVENT
DTSTART;TZID=America/Sao_Paulo:20230426T200000
DTEND;TZID=America/Sao_Paulo:20230426T200000
DTSTAMP:20260423T173949
CREATED:20230424T112452Z
LAST-MODIFIED:20230424T112541Z
UID:7285-1682539200-1682539200@albinoteixeira.org.br
SUMMARY:As curas de Jesus
DESCRIPTION:
URL:https://albinoteixeira.org.br/evento/as-curas-de-jesus-4/
LOCATION:Grupo Espírita de Fraternidade Albino Teixeira\, Rua dos Aeroviários\, 240\, Bairro Liberdade\, Belo Horizonte\, MG\, 31270-330\, Brasil
CATEGORIES:Reunião Pública
ATTACH;FMTTYPE=image/jpeg:https://albinoteixeira.org.br/wp-content/uploads/2022/06/sede-scaled-e1656615992280.jpg
END:VEVENT
BEGIN:VEVENT
DTSTART;TZID=America/Sao_Paulo:20230427T200000
DTEND;TZID=America/Sao_Paulo:20230427T200000
DTSTAMP:20260423T173949
CREATED:20230424T112546Z
LAST-MODIFIED:20230424T112641Z
UID:7287-1682625600-1682625600@albinoteixeira.org.br
SUMMARY:A purificação do templo
DESCRIPTION:
URL:https://albinoteixeira.org.br/evento/a-purificacao-do-templo-8/
LOCATION:Grupo Espírita de Fraternidade Albino Teixeira\, Rua dos Aeroviários\, 240\, Bairro Liberdade\, Belo Horizonte\, MG\, 31270-330\, Brasil
CATEGORIES:Reunião Pública
ATTACH;FMTTYPE=image/jpeg:https://albinoteixeira.org.br/wp-content/uploads/2022/06/sede-scaled-e1656615992280.jpg
END:VEVENT
BEGIN:VEVENT
DTSTART;TZID=America/Sao_Paulo:20230428T150000
DTEND;TZID=America/Sao_Paulo:20230428T150000
DTSTAMP:20260423T173949
CREATED:20230424T112646Z
LAST-MODIFIED:20230424T112755Z
UID:7289-1682694000-1682694000@albinoteixeira.org.br
SUMMARY:Boas obras
DESCRIPTION:
URL:https://albinoteixeira.org.br/evento/boas-obras-8/
LOCATION:Grupo Espírita de Fraternidade Albino Teixeira\, Rua dos Aeroviários\, 240\, Bairro Liberdade\, Belo Horizonte\, MG\, 31270-330\, Brasil
CATEGORIES:Reunião Pública
ATTACH;FMTTYPE=image/jpeg:https://albinoteixeira.org.br/wp-content/uploads/2022/06/sede-scaled-e1656615992280.jpg
END:VEVENT
BEGIN:VEVENT
DTSTART;TZID=America/Sao_Paulo:20230428T200000
DTEND;TZID=America/Sao_Paulo:20230428T200000
DTSTAMP:20260423T173949
CREATED:20230424T112805Z
LAST-MODIFIED:20230424T112927Z
UID:7291-1682712000-1682712000@albinoteixeira.org.br
SUMMARY:As lições de Jesus e a mulher adúltera
DESCRIPTION:
URL:https://albinoteixeira.org.br/evento/as-licoes-de-jesus-e-a-mulher-adultera-5/
LOCATION:Grupo Espírita de Fraternidade Albino Teixeira\, Rua dos Aeroviários\, 240\, Bairro Liberdade\, Belo Horizonte\, MG\, 31270-330\, Brasil
CATEGORIES:Reunião Pública
ATTACH;FMTTYPE=image/jpeg:https://albinoteixeira.org.br/wp-content/uploads/2022/06/sede-scaled-e1656615992280.jpg
END:VEVENT
BEGIN:VEVENT
DTSTART;TZID=America/Sao_Paulo:20230429T100000
DTEND;TZID=America/Sao_Paulo:20230429T100000
DTSTAMP:20260423T173949
CREATED:20230424T112933Z
LAST-MODIFIED:20230424T113050Z
UID:7293-1682762400-1682762400@albinoteixeira.org.br
SUMMARY:Cura da sogra de Pedro
DESCRIPTION:
URL:https://albinoteixeira.org.br/evento/cura-da-sogra-de-pedro-2/
LOCATION:Grupo Espírita de Fraternidade Albino Teixeira\, Rua dos Aeroviários\, 240\, Bairro Liberdade\, Belo Horizonte\, MG\, 31270-330\, Brasil
CATEGORIES:Reunião Pública
ATTACH;FMTTYPE=image/jpeg:https://albinoteixeira.org.br/wp-content/uploads/2022/06/sede-scaled-e1656615992280.jpg
END:VEVENT
BEGIN:VEVENT
DTSTART;TZID=America/Sao_Paulo:20230429T143000
DTEND;TZID=America/Sao_Paulo:20230429T143000
DTSTAMP:20260423T173949
CREATED:20230424T113055Z
LAST-MODIFIED:20230424T113221Z
UID:7295-1682778600-1682778600@albinoteixeira.org.br
SUMMARY:No exemplo de Jesus
DESCRIPTION:
URL:https://albinoteixeira.org.br/evento/no-exemplo-de-jesus/
LOCATION:Grupo Espírita de Fraternidade Albino Teixeira\, Rua dos Aeroviários\, 240\, Bairro Liberdade\, Belo Horizonte\, MG\, 31270-330\, Brasil
CATEGORIES:Reunião Pública
ATTACH;FMTTYPE=image/jpeg:https://albinoteixeira.org.br/wp-content/uploads/2022/06/sede-scaled-e1656615992280.jpg
END:VEVENT
BEGIN:VEVENT
DTSTART;TZID=America/Sao_Paulo:20230429T183000
DTEND;TZID=America/Sao_Paulo:20230429T183000
DTSTAMP:20260423T173949
CREATED:20230424T113226Z
LAST-MODIFIED:20230424T113331Z
UID:7297-1682793000-1682793000@albinoteixeira.org.br
SUMMARY:A ressurreição de Jesus
DESCRIPTION:
URL:https://albinoteixeira.org.br/evento/a-ressurreicao-de-jesus-2/
LOCATION:Grupo Espírita de Fraternidade Albino Teixeira\, Rua dos Aeroviários\, 240\, Bairro Liberdade\, Belo Horizonte\, MG\, 31270-330\, Brasil
CATEGORIES:Reunião Pública
ATTACH;FMTTYPE=image/jpeg:https://albinoteixeira.org.br/wp-content/uploads/2022/06/sede-scaled-e1656615992280.jpg
END:VEVENT
BEGIN:VEVENT
DTSTART;TZID=America/Sao_Paulo:20230430T100000
DTEND;TZID=America/Sao_Paulo:20230430T100000
DTSTAMP:20260423T173949
CREATED:20230424T113336Z
LAST-MODIFIED:20230424T113434Z
UID:7299-1682848800-1682848800@albinoteixeira.org.br
SUMMARY:Eu sou a luz do mundo
DESCRIPTION:
URL:https://albinoteixeira.org.br/evento/eu-sou-a-luz-do-mundo-8/
LOCATION:Grupo Espírita de Fraternidade Albino Teixeira\, Rua dos Aeroviários\, 240\, Bairro Liberdade\, Belo Horizonte\, MG\, 31270-330\, Brasil
CATEGORIES:Reunião Pública
ATTACH;FMTTYPE=image/jpeg:https://albinoteixeira.org.br/wp-content/uploads/2022/06/sede-scaled-e1656615992280.jpg
END:VEVENT
BEGIN:VEVENT
DTSTART;TZID=America/Sao_Paulo:20230430T190000
DTEND;TZID=America/Sao_Paulo:20230430T190000
DTSTAMP:20260423T173949
CREATED:20230424T113650Z
LAST-MODIFIED:20230424T113747Z
UID:7303-1682881200-1682881200@albinoteixeira.org.br
SUMMARY:Jesus acalma a tempestade
DESCRIPTION:
URL:https://albinoteixeira.org.br/evento/jesus-acalma-a-tempestade-4/
LOCATION:Plataforma Zoom (Senha: 123)
CATEGORIES:Online,Reunião Pública
ATTACH;FMTTYPE=image/jpeg:https://albinoteixeira.org.br/wp-content/uploads/2022/06/sede-scaled-e1656615992280.jpg
END:VEVENT
BEGIN:VEVENT
DTSTART;TZID=America/Sao_Paulo:20230501T200000
DTEND;TZID=America/Sao_Paulo:20230501T200000
DTSTAMP:20260423T173949
CREATED:20230430T115105Z
LAST-MODIFIED:20230430T115225Z
UID:7314-1682971200-1682971200@albinoteixeira.org.br
SUMMARY:Não se turbe o vosso coração
DESCRIPTION:
URL:https://albinoteixeira.org.br/evento/nao-se-turbe-o-vosso-coracao-3/
LOCATION:Grupo Espírita de Fraternidade Albino Teixeira\, Rua dos Aeroviários\, 240\, Bairro Liberdade\, Belo Horizonte\, MG\, 31270-330\, Brasil
CATEGORIES:Reunião Pública
ATTACH;FMTTYPE=image/jpeg:https://albinoteixeira.org.br/wp-content/uploads/2022/06/sede-scaled-e1656615992280.jpg
END:VEVENT
BEGIN:VEVENT
DTSTART;TZID=America/Sao_Paulo:20230502T200000
DTEND;TZID=America/Sao_Paulo:20230502T200000
DTSTAMP:20260423T173949
CREATED:20230430T115236Z
LAST-MODIFIED:20230430T115343Z
UID:7316-1683057600-1683057600@albinoteixeira.org.br
SUMMARY:Princípios Básicos: causa e efeito
DESCRIPTION:
URL:https://albinoteixeira.org.br/evento/principios-basicos-causa-e-efeito-5/
LOCATION:Grupo Espírita de Fraternidade Albino Teixeira\, Rua dos Aeroviários\, 240\, Bairro Liberdade\, Belo Horizonte\, MG\, 31270-330\, Brasil
CATEGORIES:Reunião Pública
ATTACH;FMTTYPE=image/jpeg:https://albinoteixeira.org.br/wp-content/uploads/2022/06/sede-scaled-e1656615992280.jpg
END:VEVENT
BEGIN:VEVENT
DTSTART;TZID=America/Sao_Paulo:20230503T150000
DTEND;TZID=America/Sao_Paulo:20230503T150000
DTSTAMP:20260423T173949
CREATED:20230430T115359Z
LAST-MODIFIED:20230430T115514Z
UID:7318-1683126000-1683126000@albinoteixeira.org.br
SUMMARY:Amai vossos inimigos
DESCRIPTION:
URL:https://albinoteixeira.org.br/evento/amai-vossos-inimigos-2/
LOCATION:Grupo Espírita de Fraternidade Albino Teixeira\, Rua dos Aeroviários\, 240\, Bairro Liberdade\, Belo Horizonte\, MG\, 31270-330\, Brasil
CATEGORIES:Reunião Pública
ATTACH;FMTTYPE=image/jpeg:https://albinoteixeira.org.br/wp-content/uploads/2022/06/sede-scaled-e1656615992280.jpg
END:VEVENT
BEGIN:VEVENT
DTSTART;TZID=America/Sao_Paulo:20230503T200000
DTEND;TZID=America/Sao_Paulo:20230503T200000
DTSTAMP:20260423T173949
CREATED:20230430T115529Z
LAST-MODIFIED:20230430T115639Z
UID:7320-1683144000-1683144000@albinoteixeira.org.br
SUMMARY:Advento do Espírito de Verdade
DESCRIPTION:
URL:https://albinoteixeira.org.br/evento/advento-do-espirito-de-verdade-2/
LOCATION:Grupo Espírita de Fraternidade Albino Teixeira\, Rua dos Aeroviários\, 240\, Bairro Liberdade\, Belo Horizonte\, MG\, 31270-330\, Brasil
CATEGORIES:Reunião Pública
ATTACH;FMTTYPE=image/jpeg:https://albinoteixeira.org.br/wp-content/uploads/2022/06/sede-scaled-e1656615992280.jpg
END:VEVENT
BEGIN:VEVENT
DTSTART;TZID=America/Sao_Paulo:20230504T200000
DTEND;TZID=America/Sao_Paulo:20230504T200000
DTSTAMP:20260423T173949
CREATED:20230430T115700Z
LAST-MODIFIED:20230430T115834Z
UID:7322-1683230400-1683230400@albinoteixeira.org.br
SUMMARY:Vivei em paz uns com os outros
DESCRIPTION:
URL:https://albinoteixeira.org.br/evento/vivei-em-paz-uns-com-os-outros-4/
LOCATION:Grupo Espírita de Fraternidade Albino Teixeira\, Rua dos Aeroviários\, 240\, Bairro Liberdade\, Belo Horizonte\, MG\, 31270-330\, Brasil
CATEGORIES:Reunião Pública
ATTACH;FMTTYPE=image/jpeg:https://albinoteixeira.org.br/wp-content/uploads/2022/06/sede-scaled-e1656615992280.jpg
END:VEVENT
BEGIN:VEVENT
DTSTART;TZID=America/Sao_Paulo:20230505T150000
DTEND;TZID=America/Sao_Paulo:20230505T150000
DTSTAMP:20260423T173949
CREATED:20230430T115842Z
LAST-MODIFIED:20230430T120122Z
UID:7324-1683298800-1683298800@albinoteixeira.org.br
SUMMARY:Atire a primeira pedra aquele que estiver sem pecado
DESCRIPTION:
URL:https://albinoteixeira.org.br/evento/atire-a-primeira-pedra-aquele-que-estiver-sem-pecado-4/
LOCATION:Grupo Espírita de Fraternidade Albino Teixeira\, Rua dos Aeroviários\, 240\, Bairro Liberdade\, Belo Horizonte\, MG\, 31270-330\, Brasil
CATEGORIES:Reunião Pública
ATTACH;FMTTYPE=image/jpeg:https://albinoteixeira.org.br/wp-content/uploads/2022/06/sede-scaled-e1656615992280.jpg
END:VEVENT
BEGIN:VEVENT
DTSTART;TZID=America/Sao_Paulo:20230505T200000
DTEND;TZID=America/Sao_Paulo:20230505T200000
DTSTAMP:20260423T173949
CREATED:20230430T120138Z
LAST-MODIFIED:20230430T120313Z
UID:7326-1683316800-1683316800@albinoteixeira.org.br
SUMMARY:Parábola do juiz iníquo
DESCRIPTION:
URL:https://albinoteixeira.org.br/evento/parabola-do-juiz-iniquo-3/
LOCATION:Grupo Espírita de Fraternidade Albino Teixeira\, Rua dos Aeroviários\, 240\, Bairro Liberdade\, Belo Horizonte\, MG\, 31270-330\, Brasil
CATEGORIES:Reunião Pública
ATTACH;FMTTYPE=image/jpeg:https://albinoteixeira.org.br/wp-content/uploads/2022/06/sede-scaled-e1656615992280.jpg
END:VEVENT
BEGIN:VEVENT
DTSTART;TZID=America/Sao_Paulo:20230506T100000
DTEND;TZID=America/Sao_Paulo:20230506T100000
DTSTAMP:20260423T173949
CREATED:20230505T004229Z
LAST-MODIFIED:20230505T004358Z
UID:7329-1683367200-1683367200@albinoteixeira.org.br
SUMMARY:Expiações coletivas
DESCRIPTION:
URL:https://albinoteixeira.org.br/evento/expiacoes-coletivas-7/
LOCATION:Grupo Espírita de Fraternidade Albino Teixeira\, Rua dos Aeroviários\, 240\, Bairro Liberdade\, Belo Horizonte\, MG\, 31270-330\, Brasil
CATEGORIES:Reunião Pública
ATTACH;FMTTYPE=image/jpeg:https://albinoteixeira.org.br/wp-content/uploads/2022/06/sede-scaled-e1656615992280.jpg
END:VEVENT
BEGIN:VEVENT
DTSTART;TZID=America/Sao_Paulo:20230506T143000
DTEND;TZID=America/Sao_Paulo:20230506T143000
DTSTAMP:20260423T173949
CREATED:20230505T004433Z
LAST-MODIFIED:20230505T010018Z
UID:7331-1683383400-1683383400@albinoteixeira.org.br
SUMMARY:Parábola do filho pródigo
DESCRIPTION:
URL:https://albinoteixeira.org.br/evento/parabola-do-filho-prodigo-9/
LOCATION:Grupo Espírita de Fraternidade Albino Teixeira\, Rua dos Aeroviários\, 240\, Bairro Liberdade\, Belo Horizonte\, MG\, 31270-330\, Brasil
CATEGORIES:Reunião Pública
ATTACH;FMTTYPE=image/jpeg:https://albinoteixeira.org.br/wp-content/uploads/2022/06/sede-scaled-e1656615992280.jpg
END:VEVENT
BEGIN:VEVENT
DTSTART;TZID=America/Sao_Paulo:20230506T183000
DTEND;TZID=America/Sao_Paulo:20230506T183000
DTSTAMP:20260423T173949
CREATED:20230505T004612Z
LAST-MODIFIED:20230505T004710Z
UID:7333-1683397800-1683397800@albinoteixeira.org.br
SUMMARY:Ansiedade na visão espírita
DESCRIPTION:
URL:https://albinoteixeira.org.br/evento/ansiedade-na-visao-espirita/
LOCATION:Grupo Espírita de Fraternidade Albino Teixeira\, Rua dos Aeroviários\, 240\, Bairro Liberdade\, Belo Horizonte\, MG\, 31270-330\, Brasil
CATEGORIES:Reunião Pública
ATTACH;FMTTYPE=image/jpeg:https://albinoteixeira.org.br/wp-content/uploads/2022/06/sede-scaled-e1656615992280.jpg
END:VEVENT
BEGIN:VEVENT
DTSTART;TZID=America/Sao_Paulo:20230507T100000
DTEND;TZID=America/Sao_Paulo:20230507T100000
DTSTAMP:20260423T173949
CREATED:20230505T004722Z
LAST-MODIFIED:20230505T004829Z
UID:7335-1683453600-1683453600@albinoteixeira.org.br
SUMMARY:Viver em paz uns com os outros
DESCRIPTION:
URL:https://albinoteixeira.org.br/evento/viver-em-paz-uns-com-os-outros/
LOCATION:Grupo Espírita de Fraternidade Albino Teixeira\, Rua dos Aeroviários\, 240\, Bairro Liberdade\, Belo Horizonte\, MG\, 31270-330\, Brasil
CATEGORIES:Reunião Pública
ATTACH;FMTTYPE=image/jpeg:https://albinoteixeira.org.br/wp-content/uploads/2022/06/sede-scaled-e1656615992280.jpg
END:VEVENT
BEGIN:VEVENT
DTSTART;TZID=America/Sao_Paulo:20230507T190000
DTEND;TZID=America/Sao_Paulo:20230507T190000
DTSTAMP:20260423T173949
CREATED:20230505T005437Z
LAST-MODIFIED:20230505T005616Z
UID:7341-1683486000-1683486000@albinoteixeira.org.br
SUMMARY:O jugo leve e o consolador prometido
DESCRIPTION:
URL:https://albinoteixeira.org.br/evento/o-jugo-leve-e-o-consolador-prometido-3/
LOCATION:Plataforma Zoom (Senha: 123)
CATEGORIES:Online,Reunião Pública
ATTACH;FMTTYPE=image/jpeg:https://albinoteixeira.org.br/wp-content/uploads/2022/06/sede-scaled-e1656615992280.jpg
END:VEVENT
BEGIN:VEVENT
DTSTART;TZID=America/Sao_Paulo:20230508T200000
DTEND;TZID=America/Sao_Paulo:20230508T200000
DTSTAMP:20260423T173949
CREATED:20230505T004918Z
LAST-MODIFIED:20230505T005045Z
UID:7337-1683576000-1683576000@albinoteixeira.org.br
SUMMARY:Família\, oportunidade divina
DESCRIPTION:
URL:https://albinoteixeira.org.br/evento/familia-oportunidade-divina-3/
LOCATION:Grupo Espírita de Fraternidade Albino Teixeira\, Rua dos Aeroviários\, 240\, Bairro Liberdade\, Belo Horizonte\, MG\, 31270-330\, Brasil
CATEGORIES:Reunião Pública
ATTACH;FMTTYPE=image/jpeg:https://albinoteixeira.org.br/wp-content/uploads/2022/06/sede-scaled-e1656615992280.jpg
END:VEVENT
BEGIN:VEVENT
DTSTART;TZID=America/Sao_Paulo:20230509T200000
DTEND;TZID=America/Sao_Paulo:20230509T200000
DTSTAMP:20260423T173949
CREATED:20230505T005059Z
LAST-MODIFIED:20230508T113235Z
UID:7339-1683662400-1683662400@albinoteixeira.org.br
SUMMARY:A família na visão espírita
DESCRIPTION:
URL:https://albinoteixeira.org.br/evento/a-familia-na-visao-espirita-3/
LOCATION:Grupo Espírita de Fraternidade Albino Teixeira\, Rua dos Aeroviários\, 240\, Bairro Liberdade\, Belo Horizonte\, MG\, 31270-330\, Brasil
CATEGORIES:Reunião Pública
ATTACH;FMTTYPE=image/jpeg:https://albinoteixeira.org.br/wp-content/uploads/2022/06/sede-scaled-e1656615992280.jpg
END:VEVENT
BEGIN:VEVENT
DTSTART;TZID=America/Sao_Paulo:20230510T150000
DTEND;TZID=America/Sao_Paulo:20230510T150000
DTSTAMP:20260423T173949
CREATED:20230506T103826Z
LAST-MODIFIED:20230506T103945Z
UID:7346-1683730800-1683730800@albinoteixeira.org.br
SUMMARY:A importância da evangelização para o ser
DESCRIPTION:
URL:https://albinoteixeira.org.br/evento/a-importancia-da-evangelizacao-para-o-ser-3/
LOCATION:Grupo Espírita de Fraternidade Albino Teixeira\, Rua dos Aeroviários\, 240\, Bairro Liberdade\, Belo Horizonte\, MG\, 31270-330\, Brasil
CATEGORIES:Reunião Pública
ATTACH;FMTTYPE=image/jpeg:https://albinoteixeira.org.br/wp-content/uploads/2022/06/sede-scaled-e1656615992280.jpg
END:VEVENT
BEGIN:VEVENT
DTSTART;TZID=America/Sao_Paulo:20230510T200000
DTEND;TZID=America/Sao_Paulo:20230510T200000
DTSTAMP:20260423T173949
CREATED:20230506T104006Z
LAST-MODIFIED:20230506T104138Z
UID:7348-1683748800-1683748800@albinoteixeira.org.br
SUMMARY:A importância da infância para o desenvolvimento e evolução do ser
DESCRIPTION:
URL:https://albinoteixeira.org.br/evento/a-importancia-da-infancia-para-o-desenvolvimento-e-evolucao-do-ser/
LOCATION:Grupo Espírita de Fraternidade Albino Teixeira\, Rua dos Aeroviários\, 240\, Bairro Liberdade\, Belo Horizonte\, MG\, 31270-330\, Brasil
CATEGORIES:Reunião Pública
ATTACH;FMTTYPE=image/jpeg:https://albinoteixeira.org.br/wp-content/uploads/2022/06/sede-scaled-e1656615992280.jpg
END:VEVENT
BEGIN:VEVENT
DTSTART;TZID=America/Sao_Paulo:20230511T200000
DTEND;TZID=America/Sao_Paulo:20230511T200000
DTSTAMP:20260423T173949
CREATED:20230506T104155Z
LAST-MODIFIED:20230506T104306Z
UID:7351-1683835200-1683835200@albinoteixeira.org.br
SUMMARY:A ingratidão dos filhos e os laços de família
DESCRIPTION:
URL:https://albinoteixeira.org.br/evento/a-ingratidao-dos-filhos-e-os-lacos-de-familia/
LOCATION:Grupo Espírita de Fraternidade Albino Teixeira\, Rua dos Aeroviários\, 240\, Bairro Liberdade\, Belo Horizonte\, MG\, 31270-330\, Brasil
CATEGORIES:Reunião Pública
ATTACH;FMTTYPE=image/jpeg:https://albinoteixeira.org.br/wp-content/uploads/2022/06/sede-scaled-e1656615992280.jpg
END:VEVENT
BEGIN:VEVENT
DTSTART;TZID=America/Sao_Paulo:20230512T150000
DTEND;TZID=America/Sao_Paulo:20230512T150000
DTSTAMP:20260423T173949
CREATED:20230508T113356Z
LAST-MODIFIED:20230508T113510Z
UID:7355-1683903600-1683903600@albinoteixeira.org.br
SUMMARY:Família\, escola do amor
DESCRIPTION:
URL:https://albinoteixeira.org.br/evento/familia-escola-do-amor-7/
LOCATION:Grupo Espírita de Fraternidade Albino Teixeira\, Rua dos Aeroviários\, 240\, Bairro Liberdade\, Belo Horizonte\, MG\, 31270-330\, Brasil
CATEGORIES:Reunião Pública
ATTACH;FMTTYPE=image/jpeg:https://albinoteixeira.org.br/wp-content/uploads/2022/06/sede-scaled-e1656615992280.jpg
END:VEVENT
END:VCALENDAR