BEGIN:VCALENDAR
VERSION:2.0
PRODID:-//Gefrater - ECPv6.15.20//NONSGML v1.0//EN
CALSCALE:GREGORIAN
METHOD:PUBLISH
X-WR-CALNAME:Gefrater
X-ORIGINAL-URL:https://albinoteixeira.org.br
X-WR-CALDESC:Eventos para Gefrater
REFRESH-INTERVAL;VALUE=DURATION:PT1H
X-Robots-Tag:noindex
X-PUBLISHED-TTL:PT1H
BEGIN:VTIMEZONE
TZID:America/Sao_Paulo
BEGIN:STANDARD
TZOFFSETFROM:-0300
TZOFFSETTO:-0300
TZNAME:-03
DTSTART:20220101T000000
END:STANDARD
END:VTIMEZONE
BEGIN:VEVENT
DTSTART;TZID=America/Sao_Paulo:20230803T200000
DTEND;TZID=America/Sao_Paulo:20230803T200000
DTSTAMP:20260423T200720
CREATED:20230801T214137Z
LAST-MODIFIED:20230801T214137Z
UID:7668-1691092800-1691092800@albinoteixeira.org.br
SUMMARY:Antes servir que ser servido
DESCRIPTION:
URL:https://albinoteixeira.org.br/evento/antes-servir-que-ser-servido/
LOCATION:Grupo Espírita de Fraternidade Albino Teixeira\, Rua dos Aeroviários\, 240\, Bairro Liberdade\, Belo Horizonte\, MG\, 31270-330\, Brasil
CATEGORIES:Reunião Pública
ATTACH;FMTTYPE=image/jpeg:https://albinoteixeira.org.br/wp-content/uploads/2022/06/sede-scaled-e1656615992280.jpg
END:VEVENT
BEGIN:VEVENT
DTSTART;TZID=America/Sao_Paulo:20230804T150000
DTEND;TZID=America/Sao_Paulo:20230804T150000
DTSTAMP:20260423T200720
CREATED:20230801T214325Z
LAST-MODIFIED:20230801T214326Z
UID:7670-1691161200-1691161200@albinoteixeira.org.br
SUMMARY:A cura da mulher hemorroíssa
DESCRIPTION:
URL:https://albinoteixeira.org.br/evento/a-cura-da-mulher-hemorroissa-7/
LOCATION:Grupo Espírita de Fraternidade Albino Teixeira\, Rua dos Aeroviários\, 240\, Bairro Liberdade\, Belo Horizonte\, MG\, 31270-330\, Brasil
CATEGORIES:Reunião Pública
ATTACH;FMTTYPE=image/jpeg:https://albinoteixeira.org.br/wp-content/uploads/2022/06/sede-scaled-e1656615992280.jpg
END:VEVENT
BEGIN:VEVENT
DTSTART;TZID=America/Sao_Paulo:20230804T200000
DTEND;TZID=America/Sao_Paulo:20230804T200000
DTSTAMP:20260423T200720
CREATED:20230801T214431Z
LAST-MODIFIED:20230801T214431Z
UID:7673-1691179200-1691179200@albinoteixeira.org.br
SUMMARY:Amar o próximo como a si mesmo
DESCRIPTION:
URL:https://albinoteixeira.org.br/evento/amar-o-proximo-como-a-si-mesmo-3/
LOCATION:Grupo Espírita de Fraternidade Albino Teixeira\, Rua dos Aeroviários\, 240\, Bairro Liberdade\, Belo Horizonte\, MG\, 31270-330\, Brasil
CATEGORIES:Reunião Pública
ATTACH;FMTTYPE=image/jpeg:https://albinoteixeira.org.br/wp-content/uploads/2022/06/sede-scaled-e1656615992280.jpg
END:VEVENT
BEGIN:VEVENT
DTSTART;TZID=America/Sao_Paulo:20230805T100000
DTEND;TZID=America/Sao_Paulo:20230805T100000
DTSTAMP:20260423T200720
CREATED:20230801T214534Z
LAST-MODIFIED:20230801T214534Z
UID:7675-1691229600-1691229600@albinoteixeira.org.br
SUMMARY:Fragilidade emocional
DESCRIPTION:
URL:https://albinoteixeira.org.br/evento/fragilidade-emocional-5/
LOCATION:Grupo Espírita de Fraternidade Albino Teixeira\, Rua dos Aeroviários\, 240\, Bairro Liberdade\, Belo Horizonte\, MG\, 31270-330\, Brasil
CATEGORIES:Reunião Pública
ATTACH;FMTTYPE=image/jpeg:https://albinoteixeira.org.br/wp-content/uploads/2022/06/sede-scaled-e1656615992280.jpg
END:VEVENT
BEGIN:VEVENT
DTSTART;TZID=America/Sao_Paulo:20230805T143000
DTEND;TZID=America/Sao_Paulo:20230805T143000
DTSTAMP:20260423T200720
CREATED:20230801T214700Z
LAST-MODIFIED:20230801T214700Z
UID:7677-1691245800-1691245800@albinoteixeira.org.br
SUMMARY:Ei sou a luz do mundo
DESCRIPTION:
URL:https://albinoteixeira.org.br/evento/ei-sou-a-luz-do-mundo/
LOCATION:Grupo Espírita de Fraternidade Albino Teixeira\, Rua dos Aeroviários\, 240\, Bairro Liberdade\, Belo Horizonte\, MG\, 31270-330\, Brasil
CATEGORIES:Reunião Pública
ATTACH;FMTTYPE=image/jpeg:https://albinoteixeira.org.br/wp-content/uploads/2022/06/sede-scaled-e1656615992280.jpg
END:VEVENT
BEGIN:VEVENT
DTSTART;TZID=America/Sao_Paulo:20230805T183000
DTEND;TZID=America/Sao_Paulo:20230805T183000
DTSTAMP:20260423T200720
CREATED:20230801T214800Z
LAST-MODIFIED:20230801T214800Z
UID:7679-1691260200-1691260200@albinoteixeira.org.br
SUMMARY:A cura de um paralítico
DESCRIPTION:
URL:https://albinoteixeira.org.br/evento/a-cura-de-um-paralitico-8/
LOCATION:Grupo Espírita de Fraternidade Albino Teixeira\, Rua dos Aeroviários\, 240\, Bairro Liberdade\, Belo Horizonte\, MG\, 31270-330\, Brasil
CATEGORIES:Reunião Pública
ATTACH;FMTTYPE=image/jpeg:https://albinoteixeira.org.br/wp-content/uploads/2022/06/sede-scaled-e1656615992280.jpg
END:VEVENT
BEGIN:VEVENT
DTSTART;TZID=America/Sao_Paulo:20230806T100000
DTEND;TZID=America/Sao_Paulo:20230806T100000
DTSTAMP:20260423T200720
CREATED:20230801T214922Z
LAST-MODIFIED:20230801T214923Z
UID:7681-1691316000-1691316000@albinoteixeira.org.br
SUMMARY:Alegria em servir
DESCRIPTION:
URL:https://albinoteixeira.org.br/evento/alegria-em-servir-2/
LOCATION:Grupo Espírita de Fraternidade Albino Teixeira\, Rua dos Aeroviários\, 240\, Bairro Liberdade\, Belo Horizonte\, MG\, 31270-330\, Brasil
CATEGORIES:Reunião Pública
ATTACH;FMTTYPE=image/jpeg:https://albinoteixeira.org.br/wp-content/uploads/2022/06/sede-scaled-e1656615992280.jpg
END:VEVENT
BEGIN:VEVENT
DTSTART;TZID=America/Sao_Paulo:20230806T190000
DTEND;TZID=America/Sao_Paulo:20230806T190000
DTSTAMP:20260423T200720
CREATED:20230801T215605Z
LAST-MODIFIED:20230801T215605Z
UID:7687-1691348400-1691348400@albinoteixeira.org.br
SUMMARY:A pesca maravilhosa
DESCRIPTION:
URL:https://albinoteixeira.org.br/evento/a-pesca-maravilhosa-6/
LOCATION:Plataforma Zoom (Senha: 123)
CATEGORIES:Online,Reunião Pública
ATTACH;FMTTYPE=image/jpeg:https://albinoteixeira.org.br/wp-content/uploads/2022/06/sede-scaled-e1656615992280.jpg
END:VEVENT
BEGIN:VEVENT
DTSTART;TZID=America/Sao_Paulo:20230807T200000
DTEND;TZID=America/Sao_Paulo:20230807T200000
DTSTAMP:20260423T200720
CREATED:20230801T215049Z
LAST-MODIFIED:20230801T215049Z
UID:7683-1691438400-1691438400@albinoteixeira.org.br
SUMMARY:Espiritismo e ecologia
DESCRIPTION:
URL:https://albinoteixeira.org.br/evento/espiritismo-e-ecologia-2/
LOCATION:Grupo Espírita de Fraternidade Albino Teixeira\, Rua dos Aeroviários\, 240\, Bairro Liberdade\, Belo Horizonte\, MG\, 31270-330\, Brasil
CATEGORIES:Reunião Pública
ATTACH;FMTTYPE=image/jpeg:https://albinoteixeira.org.br/wp-content/uploads/2022/06/sede-scaled-e1656615992280.jpg
END:VEVENT
BEGIN:VEVENT
DTSTART;TZID=America/Sao_Paulo:20230808T200000
DTEND;TZID=America/Sao_Paulo:20230808T200000
DTSTAMP:20260423T200720
CREATED:20230801T215208Z
LAST-MODIFIED:20230801T215208Z
UID:7685-1691524800-1691524800@albinoteixeira.org.br
SUMMARY:A Deus tudo é possível
DESCRIPTION:
URL:https://albinoteixeira.org.br/evento/a-deus-tudo-e-possivel-4/
LOCATION:Grupo Espírita de Fraternidade Albino Teixeira\, Rua dos Aeroviários\, 240\, Bairro Liberdade\, Belo Horizonte\, MG\, 31270-330\, Brasil
CATEGORIES:Reunião Pública
ATTACH;FMTTYPE=image/jpeg:https://albinoteixeira.org.br/wp-content/uploads/2022/06/sede-scaled-e1656615992280.jpg
END:VEVENT
BEGIN:VEVENT
DTSTART;TZID=America/Sao_Paulo:20230809T150000
DTEND;TZID=America/Sao_Paulo:20230809T150000
DTSTAMP:20260423T200720
CREATED:20230808T234834Z
LAST-MODIFIED:20230808T234835Z
UID:7692-1691593200-1691593200@albinoteixeira.org.br
SUMMARY:Eu sou a luz do mundo
DESCRIPTION:
URL:https://albinoteixeira.org.br/evento/eu-sou-a-luz-do-mundo-9/
LOCATION:Grupo Espírita de Fraternidade Albino Teixeira\, Rua dos Aeroviários\, 240\, Bairro Liberdade\, Belo Horizonte\, MG\, 31270-330\, Brasil
CATEGORIES:Reunião Pública
ATTACH;FMTTYPE=image/jpeg:https://albinoteixeira.org.br/wp-content/uploads/2022/06/sede-scaled-e1656615992280.jpg
END:VEVENT
BEGIN:VEVENT
DTSTART;TZID=America/Sao_Paulo:20230809T200000
DTEND;TZID=America/Sao_Paulo:20230809T200000
DTSTAMP:20260423T200720
CREATED:20230808T234930Z
LAST-MODIFIED:20230808T234930Z
UID:7694-1691611200-1691611200@albinoteixeira.org.br
SUMMARY:Ressentimento doentio
DESCRIPTION:
URL:https://albinoteixeira.org.br/evento/ressentimento-doentio-4/
LOCATION:Grupo Espírita de Fraternidade Albino Teixeira\, Rua dos Aeroviários\, 240\, Bairro Liberdade\, Belo Horizonte\, MG\, 31270-330\, Brasil
CATEGORIES:Reunião Pública
ATTACH;FMTTYPE=image/jpeg:https://albinoteixeira.org.br/wp-content/uploads/2022/06/sede-scaled-e1656615992280.jpg
END:VEVENT
BEGIN:VEVENT
DTSTART;TZID=America/Sao_Paulo:20230810T200000
DTEND;TZID=America/Sao_Paulo:20230810T200000
DTSTAMP:20260423T200720
CREATED:20230808T235045Z
LAST-MODIFIED:20230808T235046Z
UID:7696-1691697600-1691697600@albinoteixeira.org.br
SUMMARY:Viver com simplicidade
DESCRIPTION:
URL:https://albinoteixeira.org.br/evento/viver-com-simplicidade-6/
LOCATION:Grupo Espírita de Fraternidade Albino Teixeira\, Rua dos Aeroviários\, 240\, Bairro Liberdade\, Belo Horizonte\, MG\, 31270-330\, Brasil
CATEGORIES:Reunião Pública
ATTACH;FMTTYPE=image/jpeg:https://albinoteixeira.org.br/wp-content/uploads/2022/06/sede-scaled-e1656615992280.jpg
END:VEVENT
BEGIN:VEVENT
DTSTART;TZID=America/Sao_Paulo:20230811T150000
DTEND;TZID=America/Sao_Paulo:20230811T150000
DTSTAMP:20260423T200720
CREATED:20230808T235210Z
LAST-MODIFIED:20230808T235210Z
UID:7698-1691766000-1691766000@albinoteixeira.org.br
SUMMARY:Caridade: cura da alma
DESCRIPTION:
URL:https://albinoteixeira.org.br/evento/caridade-cura-da-alma-7/
LOCATION:Grupo Espírita de Fraternidade Albino Teixeira\, Rua dos Aeroviários\, 240\, Bairro Liberdade\, Belo Horizonte\, MG\, 31270-330\, Brasil
CATEGORIES:Reunião Pública
ATTACH;FMTTYPE=image/jpeg:https://albinoteixeira.org.br/wp-content/uploads/2022/06/sede-scaled-e1656615992280.jpg
END:VEVENT
BEGIN:VEVENT
DTSTART;TZID=America/Sao_Paulo:20230811T200000
DTEND;TZID=America/Sao_Paulo:20230811T200000
DTSTAMP:20260423T200720
CREATED:20230808T235323Z
LAST-MODIFIED:20230808T235323Z
UID:7700-1691784000-1691784000@albinoteixeira.org.br
SUMMARY:Princípios básicos: Deus
DESCRIPTION:
URL:https://albinoteixeira.org.br/evento/principios-basicos-deus-7/
LOCATION:Grupo Espírita de Fraternidade Albino Teixeira\, Rua dos Aeroviários\, 240\, Bairro Liberdade\, Belo Horizonte\, MG\, 31270-330\, Brasil
CATEGORIES:Reunião Pública
ATTACH;FMTTYPE=image/jpeg:https://albinoteixeira.org.br/wp-content/uploads/2022/06/sede-scaled-e1656615992280.jpg
END:VEVENT
BEGIN:VEVENT
DTSTART;TZID=America/Sao_Paulo:20230812T100000
DTEND;TZID=America/Sao_Paulo:20230812T100000
DTSTAMP:20260423T200720
CREATED:20230808T235531Z
LAST-MODIFIED:20230808T235531Z
UID:7702-1691834400-1691834400@albinoteixeira.org.br
SUMMARY:Vivência da felicidade
DESCRIPTION:
URL:https://albinoteixeira.org.br/evento/vivencia-da-felicidade-3/
LOCATION:Grupo Espírita de Fraternidade Albino Teixeira\, Rua dos Aeroviários\, 240\, Bairro Liberdade\, Belo Horizonte\, MG\, 31270-330\, Brasil
CATEGORIES:Reunião Pública
ATTACH;FMTTYPE=image/jpeg:https://albinoteixeira.org.br/wp-content/uploads/2022/06/sede-scaled-e1656615992280.jpg
END:VEVENT
BEGIN:VEVENT
DTSTART;TZID=America/Sao_Paulo:20230812T143000
DTEND;TZID=America/Sao_Paulo:20230812T143000
DTSTAMP:20260423T200720
CREATED:20230809T000041Z
LAST-MODIFIED:20230809T000042Z
UID:7704-1691850600-1691850600@albinoteixeira.org.br
SUMMARY:Crítica: julgado o próximo
DESCRIPTION:
URL:https://albinoteixeira.org.br/evento/critica-julgado-o-proximo/
LOCATION:Grupo Espírita de Fraternidade Albino Teixeira\, Rua dos Aeroviários\, 240\, Bairro Liberdade\, Belo Horizonte\, MG\, 31270-330\, Brasil
CATEGORIES:Reunião Pública
ATTACH;FMTTYPE=image/jpeg:https://albinoteixeira.org.br/wp-content/uploads/2022/06/sede-scaled-e1656615992280.jpg
END:VEVENT
BEGIN:VEVENT
DTSTART;TZID=America/Sao_Paulo:20230812T183000
DTEND;TZID=America/Sao_Paulo:20230812T183000
DTSTAMP:20260423T200720
CREATED:20230809T000156Z
LAST-MODIFIED:20230809T000157Z
UID:7706-1691865000-1691865000@albinoteixeira.org.br
SUMMARY:A paternidade como missão
DESCRIPTION:
URL:https://albinoteixeira.org.br/evento/a-paternidade-como-missao-2/
LOCATION:Grupo Espírita de Fraternidade Albino Teixeira\, Rua dos Aeroviários\, 240\, Bairro Liberdade\, Belo Horizonte\, MG\, 31270-330\, Brasil
CATEGORIES:Reunião Pública
ATTACH;FMTTYPE=image/jpeg:https://albinoteixeira.org.br/wp-content/uploads/2022/06/sede-scaled-e1656615992280.jpg
END:VEVENT
BEGIN:VEVENT
DTSTART;TZID=America/Sao_Paulo:20230813T100000
DTEND;TZID=America/Sao_Paulo:20230813T100000
DTSTAMP:20260423T200720
CREATED:20230809T000306Z
LAST-MODIFIED:20230809T000306Z
UID:7708-1691920800-1691920800@albinoteixeira.org.br
SUMMARY:O espelho da vida
DESCRIPTION:
URL:https://albinoteixeira.org.br/evento/o-espelho-da-vida/
LOCATION:Grupo Espírita de Fraternidade Albino Teixeira\, Rua dos Aeroviários\, 240\, Bairro Liberdade\, Belo Horizonte\, MG\, 31270-330\, Brasil
CATEGORIES:Reunião Pública
ATTACH;FMTTYPE=image/jpeg:https://albinoteixeira.org.br/wp-content/uploads/2022/06/sede-scaled-e1656615992280.jpg
END:VEVENT
BEGIN:VEVENT
DTSTART;TZID=America/Sao_Paulo:20230813T190000
DTEND;TZID=America/Sao_Paulo:20230813T190000
DTSTAMP:20260423T200720
CREATED:20230801T215718Z
LAST-MODIFIED:20230809T000650Z
UID:7689-1691953200-1691953200@albinoteixeira.org.br
SUMMARY:Fé
DESCRIPTION:
URL:https://albinoteixeira.org.br/evento/fe-2/
LOCATION:Plataforma Zoom (Senha: 123)
CATEGORIES:Online,Reunião Pública
ATTACH;FMTTYPE=image/jpeg:https://albinoteixeira.org.br/wp-content/uploads/2022/06/sede-scaled-e1656615992280.jpg
END:VEVENT
BEGIN:VEVENT
DTSTART;TZID=America/Sao_Paulo:20230814T200000
DTEND;TZID=America/Sao_Paulo:20230814T200000
DTSTAMP:20260423T200720
CREATED:20230809T000433Z
LAST-MODIFIED:20230809T000433Z
UID:7710-1692043200-1692043200@albinoteixeira.org.br
SUMMARY:Cooperação
DESCRIPTION:
URL:https://albinoteixeira.org.br/evento/cooperacao/
LOCATION:Grupo Espírita de Fraternidade Albino Teixeira\, Rua dos Aeroviários\, 240\, Bairro Liberdade\, Belo Horizonte\, MG\, 31270-330\, Brasil
CATEGORIES:Reunião Pública
ATTACH;FMTTYPE=image/jpeg:https://albinoteixeira.org.br/wp-content/uploads/2022/06/sede-scaled-e1656615992280.jpg
END:VEVENT
BEGIN:VEVENT
DTSTART;TZID=America/Sao_Paulo:20230815T200000
DTEND;TZID=America/Sao_Paulo:20230815T200000
DTSTAMP:20260423T200720
CREATED:20230809T000537Z
LAST-MODIFIED:20230809T000538Z
UID:7712-1692129600-1692129600@albinoteixeira.org.br
SUMMARY:Instrução
DESCRIPTION:
URL:https://albinoteixeira.org.br/evento/instrucao/
LOCATION:Grupo Espírita de Fraternidade Albino Teixeira\, Rua dos Aeroviários\, 240\, Bairro Liberdade\, Belo Horizonte\, MG\, 31270-330\, Brasil
CATEGORIES:Reunião Pública
ATTACH;FMTTYPE=image/jpeg:https://albinoteixeira.org.br/wp-content/uploads/2022/06/sede-scaled-e1656615992280.jpg
END:VEVENT
BEGIN:VEVENT
DTSTART;TZID=America/Sao_Paulo:20230816T150000
DTEND;TZID=America/Sao_Paulo:20230816T150000
DTSTAMP:20260423T200720
CREATED:20230816T210841Z
LAST-MODIFIED:20230816T211029Z
UID:7719-1692198000-1692198000@albinoteixeira.org.br
SUMMARY:Educação
DESCRIPTION:
URL:https://albinoteixeira.org.br/evento/educacao/
LOCATION:Grupo Espírita de Fraternidade Albino Teixeira\, Rua dos Aeroviários\, 240\, Bairro Liberdade\, Belo Horizonte\, MG\, 31270-330\, Brasil
CATEGORIES:Reunião Pública
ATTACH;FMTTYPE=image/jpeg:https://albinoteixeira.org.br/wp-content/uploads/2022/06/sede-scaled-e1656615992280.jpg
END:VEVENT
BEGIN:VEVENT
DTSTART;TZID=America/Sao_Paulo:20230816T200000
DTEND;TZID=America/Sao_Paulo:20230816T200000
DTSTAMP:20260423T200720
CREATED:20230816T210436Z
LAST-MODIFIED:20230816T210436Z
UID:7716-1692216000-1692216000@albinoteixeira.org.br
SUMMARY:Vontade
DESCRIPTION:
URL:https://albinoteixeira.org.br/evento/vontade-2/
LOCATION:Grupo Espírita de Fraternidade Albino Teixeira\, Rua dos Aeroviários\, 240\, Bairro Liberdade\, Belo Horizonte\, MG\, 31270-330\, Brasil
CATEGORIES:Reunião Pública
ATTACH;FMTTYPE=image/jpeg:https://albinoteixeira.org.br/wp-content/uploads/2022/06/sede-scaled-e1656615992280.jpg
END:VEVENT
BEGIN:VEVENT
DTSTART;TZID=America/Sao_Paulo:20230817T200000
DTEND;TZID=America/Sao_Paulo:20230817T200000
DTSTAMP:20260423T200720
CREATED:20230816T210950Z
LAST-MODIFIED:20230816T210950Z
UID:7721-1692302400-1692302400@albinoteixeira.org.br
SUMMARY:Trabalho
DESCRIPTION:
URL:https://albinoteixeira.org.br/evento/trabalho/
LOCATION:Grupo Espírita de Fraternidade Albino Teixeira\, Rua dos Aeroviários\, 240\, Bairro Liberdade\, Belo Horizonte\, MG\, 31270-330\, Brasil
CATEGORIES:Reunião Pública
ATTACH;FMTTYPE=image/jpeg:https://albinoteixeira.org.br/wp-content/uploads/2022/06/sede-scaled-e1656615992280.jpg
END:VEVENT
BEGIN:VEVENT
DTSTART;TZID=America/Sao_Paulo:20230818T150000
DTEND;TZID=America/Sao_Paulo:20230818T150000
DTSTAMP:20260423T200720
CREATED:20230816T211153Z
LAST-MODIFIED:20230816T211153Z
UID:7724-1692370800-1692370800@albinoteixeira.org.br
SUMMARY:Associação
DESCRIPTION:
URL:https://albinoteixeira.org.br/evento/associacao/
LOCATION:Grupo Espírita de Fraternidade Albino Teixeira\, Rua dos Aeroviários\, 240\, Bairro Liberdade\, Belo Horizonte\, MG\, 31270-330\, Brasil
CATEGORIES:Reunião Pública
ATTACH;FMTTYPE=image/jpeg:https://albinoteixeira.org.br/wp-content/uploads/2022/06/sede-scaled-e1656615992280.jpg
END:VEVENT
BEGIN:VEVENT
DTSTART;TZID=America/Sao_Paulo:20230818T200000
DTEND;TZID=America/Sao_Paulo:20230818T200000
DTSTAMP:20260423T200720
CREATED:20230816T211306Z
LAST-MODIFIED:20230816T211306Z
UID:7726-1692388800-1692388800@albinoteixeira.org.br
SUMMARY:Sugestão
DESCRIPTION:
URL:https://albinoteixeira.org.br/evento/sugestao/
LOCATION:Grupo Espírita de Fraternidade Albino Teixeira\, Rua dos Aeroviários\, 240\, Bairro Liberdade\, Belo Horizonte\, MG\, 31270-330\, Brasil
CATEGORIES:Reunião Pública
ATTACH;FMTTYPE=image/jpeg:https://albinoteixeira.org.br/wp-content/uploads/2022/06/sede-scaled-e1656615992280.jpg
END:VEVENT
BEGIN:VEVENT
DTSTART;TZID=America/Sao_Paulo:20230819T100000
DTEND;TZID=America/Sao_Paulo:20230819T100000
DTSTAMP:20260423T200720
CREATED:20230816T211423Z
LAST-MODIFIED:20230816T211423Z
UID:7728-1692439200-1692439200@albinoteixeira.org.br
SUMMARY:Entendimento
DESCRIPTION:
URL:https://albinoteixeira.org.br/evento/entendimento/
LOCATION:Grupo Espírita de Fraternidade Albino Teixeira\, Rua dos Aeroviários\, 240\, Bairro Liberdade\, Belo Horizonte\, MG\, 31270-330\, Brasil
CATEGORIES:Reunião Pública
ATTACH;FMTTYPE=image/jpeg:https://albinoteixeira.org.br/wp-content/uploads/2022/06/sede-scaled-e1656615992280.jpg
END:VEVENT
BEGIN:VEVENT
DTSTART;TZID=America/Sao_Paulo:20230819T143000
DTEND;TZID=America/Sao_Paulo:20230819T143000
DTSTAMP:20260423T200720
CREATED:20230816T211549Z
LAST-MODIFIED:20230816T211549Z
UID:7731-1692455400-1692455400@albinoteixeira.org.br
SUMMARY:Berço
DESCRIPTION:
URL:https://albinoteixeira.org.br/evento/berco/
LOCATION:Grupo Espírita de Fraternidade Albino Teixeira\, Rua dos Aeroviários\, 240\, Bairro Liberdade\, Belo Horizonte\, MG\, 31270-330\, Brasil
CATEGORIES:Reunião Pública
ATTACH;FMTTYPE=image/jpeg:https://albinoteixeira.org.br/wp-content/uploads/2022/06/sede-scaled-e1656615992280.jpg
END:VEVENT
BEGIN:VEVENT
DTSTART;TZID=America/Sao_Paulo:20230819T183000
DTEND;TZID=America/Sao_Paulo:20230819T183000
DTSTAMP:20260423T200720
CREATED:20230816T213645Z
LAST-MODIFIED:20230816T213645Z
UID:7733-1692469800-1692469800@albinoteixeira.org.br
SUMMARY:Cristianismo primitivo
DESCRIPTION:
URL:https://albinoteixeira.org.br/evento/cristianismo-primitivo/
LOCATION:Grupo Espírita de Fraternidade Albino Teixeira\, Rua dos Aeroviários\, 240\, Bairro Liberdade\, Belo Horizonte\, MG\, 31270-330\, Brasil
CATEGORIES:Reunião Pública
ATTACH;FMTTYPE=image/jpeg:https://albinoteixeira.org.br/wp-content/uploads/2022/06/sede-scaled-e1656615992280.jpg
END:VEVENT
END:VCALENDAR