BEGIN:VCALENDAR
VERSION:2.0
PRODID:-//Gefrater - ECPv6.15.20//NONSGML v1.0//EN
CALSCALE:GREGORIAN
METHOD:PUBLISH
X-WR-CALNAME:Gefrater
X-ORIGINAL-URL:https://albinoteixeira.org.br
X-WR-CALDESC:Eventos para Gefrater
REFRESH-INTERVAL;VALUE=DURATION:PT1H
X-Robots-Tag:noindex
X-PUBLISHED-TTL:PT1H
BEGIN:VTIMEZONE
TZID:America/Sao_Paulo
BEGIN:STANDARD
TZOFFSETFROM:-0300
TZOFFSETTO:-0300
TZNAME:-03
DTSTART:20220101T000000
END:STANDARD
END:VTIMEZONE
BEGIN:VEVENT
DTSTART;TZID=America/Sao_Paulo:20230905T200000
DTEND;TZID=America/Sao_Paulo:20230905T200000
DTSTAMP:20260425T120212
CREATED:20230902T114322Z
LAST-MODIFIED:20230902T114322Z
UID:7804-1693944000-1693944000@albinoteixeira.org.br
SUMMARY:Dúvidas da vida futura e o suicídio
DESCRIPTION:
URL:https://albinoteixeira.org.br/evento/duvidas-da-vida-futura-e-o-suicidio-3/
LOCATION:Grupo Espírita de Fraternidade Albino Teixeira\, Rua dos Aeroviários\, 240\, Bairro Liberdade\, Belo Horizonte\, MG\, 31270-330\, Brasil
CATEGORIES:Reunião Pública
ATTACH;FMTTYPE=image/jpeg:https://albinoteixeira.org.br/wp-content/uploads/2022/06/sede-scaled-e1656615992280.jpg
END:VEVENT
BEGIN:VEVENT
DTSTART;TZID=America/Sao_Paulo:20230906T150000
DTEND;TZID=America/Sao_Paulo:20230906T150000
DTSTAMP:20260425T120212
CREATED:20230902T114433Z
LAST-MODIFIED:20230902T114643Z
UID:7806-1694012400-1694012400@albinoteixeira.org.br
SUMMARY:Depressão na visão espírita
DESCRIPTION:
URL:https://albinoteixeira.org.br/evento/depressao-na-visao-espirita-9/
LOCATION:Grupo Espírita de Fraternidade Albino Teixeira\, Rua dos Aeroviários\, 240\, Bairro Liberdade\, Belo Horizonte\, MG\, 31270-330\, Brasil
CATEGORIES:Reunião Pública
ATTACH;FMTTYPE=image/jpeg:https://albinoteixeira.org.br/wp-content/uploads/2022/06/sede-scaled-e1656615992280.jpg
END:VEVENT
BEGIN:VEVENT
DTSTART;TZID=America/Sao_Paulo:20230906T200000
DTEND;TZID=America/Sao_Paulo:20230906T200000
DTSTAMP:20260425T120212
CREATED:20230902T114546Z
LAST-MODIFIED:20230902T114711Z
UID:7808-1694030400-1694030400@albinoteixeira.org.br
SUMMARY:Suicídio na visão espírita
DESCRIPTION:
URL:https://albinoteixeira.org.br/evento/suicidio-na-visao-espirita-3/
LOCATION:Grupo Espírita de Fraternidade Albino Teixeira\, Rua dos Aeroviários\, 240\, Bairro Liberdade\, Belo Horizonte\, MG\, 31270-330\, Brasil
CATEGORIES:Reunião Pública
ATTACH;FMTTYPE=image/jpeg:https://albinoteixeira.org.br/wp-content/uploads/2022/06/sede-scaled-e1656615992280.jpg
END:VEVENT
BEGIN:VEVENT
DTSTART;TZID=America/Sao_Paulo:20230907T200000
DTEND;TZID=America/Sao_Paulo:20230907T200000
DTSTAMP:20260425T120212
CREATED:20230906T145836Z
LAST-MODIFIED:20230906T145838Z
UID:7810-1694116800-1694116800@albinoteixeira.org.br
SUMMARY:Suicídio direto e indireto
DESCRIPTION:
URL:https://albinoteixeira.org.br/evento/suicidio-direto-e-indireto-4/
LOCATION:Grupo Espírita de Fraternidade Albino Teixeira\, Rua dos Aeroviários\, 240\, Bairro Liberdade\, Belo Horizonte\, MG\, 31270-330\, Brasil
CATEGORIES:Reunião Pública
ATTACH;FMTTYPE=image/jpeg:https://albinoteixeira.org.br/wp-content/uploads/2022/06/sede-scaled-e1656615992280.jpg
END:VEVENT
BEGIN:VEVENT
DTSTART;TZID=America/Sao_Paulo:20230908T150000
DTEND;TZID=America/Sao_Paulo:20230908T150000
DTSTAMP:20260425T120212
CREATED:20230906T150000Z
LAST-MODIFIED:20230906T150000Z
UID:7812-1694185200-1694185200@albinoteixeira.org.br
SUMMARY:Viver é a melhor saída
DESCRIPTION:
URL:https://albinoteixeira.org.br/evento/viver-e-a-melhor-saida-4/
LOCATION:Grupo Espírita de Fraternidade Albino Teixeira\, Rua dos Aeroviários\, 240\, Bairro Liberdade\, Belo Horizonte\, MG\, 31270-330\, Brasil
CATEGORIES:Reunião Pública
ATTACH;FMTTYPE=image/jpeg:https://albinoteixeira.org.br/wp-content/uploads/2022/06/sede-scaled-e1656615992280.jpg
END:VEVENT
BEGIN:VEVENT
DTSTART;TZID=America/Sao_Paulo:20230908T200000
DTEND;TZID=America/Sao_Paulo:20230908T200000
DTSTAMP:20260425T120212
CREATED:20230906T150144Z
LAST-MODIFIED:20230906T150144Z
UID:7814-1694203200-1694203200@albinoteixeira.org.br
SUMMARY:Recomeçar sempre: é preciso modificar-se
DESCRIPTION:
URL:https://albinoteixeira.org.br/evento/recomecar-sempre-e-preciso-modificar-se-4/
LOCATION:Grupo Espírita de Fraternidade Albino Teixeira\, Rua dos Aeroviários\, 240\, Bairro Liberdade\, Belo Horizonte\, MG\, 31270-330\, Brasil
CATEGORIES:Reunião Pública
ATTACH;FMTTYPE=image/jpeg:https://albinoteixeira.org.br/wp-content/uploads/2022/06/sede-scaled-e1656615992280.jpg
END:VEVENT
BEGIN:VEVENT
DTSTART;TZID=America/Sao_Paulo:20230909T100000
DTEND;TZID=America/Sao_Paulo:20230909T100000
DTSTAMP:20260425T120212
CREATED:20230906T150344Z
LAST-MODIFIED:20230906T150344Z
UID:7816-1694253600-1694253600@albinoteixeira.org.br
SUMMARY:Suicídio: prevenção e intervenção
DESCRIPTION:
URL:https://albinoteixeira.org.br/evento/suicidio-prevencao-e-intervencao-3/
LOCATION:Grupo Espírita de Fraternidade Albino Teixeira\, Rua dos Aeroviários\, 240\, Bairro Liberdade\, Belo Horizonte\, MG\, 31270-330\, Brasil
CATEGORIES:Reunião Pública
ATTACH;FMTTYPE=image/jpeg:https://albinoteixeira.org.br/wp-content/uploads/2022/06/sede-scaled-e1656615992280.jpg
END:VEVENT
BEGIN:VEVENT
DTSTART;TZID=America/Sao_Paulo:20230909T143000
DTEND;TZID=America/Sao_Paulo:20230909T143000
DTSTAMP:20260425T120212
CREATED:20230906T150521Z
LAST-MODIFIED:20230906T150521Z
UID:7818-1694269800-1694269800@albinoteixeira.org.br
SUMMARY:Vencer na vida é viver
DESCRIPTION:
URL:https://albinoteixeira.org.br/evento/vencer-na-vida-e-viver-3/
LOCATION:Grupo Espírita de Fraternidade Albino Teixeira\, Rua dos Aeroviários\, 240\, Bairro Liberdade\, Belo Horizonte\, MG\, 31270-330\, Brasil
CATEGORIES:Reunião Pública
ATTACH;FMTTYPE=image/jpeg:https://albinoteixeira.org.br/wp-content/uploads/2022/06/sede-scaled-e1656615992280.jpg
END:VEVENT
BEGIN:VEVENT
DTSTART;TZID=America/Sao_Paulo:20230909T183000
DTEND;TZID=America/Sao_Paulo:20230909T183000
DTSTAMP:20260425T120212
CREATED:20230906T150703Z
LAST-MODIFIED:20230906T150703Z
UID:7820-1694284200-1694284200@albinoteixeira.org.br
SUMMARY:Rompendo nós e formando laços
DESCRIPTION:
URL:https://albinoteixeira.org.br/evento/rompendo-nos-e-formando-lacos-4/
LOCATION:Grupo Espírita de Fraternidade Albino Teixeira\, Rua dos Aeroviários\, 240\, Bairro Liberdade\, Belo Horizonte\, MG\, 31270-330\, Brasil
CATEGORIES:Reunião Pública
ATTACH;FMTTYPE=image/jpeg:https://albinoteixeira.org.br/wp-content/uploads/2022/06/sede-scaled-e1656615992280.jpg
END:VEVENT
BEGIN:VEVENT
DTSTART;TZID=America/Sao_Paulo:20230910T100000
DTEND;TZID=America/Sao_Paulo:20230910T100000
DTSTAMP:20260425T120212
CREATED:20230912T110014Z
LAST-MODIFIED:20230912T110014Z
UID:7824-1694340000-1694340000@albinoteixeira.org.br
SUMMARY:Autoconsciência e liberdade: suicídio não!
DESCRIPTION:
URL:https://albinoteixeira.org.br/evento/autoconsciencia-e-liberdade-suicidio-nao-4/
LOCATION:Grupo Espírita de Fraternidade Albino Teixeira\, Rua dos Aeroviários\, 240\, Bairro Liberdade\, Belo Horizonte\, MG\, 31270-330\, Brasil
CATEGORIES:Reunião Pública
ATTACH;FMTTYPE=image/jpeg:https://albinoteixeira.org.br/wp-content/uploads/2022/06/sede-scaled-e1656615992280.jpg
END:VEVENT
BEGIN:VEVENT
DTSTART;TZID=America/Sao_Paulo:20230910T190000
DTEND;TZID=America/Sao_Paulo:20230910T190000
DTSTAMP:20260425T120212
CREATED:20230912T110121Z
LAST-MODIFIED:20230912T110122Z
UID:7826-1694372400-1694372400@albinoteixeira.org.br
SUMMARY:A solução está em nossas mãos
DESCRIPTION:
URL:https://albinoteixeira.org.br/evento/a-solucao-esta-em-nossas-maos-6/
LOCATION:Plataforma Zoom (Senha: 123)
CATEGORIES:Online,Reunião Pública
ATTACH;FMTTYPE=image/jpeg:https://albinoteixeira.org.br/wp-content/uploads/2022/06/sede-scaled-e1656615992280.jpg
END:VEVENT
BEGIN:VEVENT
DTSTART;TZID=America/Sao_Paulo:20230911T200000
DTEND;TZID=America/Sao_Paulo:20230911T200000
DTSTAMP:20260425T120212
CREATED:20230912T110241Z
LAST-MODIFIED:20230912T110242Z
UID:7828-1694462400-1694462400@albinoteixeira.org.br
SUMMARY:Quando a alma pede socorro
DESCRIPTION:
URL:https://albinoteixeira.org.br/evento/quando-a-alma-pede-socorro/
LOCATION:Grupo Espírita de Fraternidade Albino Teixeira\, Rua dos Aeroviários\, 240\, Bairro Liberdade\, Belo Horizonte\, MG\, 31270-330\, Brasil
CATEGORIES:Reunião Pública
ATTACH;FMTTYPE=image/jpeg:https://albinoteixeira.org.br/wp-content/uploads/2022/06/sede-scaled-e1656615992280.jpg
END:VEVENT
BEGIN:VEVENT
DTSTART;TZID=America/Sao_Paulo:20230912T200000
DTEND;TZID=America/Sao_Paulo:20230912T200000
DTSTAMP:20260425T120212
CREATED:20230912T110343Z
LAST-MODIFIED:20230912T110349Z
UID:7831-1694548800-1694548800@albinoteixeira.org.br
SUMMARY:Pedi e obtereis
DESCRIPTION:
URL:https://albinoteixeira.org.br/evento/pedi-e-obtereis-5/
LOCATION:Grupo Espírita de Fraternidade Albino Teixeira\, Rua dos Aeroviários\, 240\, Bairro Liberdade\, Belo Horizonte\, MG\, 31270-330\, Brasil
CATEGORIES:Reunião Pública
ATTACH;FMTTYPE=image/jpeg:https://albinoteixeira.org.br/wp-content/uploads/2022/06/sede-scaled-e1656615992280.jpg
END:VEVENT
BEGIN:VEVENT
DTSTART;TZID=America/Sao_Paulo:20230913T150000
DTEND;TZID=America/Sao_Paulo:20230913T150000
DTSTAMP:20260425T120212
CREATED:20230912T110548Z
LAST-MODIFIED:20230912T110548Z
UID:7833-1694617200-1694617200@albinoteixeira.org.br
SUMMARY:Leis morais - leis de conservação
DESCRIPTION:
URL:https://albinoteixeira.org.br/evento/leis-morais-leis-de-conservacao-2/
LOCATION:Grupo Espírita de Fraternidade Albino Teixeira\, Rua dos Aeroviários\, 240\, Bairro Liberdade\, Belo Horizonte\, MG\, 31270-330\, Brasil
CATEGORIES:Reunião Pública
ATTACH;FMTTYPE=image/jpeg:https://albinoteixeira.org.br/wp-content/uploads/2022/06/sede-scaled-e1656615992280.jpg
END:VEVENT
BEGIN:VEVENT
DTSTART;TZID=America/Sao_Paulo:20230913T200000
DTEND;TZID=America/Sao_Paulo:20230913T200000
DTSTAMP:20260425T120212
CREATED:20230912T110702Z
LAST-MODIFIED:20230912T110703Z
UID:7835-1694635200-1694635200@albinoteixeira.org.br
SUMMARY:O passe
DESCRIPTION:
URL:https://albinoteixeira.org.br/evento/o-passe-6/
LOCATION:Grupo Espírita de Fraternidade Albino Teixeira\, Rua dos Aeroviários\, 240\, Bairro Liberdade\, Belo Horizonte\, MG\, 31270-330\, Brasil
CATEGORIES:Reunião Pública
ATTACH;FMTTYPE=image/jpeg:https://albinoteixeira.org.br/wp-content/uploads/2022/06/sede-scaled-e1656615992280.jpg
END:VEVENT
BEGIN:VEVENT
DTSTART;TZID=America/Sao_Paulo:20230914T200000
DTEND;TZID=America/Sao_Paulo:20230914T200000
DTSTAMP:20260425T120212
CREATED:20230912T110841Z
LAST-MODIFIED:20230912T110841Z
UID:7837-1694721600-1694721600@albinoteixeira.org.br
SUMMARY:Pensamento e vontade
DESCRIPTION:
URL:https://albinoteixeira.org.br/evento/pensamento-e-vontade-7/
LOCATION:Grupo Espírita de Fraternidade Albino Teixeira\, Rua dos Aeroviários\, 240\, Bairro Liberdade\, Belo Horizonte\, MG\, 31270-330\, Brasil
CATEGORIES:Reunião Pública
ATTACH;FMTTYPE=image/jpeg:https://albinoteixeira.org.br/wp-content/uploads/2022/06/sede-scaled-e1656615992280.jpg
END:VEVENT
BEGIN:VEVENT
DTSTART;TZID=America/Sao_Paulo:20230915T150000
DTEND;TZID=America/Sao_Paulo:20230915T150000
DTSTAMP:20260425T120212
CREATED:20230912T110933Z
LAST-MODIFIED:20230912T110933Z
UID:7839-1694790000-1694790000@albinoteixeira.org.br
SUMMARY:O passe
DESCRIPTION:
URL:https://albinoteixeira.org.br/evento/o-passe-7/
LOCATION:Grupo Espírita de Fraternidade Albino Teixeira\, Rua dos Aeroviários\, 240\, Bairro Liberdade\, Belo Horizonte\, MG\, 31270-330\, Brasil
CATEGORIES:Reunião Pública
ATTACH;FMTTYPE=image/jpeg:https://albinoteixeira.org.br/wp-content/uploads/2022/06/sede-scaled-e1656615992280.jpg
END:VEVENT
BEGIN:VEVENT
DTSTART;TZID=America/Sao_Paulo:20230915T200000
DTEND;TZID=America/Sao_Paulo:20230915T200000
DTSTAMP:20260425T120212
CREATED:20230912T111038Z
LAST-MODIFIED:20230912T111038Z
UID:7841-1694808000-1694808000@albinoteixeira.org.br
SUMMARY:Cura de um paralítico
DESCRIPTION:
URL:https://albinoteixeira.org.br/evento/cura-de-um-paralitico-4/
LOCATION:Grupo Espírita de Fraternidade Albino Teixeira\, Rua dos Aeroviários\, 240\, Bairro Liberdade\, Belo Horizonte\, MG\, 31270-330\, Brasil
CATEGORIES:Reunião Pública
ATTACH;FMTTYPE=image/jpeg:https://albinoteixeira.org.br/wp-content/uploads/2022/06/sede-scaled-e1656615992280.jpg
END:VEVENT
BEGIN:VEVENT
DTSTART;TZID=America/Sao_Paulo:20230922T150000
DTEND;TZID=America/Sao_Paulo:20230922T150000
DTSTAMP:20260425T120212
CREATED:20230922T111034Z
LAST-MODIFIED:20230922T111037Z
UID:7848-1695394800-1695394800@albinoteixeira.org.br
SUMMARY:Não vim trazer a paz\, mas espada
DESCRIPTION:
URL:https://albinoteixeira.org.br/evento/nao-vim-trazer-a-paz-mas-espada-4/
LOCATION:Grupo Espírita de Fraternidade Albino Teixeira\, Rua dos Aeroviários\, 240\, Bairro Liberdade\, Belo Horizonte\, MG\, 31270-330\, Brasil
CATEGORIES:Reunião Pública
ATTACH;FMTTYPE=image/jpeg:https://albinoteixeira.org.br/wp-content/uploads/2022/06/sede-scaled-e1656615992280.jpg
END:VEVENT
BEGIN:VEVENT
DTSTART;TZID=America/Sao_Paulo:20230922T200000
DTEND;TZID=America/Sao_Paulo:20230922T200000
DTSTAMP:20260425T120212
CREATED:20230922T111136Z
LAST-MODIFIED:20230922T111136Z
UID:7850-1695412800-1695412800@albinoteixeira.org.br
SUMMARY:Reconciliação com os adversários
DESCRIPTION:
URL:https://albinoteixeira.org.br/evento/reconciliacao-com-os-adversarios-5/
LOCATION:Grupo Espírita de Fraternidade Albino Teixeira\, Rua dos Aeroviários\, 240\, Bairro Liberdade\, Belo Horizonte\, MG\, 31270-330\, Brasil
CATEGORIES:Reunião Pública
ATTACH;FMTTYPE=image/jpeg:https://albinoteixeira.org.br/wp-content/uploads/2022/06/sede-scaled-e1656615992280.jpg
END:VEVENT
BEGIN:VEVENT
DTSTART;TZID=America/Sao_Paulo:20230923T100000
DTEND;TZID=America/Sao_Paulo:20230923T100000
DTSTAMP:20260425T120212
CREATED:20230922T111250Z
LAST-MODIFIED:20230922T111251Z
UID:7852-1695463200-1695463200@albinoteixeira.org.br
SUMMARY:O cego de Jericó
DESCRIPTION:
URL:https://albinoteixeira.org.br/evento/o-cego-de-jerico-2/
LOCATION:Grupo Espírita de Fraternidade Albino Teixeira\, Rua dos Aeroviários\, 240\, Bairro Liberdade\, Belo Horizonte\, MG\, 31270-330\, Brasil
CATEGORIES:Reunião Pública
ATTACH;FMTTYPE=image/jpeg:https://albinoteixeira.org.br/wp-content/uploads/2022/06/sede-scaled-e1656615992280.jpg
END:VEVENT
BEGIN:VEVENT
DTSTART;TZID=America/Sao_Paulo:20230923T143000
DTEND;TZID=America/Sao_Paulo:20230923T143000
DTSTAMP:20260425T120212
CREATED:20230922T111425Z
LAST-MODIFIED:20230922T111425Z
UID:7854-1695479400-1695479400@albinoteixeira.org.br
SUMMARY:Onde estiver o seu tesouro\, aí estará seu coração
DESCRIPTION:
URL:https://albinoteixeira.org.br/evento/onde-estiver-o-seu-tesouro-ai-estara-seu-coracao-5/
LOCATION:Grupo Espírita de Fraternidade Albino Teixeira\, Rua dos Aeroviários\, 240\, Bairro Liberdade\, Belo Horizonte\, MG\, 31270-330\, Brasil
CATEGORIES:Reunião Pública
ATTACH;FMTTYPE=image/jpeg:https://albinoteixeira.org.br/wp-content/uploads/2022/06/sede-scaled-e1656615992280.jpg
END:VEVENT
BEGIN:VEVENT
DTSTART;TZID=America/Sao_Paulo:20230923T183000
DTEND;TZID=America/Sao_Paulo:20230923T183000
DTSTAMP:20260425T120212
CREATED:20230922T111601Z
LAST-MODIFIED:20230922T111601Z
UID:7856-1695493800-1695493800@albinoteixeira.org.br
SUMMARY:Aparições de Jesus ressuscitado
DESCRIPTION:
URL:https://albinoteixeira.org.br/evento/aparicoes-de-jesus-ressuscitado-2/
LOCATION:Grupo Espírita de Fraternidade Albino Teixeira\, Rua dos Aeroviários\, 240\, Bairro Liberdade\, Belo Horizonte\, MG\, 31270-330\, Brasil
CATEGORIES:Reunião Pública
ATTACH;FMTTYPE=image/jpeg:https://albinoteixeira.org.br/wp-content/uploads/2022/06/sede-scaled-e1656615992280.jpg
END:VEVENT
BEGIN:VEVENT
DTSTART;TZID=America/Sao_Paulo:20230924T100000
DTEND;TZID=America/Sao_Paulo:20230924T100000
DTSTAMP:20260425T120212
CREATED:20230922T111720Z
LAST-MODIFIED:20230922T111720Z
UID:7858-1695549600-1695549600@albinoteixeira.org.br
SUMMARY:Viver é a melhor saída
DESCRIPTION:
URL:https://albinoteixeira.org.br/evento/viver-e-a-melhor-saida-5/
LOCATION:Grupo Espírita de Fraternidade Albino Teixeira\, Rua dos Aeroviários\, 240\, Bairro Liberdade\, Belo Horizonte\, MG\, 31270-330\, Brasil
CATEGORIES:Reunião Pública
ATTACH;FMTTYPE=image/jpeg:https://albinoteixeira.org.br/wp-content/uploads/2022/06/sede-scaled-e1656615992280.jpg
END:VEVENT
BEGIN:VEVENT
DTSTART;TZID=America/Sao_Paulo:20230924T190000
DTEND;TZID=America/Sao_Paulo:20230924T190000
DTSTAMP:20260425T120212
CREATED:20230922T111817Z
LAST-MODIFIED:20230922T111817Z
UID:7860-1695582000-1695582000@albinoteixeira.org.br
SUMMARY:A lei de amor
DESCRIPTION:
URL:https://albinoteixeira.org.br/evento/a-lei-de-amor/
LOCATION:Plataforma Zoom (Senha: 123)
CATEGORIES:Online,Reunião Pública
ATTACH;FMTTYPE=image/jpeg:https://albinoteixeira.org.br/wp-content/uploads/2022/06/sede-scaled-e1656615992280.jpg
END:VEVENT
BEGIN:VEVENT
DTSTART;TZID=America/Sao_Paulo:20230925T200000
DTEND;TZID=America/Sao_Paulo:20230925T200000
DTSTAMP:20260425T120212
CREATED:20230922T111914Z
LAST-MODIFIED:20230922T111914Z
UID:7862-1695672000-1695672000@albinoteixeira.org.br
SUMMARY:Espiritismo e ecologia
DESCRIPTION:
URL:https://albinoteixeira.org.br/evento/espiritismo-e-ecologia-3/
LOCATION:Grupo Espírita de Fraternidade Albino Teixeira\, Rua dos Aeroviários\, 240\, Bairro Liberdade\, Belo Horizonte\, MG\, 31270-330\, Brasil
CATEGORIES:Reunião Pública
ATTACH;FMTTYPE=image/jpeg:https://albinoteixeira.org.br/wp-content/uploads/2022/06/sede-scaled-e1656615992280.jpg
END:VEVENT
BEGIN:VEVENT
DTSTART;TZID=America/Sao_Paulo:20230926T200000
DTEND;TZID=America/Sao_Paulo:20230926T200000
DTSTAMP:20260425T120212
CREATED:20230922T112114Z
LAST-MODIFIED:20230922T112114Z
UID:7864-1695758400-1695758400@albinoteixeira.org.br
SUMMARY:Leis morais - lei de igualdade
DESCRIPTION:
URL:https://albinoteixeira.org.br/evento/leis-morais-lei-de-igualdade-5/
LOCATION:Grupo Espírita de Fraternidade Albino Teixeira\, Rua dos Aeroviários\, 240\, Bairro Liberdade\, Belo Horizonte\, MG\, 31270-330\, Brasil
CATEGORIES:Reunião Pública
ATTACH;FMTTYPE=image/jpeg:https://albinoteixeira.org.br/wp-content/uploads/2022/06/sede-scaled-e1656615992280.jpg
END:VEVENT
BEGIN:VEVENT
DTSTART;TZID=America/Sao_Paulo:20230927T150000
DTEND;TZID=America/Sao_Paulo:20230927T150000
DTSTAMP:20260425T120212
CREATED:20230922T112314Z
LAST-MODIFIED:20230922T112315Z
UID:7866-1695826800-1695826800@albinoteixeira.org.br
SUMMARY:Parábola do Bom Samaritano
DESCRIPTION:
URL:https://albinoteixeira.org.br/evento/parabola-do-bom-samaritano-4/
LOCATION:Grupo Espírita de Fraternidade Albino Teixeira\, Rua dos Aeroviários\, 240\, Bairro Liberdade\, Belo Horizonte\, MG\, 31270-330\, Brasil
CATEGORIES:Reunião Pública
ATTACH;FMTTYPE=image/jpeg:https://albinoteixeira.org.br/wp-content/uploads/2022/06/sede-scaled-e1656615992280.jpg
END:VEVENT
BEGIN:VEVENT
DTSTART;TZID=America/Sao_Paulo:20230927T200000
DTEND;TZID=America/Sao_Paulo:20230927T200000
DTSTAMP:20260425T120212
CREATED:20230922T112426Z
LAST-MODIFIED:20230922T112426Z
UID:7869-1695844800-1695844800@albinoteixeira.org.br
SUMMARY:O vazio existencial
DESCRIPTION:
URL:https://albinoteixeira.org.br/evento/o-vazio-existencial-3/
LOCATION:Grupo Espírita de Fraternidade Albino Teixeira\, Rua dos Aeroviários\, 240\, Bairro Liberdade\, Belo Horizonte\, MG\, 31270-330\, Brasil
CATEGORIES:Reunião Pública
ATTACH;FMTTYPE=image/jpeg:https://albinoteixeira.org.br/wp-content/uploads/2022/06/sede-scaled-e1656615992280.jpg
END:VEVENT
BEGIN:VEVENT
DTSTART;TZID=America/Sao_Paulo:20230928T200000
DTEND;TZID=America/Sao_Paulo:20230928T200000
DTSTAMP:20260425T120212
CREATED:20230922T112556Z
LAST-MODIFIED:20230922T112556Z
UID:7871-1695931200-1695931200@albinoteixeira.org.br
SUMMARY:Afetividade conflitiva
DESCRIPTION:
URL:https://albinoteixeira.org.br/evento/afetividade-conflitiva-3/
LOCATION:Grupo Espírita de Fraternidade Albino Teixeira\, Rua dos Aeroviários\, 240\, Bairro Liberdade\, Belo Horizonte\, MG\, 31270-330\, Brasil
CATEGORIES:Reunião Pública
ATTACH;FMTTYPE=image/jpeg:https://albinoteixeira.org.br/wp-content/uploads/2022/06/sede-scaled-e1656615992280.jpg
END:VEVENT
END:VCALENDAR