BEGIN:VCALENDAR
VERSION:2.0
PRODID:-//Gefrater - ECPv6.15.20//NONSGML v1.0//EN
CALSCALE:GREGORIAN
METHOD:PUBLISH
X-WR-CALNAME:Gefrater
X-ORIGINAL-URL:https://albinoteixeira.org.br
X-WR-CALDESC:Eventos para Gefrater
REFRESH-INTERVAL;VALUE=DURATION:PT1H
X-Robots-Tag:noindex
X-PUBLISHED-TTL:PT1H
BEGIN:VTIMEZONE
TZID:America/Sao_Paulo
BEGIN:STANDARD
TZOFFSETFROM:-0300
TZOFFSETTO:-0300
TZNAME:-03
DTSTART:20220101T000000
END:STANDARD
END:VTIMEZONE
BEGIN:VEVENT
DTSTART;TZID=America/Sao_Paulo:20231026T200000
DTEND;TZID=America/Sao_Paulo:20231026T200000
DTSTAMP:20260425T134809
CREATED:20231026T091757Z
LAST-MODIFIED:20231026T091757Z
UID:7976-1698350400-1698350400@albinoteixeira.org.br
SUMMARY:Injúrias e violências
DESCRIPTION:
URL:https://albinoteixeira.org.br/evento/injurias-e-violencias-5/
LOCATION:Grupo Espírita de Fraternidade Albino Teixeira\, Rua dos Aeroviários\, 240\, Bairro Liberdade\, Belo Horizonte\, MG\, 31270-330\, Brasil
CATEGORIES:Reunião Pública
ATTACH;FMTTYPE=image/jpeg:https://albinoteixeira.org.br/wp-content/uploads/2022/06/sede-scaled-e1656615992280.jpg
END:VEVENT
BEGIN:VEVENT
DTSTART;TZID=America/Sao_Paulo:20231027T150000
DTEND;TZID=America/Sao_Paulo:20231027T150000
DTSTAMP:20260425T134809
CREATED:20231026T091910Z
LAST-MODIFIED:20231026T091910Z
UID:7978-1698418800-1698418800@albinoteixeira.org.br
SUMMARY:Eu\, pacificador
DESCRIPTION:
URL:https://albinoteixeira.org.br/evento/eu-pacificador-5/
LOCATION:Grupo Espírita de Fraternidade Albino Teixeira\, Rua dos Aeroviários\, 240\, Bairro Liberdade\, Belo Horizonte\, MG\, 31270-330\, Brasil
CATEGORIES:Reunião Pública
ATTACH;FMTTYPE=image/jpeg:https://albinoteixeira.org.br/wp-content/uploads/2022/06/sede-scaled-e1656615992280.jpg
END:VEVENT
BEGIN:VEVENT
DTSTART;TZID=America/Sao_Paulo:20231027T200000
DTEND;TZID=America/Sao_Paulo:20231027T200000
DTSTAMP:20260425T134809
CREATED:20231026T092048Z
LAST-MODIFIED:20231026T092048Z
UID:7980-1698436800-1698436800@albinoteixeira.org.br
SUMMARY:Parábola da Candeia
DESCRIPTION:
URL:https://albinoteixeira.org.br/evento/parabola-da-candeia-6/
LOCATION:Grupo Espírita de Fraternidade Albino Teixeira\, Rua dos Aeroviários\, 240\, Bairro Liberdade\, Belo Horizonte\, MG\, 31270-330\, Brasil
CATEGORIES:Reunião Pública
ATTACH;FMTTYPE=image/jpeg:https://albinoteixeira.org.br/wp-content/uploads/2022/06/sede-scaled-e1656615992280.jpg
END:VEVENT
BEGIN:VEVENT
DTSTART;TZID=America/Sao_Paulo:20231028T100000
DTEND;TZID=America/Sao_Paulo:20231028T100000
DTSTAMP:20260425T134809
CREATED:20231026T092152Z
LAST-MODIFIED:20231026T092152Z
UID:7983-1698487200-1698487200@albinoteixeira.org.br
SUMMARY:A escolha de provas
DESCRIPTION:
URL:https://albinoteixeira.org.br/evento/a-escolha-de-provas-12/
LOCATION:Grupo Espírita de Fraternidade Albino Teixeira\, Rua dos Aeroviários\, 240\, Bairro Liberdade\, Belo Horizonte\, MG\, 31270-330\, Brasil
CATEGORIES:Reunião Pública
ATTACH;FMTTYPE=image/jpeg:https://albinoteixeira.org.br/wp-content/uploads/2022/06/sede-scaled-e1656615992280.jpg
END:VEVENT
BEGIN:VEVENT
DTSTART;TZID=America/Sao_Paulo:20231028T143000
DTEND;TZID=America/Sao_Paulo:20231028T143000
DTSTAMP:20260425T134809
CREATED:20231026T092301Z
LAST-MODIFIED:20231026T092301Z
UID:7985-1698503400-1698503400@albinoteixeira.org.br
SUMMARY:Velar com Jesus
DESCRIPTION:
URL:https://albinoteixeira.org.br/evento/velar-com-jesus-8/
LOCATION:Grupo Espírita de Fraternidade Albino Teixeira\, Rua dos Aeroviários\, 240\, Bairro Liberdade\, Belo Horizonte\, MG\, 31270-330\, Brasil
CATEGORIES:Reunião Pública
ATTACH;FMTTYPE=image/jpeg:https://albinoteixeira.org.br/wp-content/uploads/2022/06/sede-scaled-e1656615992280.jpg
END:VEVENT
BEGIN:VEVENT
DTSTART;TZID=America/Sao_Paulo:20231028T183000
DTEND;TZID=America/Sao_Paulo:20231028T183000
DTSTAMP:20260425T134809
CREATED:20231026T092417Z
LAST-MODIFIED:20231026T092417Z
UID:7987-1698517800-1698517800@albinoteixeira.org.br
SUMMARY:Parábola do amigo inoportuno
DESCRIPTION:
URL:https://albinoteixeira.org.br/evento/parabola-do-amigo-inoportuno/
LOCATION:Grupo Espírita de Fraternidade Albino Teixeira\, Rua dos Aeroviários\, 240\, Bairro Liberdade\, Belo Horizonte\, MG\, 31270-330\, Brasil
CATEGORIES:Reunião Pública
ATTACH;FMTTYPE=image/jpeg:https://albinoteixeira.org.br/wp-content/uploads/2022/06/sede-scaled-e1656615992280.jpg
END:VEVENT
BEGIN:VEVENT
DTSTART;TZID=America/Sao_Paulo:20231029T100000
DTEND;TZID=America/Sao_Paulo:20231029T100000
DTSTAMP:20260425T134809
CREATED:20231026T092654Z
LAST-MODIFIED:20231026T092735Z
UID:7989-1698573600-1698573600@albinoteixeira.org.br
SUMMARY:Conhecimento espírita: alimento para as nossas almas
DESCRIPTION:
URL:https://albinoteixeira.org.br/evento/conhecimento-espirita-alimento-para-as-nossas-almas-8/
LOCATION:Grupo Espírita de Fraternidade Albino Teixeira\, Rua dos Aeroviários\, 240\, Bairro Liberdade\, Belo Horizonte\, MG\, 31270-330\, Brasil
CATEGORIES:Reunião Pública
ATTACH;FMTTYPE=image/jpeg:https://albinoteixeira.org.br/wp-content/uploads/2022/06/sede-scaled-e1656615992280.jpg
END:VEVENT
BEGIN:VEVENT
DTSTART;TZID=America/Sao_Paulo:20231029T190000
DTEND;TZID=America/Sao_Paulo:20231029T190000
DTSTAMP:20260425T134809
CREATED:20231026T092902Z
LAST-MODIFIED:20231026T092902Z
UID:7991-1698606000-1698606000@albinoteixeira.org.br
SUMMARY:Boas obras
DESCRIPTION:
URL:https://albinoteixeira.org.br/evento/boas-obras-9/
LOCATION:Plataforma Zoom (Senha: 123)
CATEGORIES:Online,Reunião Pública
ATTACH;FMTTYPE=image/jpeg:https://albinoteixeira.org.br/wp-content/uploads/2022/06/sede-scaled-e1656615992280.jpg
END:VEVENT
BEGIN:VEVENT
DTSTART;TZID=America/Sao_Paulo:20231030T200000
DTEND;TZID=America/Sao_Paulo:20231030T200000
DTSTAMP:20260425T134809
CREATED:20231026T093007Z
LAST-MODIFIED:20231026T093007Z
UID:7993-1698696000-1698696000@albinoteixeira.org.br
SUMMARY:Conflitos existenciais
DESCRIPTION:
URL:https://albinoteixeira.org.br/evento/conflitos-existenciais-3/
LOCATION:Grupo Espírita de Fraternidade Albino Teixeira\, Rua dos Aeroviários\, 240\, Bairro Liberdade\, Belo Horizonte\, MG\, 31270-330\, Brasil
CATEGORIES:Reunião Pública
ATTACH;FMTTYPE=image/jpeg:https://albinoteixeira.org.br/wp-content/uploads/2022/06/sede-scaled-e1656615992280.jpg
END:VEVENT
BEGIN:VEVENT
DTSTART;TZID=America/Sao_Paulo:20231031T200000
DTEND;TZID=America/Sao_Paulo:20231031T200000
DTSTAMP:20260425T134809
CREATED:20231026T093119Z
LAST-MODIFIED:20231026T093119Z
UID:7995-1698782400-1698782400@albinoteixeira.org.br
SUMMARY:A família Zebedeu
DESCRIPTION:
URL:https://albinoteixeira.org.br/evento/a-familia-zebedeu-3/
LOCATION:Grupo Espírita de Fraternidade Albino Teixeira\, Rua dos Aeroviários\, 240\, Bairro Liberdade\, Belo Horizonte\, MG\, 31270-330\, Brasil
CATEGORIES:Reunião Pública
ATTACH;FMTTYPE=image/jpeg:https://albinoteixeira.org.br/wp-content/uploads/2022/06/sede-scaled-e1656615992280.jpg
END:VEVENT
BEGIN:VEVENT
DTSTART;TZID=America/Sao_Paulo:20231101T150000
DTEND;TZID=America/Sao_Paulo:20231101T150000
DTSTAMP:20260425T134809
CREATED:20231030T142719Z
LAST-MODIFIED:20231030T142720Z
UID:7997-1698850800-1698850800@albinoteixeira.org.br
SUMMARY:A fé\, sem obras\, é morta em si mesma
DESCRIPTION:
URL:https://albinoteixeira.org.br/evento/a-fe-sem-obras-e-morta-em-si-mesma/
LOCATION:Grupo Espírita de Fraternidade Albino Teixeira\, Rua dos Aeroviários\, 240\, Bairro Liberdade\, Belo Horizonte\, MG\, 31270-330\, Brasil
CATEGORIES:Reunião Pública
ATTACH;FMTTYPE=image/jpeg:https://albinoteixeira.org.br/wp-content/uploads/2022/06/sede-scaled-e1656615992280.jpg
END:VEVENT
BEGIN:VEVENT
DTSTART;TZID=America/Sao_Paulo:20231101T200000
DTEND;TZID=America/Sao_Paulo:20231101T200000
DTSTAMP:20260425T134809
CREATED:20231030T142847Z
LAST-MODIFIED:20231030T142847Z
UID:7999-1698868800-1698868800@albinoteixeira.org.br
SUMMARY:Ninguém põe remendo de pano novo em vestido velho
DESCRIPTION:
URL:https://albinoteixeira.org.br/evento/ninguem-poe-remendo-de-pano-novo-em-vestido-velho-3/
LOCATION:Grupo Espírita de Fraternidade Albino Teixeira\, Rua dos Aeroviários\, 240\, Bairro Liberdade\, Belo Horizonte\, MG\, 31270-330\, Brasil
CATEGORIES:Reunião Pública
ATTACH;FMTTYPE=image/jpeg:https://albinoteixeira.org.br/wp-content/uploads/2022/06/sede-scaled-e1656615992280.jpg
END:VEVENT
BEGIN:VEVENT
DTSTART;TZID=America/Sao_Paulo:20231102T200000
DTEND;TZID=America/Sao_Paulo:20231102T200000
DTSTAMP:20260425T134809
CREATED:20231030T143017Z
LAST-MODIFIED:20231030T143017Z
UID:8001-1698955200-1698955200@albinoteixeira.org.br
SUMMARY:A Deus tudo é possível
DESCRIPTION:
URL:https://albinoteixeira.org.br/evento/a-deus-tudo-e-possivel-5/
LOCATION:Grupo Espírita de Fraternidade Albino Teixeira\, Rua dos Aeroviários\, 240\, Bairro Liberdade\, Belo Horizonte\, MG\, 31270-330\, Brasil
CATEGORIES:Reunião Pública
ATTACH;FMTTYPE=image/jpeg:https://albinoteixeira.org.br/wp-content/uploads/2022/06/sede-scaled-e1656615992280.jpg
END:VEVENT
BEGIN:VEVENT
DTSTART;TZID=America/Sao_Paulo:20231103T150000
DTEND;TZID=America/Sao_Paulo:20231103T150000
DTSTAMP:20260425T134809
CREATED:20231030T143137Z
LAST-MODIFIED:20231030T143137Z
UID:8003-1699023600-1699023600@albinoteixeira.org.br
SUMMARY:Aquele que ama a Deus\, ama também a seu irmão
DESCRIPTION:
URL:https://albinoteixeira.org.br/evento/aquele-que-ama-a-deus-ama-tambem-a-seu-irmao/
LOCATION:Grupo Espírita de Fraternidade Albino Teixeira\, Rua dos Aeroviários\, 240\, Bairro Liberdade\, Belo Horizonte\, MG\, 31270-330\, Brasil
CATEGORIES:Reunião Pública
ATTACH;FMTTYPE=image/jpeg:https://albinoteixeira.org.br/wp-content/uploads/2022/06/sede-scaled-e1656615992280.jpg
END:VEVENT
BEGIN:VEVENT
DTSTART;TZID=America/Sao_Paulo:20231103T200000
DTEND;TZID=America/Sao_Paulo:20231103T200000
DTSTAMP:20260425T134809
CREATED:20231030T143321Z
LAST-MODIFIED:20231030T143321Z
UID:8005-1699041600-1699041600@albinoteixeira.org.br
SUMMARY:Princípios básicos: espírito
DESCRIPTION:
URL:https://albinoteixeira.org.br/evento/principios-basicos-espirito-4/
LOCATION:Grupo Espírita de Fraternidade Albino Teixeira\, Rua dos Aeroviários\, 240\, Bairro Liberdade\, Belo Horizonte\, MG\, 31270-330\, Brasil
CATEGORIES:Reunião Pública
ATTACH;FMTTYPE=image/jpeg:https://albinoteixeira.org.br/wp-content/uploads/2022/06/sede-scaled-e1656615992280.jpg
END:VEVENT
BEGIN:VEVENT
DTSTART;TZID=America/Sao_Paulo:20231104T100000
DTEND;TZID=America/Sao_Paulo:20231104T100000
DTSTAMP:20260425T134809
CREATED:20231030T143434Z
LAST-MODIFIED:20231030T143435Z
UID:8008-1699092000-1699092000@albinoteixeira.org.br
SUMMARY:Na palavra e na ação
DESCRIPTION:
URL:https://albinoteixeira.org.br/evento/na-palavra-e-na-acao-5/
LOCATION:Grupo Espírita de Fraternidade Albino Teixeira\, Rua dos Aeroviários\, 240\, Bairro Liberdade\, Belo Horizonte\, MG\, 31270-330\, Brasil
CATEGORIES:Reunião Pública
ATTACH;FMTTYPE=image/jpeg:https://albinoteixeira.org.br/wp-content/uploads/2022/06/sede-scaled-e1656615992280.jpg
END:VEVENT
BEGIN:VEVENT
DTSTART;TZID=America/Sao_Paulo:20231104T143000
DTEND;TZID=America/Sao_Paulo:20231104T143000
DTSTAMP:20260425T134809
CREATED:20231030T143550Z
LAST-MODIFIED:20231030T143550Z
UID:8010-1699108200-1699108200@albinoteixeira.org.br
SUMMARY:Parábola do trigo e do joio
DESCRIPTION:
URL:https://albinoteixeira.org.br/evento/parabola-do-trigo-e-do-joio-2/
LOCATION:Grupo Espírita de Fraternidade Albino Teixeira\, Rua dos Aeroviários\, 240\, Bairro Liberdade\, Belo Horizonte\, MG\, 31270-330\, Brasil
CATEGORIES:Reunião Pública
ATTACH;FMTTYPE=image/jpeg:https://albinoteixeira.org.br/wp-content/uploads/2022/06/sede-scaled-e1656615992280.jpg
END:VEVENT
BEGIN:VEVENT
DTSTART;TZID=America/Sao_Paulo:20231104T183000
DTEND;TZID=America/Sao_Paulo:20231104T183000
DTSTAMP:20260425T134809
CREATED:20231030T143710Z
LAST-MODIFIED:20231030T143710Z
UID:8012-1699122600-1699122600@albinoteixeira.org.br
SUMMARY:A transfiguração de Jesus
DESCRIPTION:
URL:https://albinoteixeira.org.br/evento/a-transfiguracao-de-jesus-3/
LOCATION:Grupo Espírita de Fraternidade Albino Teixeira\, Rua dos Aeroviários\, 240\, Bairro Liberdade\, Belo Horizonte\, MG\, 31270-330\, Brasil
CATEGORIES:Reunião Pública
ATTACH;FMTTYPE=image/jpeg:https://albinoteixeira.org.br/wp-content/uploads/2022/06/sede-scaled-e1656615992280.jpg
END:VEVENT
BEGIN:VEVENT
DTSTART;TZID=America/Sao_Paulo:20231105T100000
DTEND;TZID=America/Sao_Paulo:20231105T100000
DTSTAMP:20260425T134809
CREATED:20231030T143831Z
LAST-MODIFIED:20231030T143831Z
UID:8014-1699178400-1699178400@albinoteixeira.org.br
SUMMARY:Reflexões sobre Deus
DESCRIPTION:
URL:https://albinoteixeira.org.br/evento/reflexoes-sobre-deus/
LOCATION:Grupo Espírita de Fraternidade Albino Teixeira\, Rua dos Aeroviários\, 240\, Bairro Liberdade\, Belo Horizonte\, MG\, 31270-330\, Brasil
CATEGORIES:Reunião Pública
ATTACH;FMTTYPE=image/jpeg:https://albinoteixeira.org.br/wp-content/uploads/2022/06/sede-scaled-e1656615992280.jpg
END:VEVENT
BEGIN:VEVENT
DTSTART;TZID=America/Sao_Paulo:20231105T190000
DTEND;TZID=America/Sao_Paulo:20231105T190000
DTSTAMP:20260425T134809
CREATED:20231030T143951Z
LAST-MODIFIED:20231030T143951Z
UID:8016-1699210800-1699210800@albinoteixeira.org.br
SUMMARY:O perfeito amor lança fora o temor
DESCRIPTION:
URL:https://albinoteixeira.org.br/evento/o-perfeito-amor-lanca-fora-o-temor-3/
LOCATION:Plataforma Zoom (Senha: 123)
CATEGORIES:Online,Reunião Pública
ATTACH;FMTTYPE=image/jpeg:https://albinoteixeira.org.br/wp-content/uploads/2022/06/sede-scaled-e1656615992280.jpg
END:VEVENT
BEGIN:VEVENT
DTSTART;TZID=America/Sao_Paulo:20231106T200000
DTEND;TZID=America/Sao_Paulo:20231106T200000
DTSTAMP:20260425T134809
CREATED:20231030T144141Z
LAST-MODIFIED:20231030T144141Z
UID:8018-1699300800-1699300800@albinoteixeira.org.br
SUMMARY:Conhecimento espírita: alimento para as nossas almas
DESCRIPTION:
URL:https://albinoteixeira.org.br/evento/conhecimento-espirita-alimento-para-as-nossas-almas-9/
LOCATION:Grupo Espírita de Fraternidade Albino Teixeira\, Rua dos Aeroviários\, 240\, Bairro Liberdade\, Belo Horizonte\, MG\, 31270-330\, Brasil
CATEGORIES:Reunião Pública
ATTACH;FMTTYPE=image/jpeg:https://albinoteixeira.org.br/wp-content/uploads/2022/06/sede-scaled-e1656615992280.jpg
END:VEVENT
BEGIN:VEVENT
DTSTART;TZID=America/Sao_Paulo:20231107T200000
DTEND;TZID=America/Sao_Paulo:20231107T200000
DTSTAMP:20260425T134809
CREATED:20231030T144323Z
LAST-MODIFIED:20231030T144323Z
UID:8021-1699387200-1699387200@albinoteixeira.org.br
SUMMARY:Vivei em paz uns com os outros
DESCRIPTION:
URL:https://albinoteixeira.org.br/evento/vivei-em-paz-uns-com-os-outros-5/
LOCATION:Grupo Espírita de Fraternidade Albino Teixeira\, Rua dos Aeroviários\, 240\, Bairro Liberdade\, Belo Horizonte\, MG\, 31270-330\, Brasil
CATEGORIES:Reunião Pública
ATTACH;FMTTYPE=image/jpeg:https://albinoteixeira.org.br/wp-content/uploads/2022/06/sede-scaled-e1656615992280.jpg
END:VEVENT
BEGIN:VEVENT
DTSTART;TZID=America/Sao_Paulo:20231108T150000
DTEND;TZID=America/Sao_Paulo:20231108T150000
DTSTAMP:20260425T134809
CREATED:20231030T144539Z
LAST-MODIFIED:20231030T144539Z
UID:8023-1699455600-1699455600@albinoteixeira.org.br
SUMMARY:No estudo da salvação
DESCRIPTION:
URL:https://albinoteixeira.org.br/evento/no-estudo-da-salvacao-3/
LOCATION:Grupo Espírita de Fraternidade Albino Teixeira\, Rua dos Aeroviários\, 240\, Bairro Liberdade\, Belo Horizonte\, MG\, 31270-330\, Brasil
CATEGORIES:Reunião Pública
ATTACH;FMTTYPE=image/jpeg:https://albinoteixeira.org.br/wp-content/uploads/2022/06/sede-scaled-e1656615992280.jpg
END:VEVENT
BEGIN:VEVENT
DTSTART;TZID=America/Sao_Paulo:20231108T200000
DTEND;TZID=America/Sao_Paulo:20231108T200000
DTSTAMP:20260425T134809
CREATED:20231030T144730Z
LAST-MODIFIED:20231030T144730Z
UID:8025-1699473600-1699473600@albinoteixeira.org.br
SUMMARY:Examinai tudo. Retende o bem.
DESCRIPTION:
URL:https://albinoteixeira.org.br/evento/examinai-tudo-retende-o-bem-2/
LOCATION:Grupo Espírita de Fraternidade Albino Teixeira\, Rua dos Aeroviários\, 240\, Bairro Liberdade\, Belo Horizonte\, MG\, 31270-330\, Brasil
CATEGORIES:Reunião Pública
ATTACH;FMTTYPE=image/jpeg:https://albinoteixeira.org.br/wp-content/uploads/2022/06/sede-scaled-e1656615992280.jpg
END:VEVENT
BEGIN:VEVENT
DTSTART;TZID=America/Sao_Paulo:20231112T190000
DTEND;TZID=America/Sao_Paulo:20231112T190000
DTSTAMP:20260425T134809
CREATED:20231112T183115Z
LAST-MODIFIED:20231112T183122Z
UID:8029-1699815600-1699815600@albinoteixeira.org.br
SUMMARY:Amor
DESCRIPTION:
URL:https://albinoteixeira.org.br/evento/amor/
LOCATION:Plataforma Zoom (Senha: 123)
CATEGORIES:Online,Reunião Pública
ATTACH;FMTTYPE=image/jpeg:https://albinoteixeira.org.br/wp-content/uploads/2022/06/sede-scaled-e1656615992280.jpg
END:VEVENT
BEGIN:VEVENT
DTSTART;TZID=America/Sao_Paulo:20231113T200000
DTEND;TZID=America/Sao_Paulo:20231113T200000
DTSTAMP:20260425T134809
CREATED:20231112T183246Z
LAST-MODIFIED:20231112T183248Z
UID:8031-1699905600-1699905600@albinoteixeira.org.br
SUMMARY:E não vos conformeis com este mundo\, mas transformai-vos
DESCRIPTION:
URL:https://albinoteixeira.org.br/evento/e-nao-vos-conformeis-com-este-mundo-mas-transformai-vos-4/
LOCATION:Grupo Espírita de Fraternidade Albino Teixeira\, Rua dos Aeroviários\, 240\, Bairro Liberdade\, Belo Horizonte\, MG\, 31270-330\, Brasil
CATEGORIES:Reunião Pública
ATTACH;FMTTYPE=image/jpeg:https://albinoteixeira.org.br/wp-content/uploads/2022/06/sede-scaled-e1656615992280.jpg
END:VEVENT
BEGIN:VEVENT
DTSTART;TZID=America/Sao_Paulo:20231114T200000
DTEND;TZID=America/Sao_Paulo:20231114T200000
DTSTAMP:20260425T134809
CREATED:20231112T183423Z
LAST-MODIFIED:20231112T185045Z
UID:8033-1699992000-1699992000@albinoteixeira.org.br
SUMMARY:Quantos pães tendes?
DESCRIPTION:
URL:https://albinoteixeira.org.br/evento/quantos-paes-tendes-8/
LOCATION:Grupo Espírita de Fraternidade Albino Teixeira\, Rua dos Aeroviários\, 240\, Bairro Liberdade\, Belo Horizonte\, MG\, 31270-330\, Brasil
CATEGORIES:Reunião Pública
ATTACH;FMTTYPE=image/jpeg:https://albinoteixeira.org.br/wp-content/uploads/2022/06/sede-scaled-e1656615992280.jpg
END:VEVENT
BEGIN:VEVENT
DTSTART;TZID=America/Sao_Paulo:20231115T150000
DTEND;TZID=America/Sao_Paulo:20231115T150000
DTSTAMP:20260425T134809
CREATED:20231112T183631Z
LAST-MODIFIED:20231112T184018Z
UID:8035-1700060400-1700060400@albinoteixeira.org.br
SUMMARY:Por que vês o argueiro no olho de teu irmão?
DESCRIPTION:
URL:https://albinoteixeira.org.br/evento/por-que-ves-o-argueiro-no-olho-de-teu-irmao-2/
LOCATION:Grupo Espírita de Fraternidade Albino Teixeira\, Rua dos Aeroviários\, 240\, Bairro Liberdade\, Belo Horizonte\, MG\, 31270-330\, Brasil
CATEGORIES:Reunião Pública
ATTACH;FMTTYPE=image/jpeg:https://albinoteixeira.org.br/wp-content/uploads/2022/06/sede-scaled-e1656615992280.jpg
END:VEVENT
BEGIN:VEVENT
DTSTART;TZID=America/Sao_Paulo:20231115T200000
DTEND;TZID=America/Sao_Paulo:20231115T200000
DTSTAMP:20260425T134809
CREATED:20231112T183815Z
LAST-MODIFIED:20231112T183817Z
UID:8037-1700078400-1700078400@albinoteixeira.org.br
SUMMARY:Ansiedade na visão espírita
DESCRIPTION:
URL:https://albinoteixeira.org.br/evento/ansiedade-na-visao-espirita-2/
LOCATION:Grupo Espírita de Fraternidade Albino Teixeira\, Rua dos Aeroviários\, 240\, Bairro Liberdade\, Belo Horizonte\, MG\, 31270-330\, Brasil
CATEGORIES:Reunião Pública
ATTACH;FMTTYPE=image/jpeg:https://albinoteixeira.org.br/wp-content/uploads/2022/06/sede-scaled-e1656615992280.jpg
END:VEVENT
BEGIN:VEVENT
DTSTART;TZID=America/Sao_Paulo:20231125T100000
DTEND;TZID=America/Sao_Paulo:20231125T100000
DTSTAMP:20260425T134809
CREATED:20231125T093407Z
LAST-MODIFIED:20231125T093408Z
UID:8041-1700906400-1700906400@albinoteixeira.org.br
SUMMARY:Perdão\, remédio santo
DESCRIPTION:
URL:https://albinoteixeira.org.br/evento/perdao-remedio-santo/
LOCATION:Grupo Espírita de Fraternidade Albino Teixeira\, Rua dos Aeroviários\, 240\, Bairro Liberdade\, Belo Horizonte\, MG\, 31270-330\, Brasil
CATEGORIES:Reunião Pública
ATTACH;FMTTYPE=image/jpeg:https://albinoteixeira.org.br/wp-content/uploads/2022/06/sede-scaled-e1656615992280.jpg
END:VEVENT
END:VCALENDAR