BEGIN:VCALENDAR
VERSION:2.0
PRODID:-//Gefrater - ECPv6.15.20//NONSGML v1.0//EN
CALSCALE:GREGORIAN
METHOD:PUBLISH
X-WR-CALNAME:Gefrater
X-ORIGINAL-URL:https://albinoteixeira.org.br
X-WR-CALDESC:Eventos para Gefrater
REFRESH-INTERVAL;VALUE=DURATION:PT1H
X-Robots-Tag:noindex
X-PUBLISHED-TTL:PT1H
BEGIN:VTIMEZONE
TZID:America/Sao_Paulo
BEGIN:STANDARD
TZOFFSETFROM:-0300
TZOFFSETTO:-0300
TZNAME:-03
DTSTART:20230101T000000
END:STANDARD
END:VTIMEZONE
BEGIN:VEVENT
DTSTART;TZID=America/Sao_Paulo:20240203T100000
DTEND;TZID=America/Sao_Paulo:20240203T100000
DTSTAMP:20260425T194538
CREATED:20240131T122732Z
LAST-MODIFIED:20240131T122732Z
UID:8182-1706954400-1706954400@albinoteixeira.org.br
SUMMARY:Na luz da compaixão
DESCRIPTION:
URL:https://albinoteixeira.org.br/evento/na-luz-da-compaixao-4/
LOCATION:MG
CATEGORIES:Reunião Pública
ATTACH;FMTTYPE=image/jpeg:https://albinoteixeira.org.br/wp-content/uploads/2022/06/sede-scaled-e1656615992280.jpg
END:VEVENT
BEGIN:VEVENT
DTSTART;TZID=America/Sao_Paulo:20240203T143000
DTEND;TZID=America/Sao_Paulo:20240203T143000
DTSTAMP:20260425T194538
CREATED:20240131T122831Z
LAST-MODIFIED:20240131T122831Z
UID:8184-1706970600-1706970600@albinoteixeira.org.br
SUMMARY:Bom ânimo
DESCRIPTION:
URL:https://albinoteixeira.org.br/evento/bom-animo-11/
LOCATION:Grupo Espírita de Fraternidade Albino Teixeira\, Rua dos Aeroviários\, 240\, Bairro Liberdade\, Belo Horizonte\, MG\, 31270-330\, Brasil
CATEGORIES:Reunião Pública
ATTACH;FMTTYPE=image/jpeg:https://albinoteixeira.org.br/wp-content/uploads/2022/06/sede-scaled-e1656615992280.jpg
END:VEVENT
BEGIN:VEVENT
DTSTART;TZID=America/Sao_Paulo:20240204T100000
DTEND;TZID=America/Sao_Paulo:20240204T100000
DTSTAMP:20260425T194538
CREATED:20240131T123006Z
LAST-MODIFIED:20240131T123006Z
UID:8186-1707040800-1707040800@albinoteixeira.org.br
SUMMARY:Oração e cooperação
DESCRIPTION:
URL:https://albinoteixeira.org.br/evento/oracao-e-cooperacao/
LOCATION:Grupo Espírita de Fraternidade Albino Teixeira\, Rua dos Aeroviários\, 240\, Bairro Liberdade\, Belo Horizonte\, MG\, 31270-330\, Brasil
CATEGORIES:Reunião Pública
ATTACH;FMTTYPE=image/jpeg:https://albinoteixeira.org.br/wp-content/uploads/2022/06/sede-scaled-e1656615992280.jpg
END:VEVENT
BEGIN:VEVENT
DTSTART;TZID=America/Sao_Paulo:20240204T190000
DTEND;TZID=America/Sao_Paulo:20240204T190000
DTSTAMP:20260425T194538
CREATED:20240131T123212Z
LAST-MODIFIED:20240131T123212Z
UID:8188-1707073200-1707073200@albinoteixeira.org.br
SUMMARY:Onde estiver seu tesouro\, aí estará seu coração
DESCRIPTION:
URL:https://albinoteixeira.org.br/evento/onde-estiver-seu-tesouro-ai-estara-seu-coracao/
LOCATION:Plataforma Zoom (Senha: 123)
CATEGORIES:Online,Reunião Pública
ATTACH;FMTTYPE=image/jpeg:https://albinoteixeira.org.br/wp-content/uploads/2022/06/sede-scaled-e1656615992280.jpg
END:VEVENT
BEGIN:VEVENT
DTSTART;TZID=America/Sao_Paulo:20240205T200000
DTEND;TZID=America/Sao_Paulo:20240205T200000
DTSTAMP:20260425T194538
CREATED:20240131T123323Z
LAST-MODIFIED:20240131T123324Z
UID:8190-1707163200-1707163200@albinoteixeira.org.br
SUMMARY:Cristo em casa
DESCRIPTION:
URL:https://albinoteixeira.org.br/evento/cristo-em-casa-2/
LOCATION:Grupo Espírita de Fraternidade Albino Teixeira\, Rua dos Aeroviários\, 240\, Bairro Liberdade\, Belo Horizonte\, MG\, 31270-330\, Brasil
CATEGORIES:Reunião Pública
ATTACH;FMTTYPE=image/jpeg:https://albinoteixeira.org.br/wp-content/uploads/2022/06/sede-scaled-e1656615992280.jpg
END:VEVENT
BEGIN:VEVENT
DTSTART;TZID=America/Sao_Paulo:20240206T200000
DTEND;TZID=America/Sao_Paulo:20240206T200000
DTSTAMP:20260425T194538
CREATED:20240131T123432Z
LAST-MODIFIED:20240131T123432Z
UID:8192-1707249600-1707249600@albinoteixeira.org.br
SUMMARY:A oração dominical
DESCRIPTION:
URL:https://albinoteixeira.org.br/evento/a-oracao-dominical-5/
LOCATION:Grupo Espírita de Fraternidade Albino Teixeira\, Rua dos Aeroviários\, 240\, Bairro Liberdade\, Belo Horizonte\, MG\, 31270-330\, Brasil
CATEGORIES:Reunião Pública
ATTACH;FMTTYPE=image/jpeg:https://albinoteixeira.org.br/wp-content/uploads/2022/06/sede-scaled-e1656615992280.jpg
END:VEVENT
BEGIN:VEVENT
DTSTART;TZID=America/Sao_Paulo:20240207T150000
DTEND;TZID=America/Sao_Paulo:20240207T150000
DTSTAMP:20260425T194538
CREATED:20240131T123550Z
LAST-MODIFIED:20240131T123550Z
UID:8194-1707318000-1707318000@albinoteixeira.org.br
SUMMARY:Maria de Magdala
DESCRIPTION:
URL:https://albinoteixeira.org.br/evento/maria-de-magdala-6/
LOCATION:Grupo Espírita de Fraternidade Albino Teixeira\, Rua dos Aeroviários\, 240\, Bairro Liberdade\, Belo Horizonte\, MG\, 31270-330\, Brasil
CATEGORIES:Reunião Pública
ATTACH;FMTTYPE=image/jpeg:https://albinoteixeira.org.br/wp-content/uploads/2022/06/sede-scaled-e1656615992280.jpg
END:VEVENT
BEGIN:VEVENT
DTSTART;TZID=America/Sao_Paulo:20240207T200000
DTEND;TZID=America/Sao_Paulo:20240207T200000
DTSTAMP:20260425T194538
CREATED:20240131T123705Z
LAST-MODIFIED:20240131T123706Z
UID:8196-1707336000-1707336000@albinoteixeira.org.br
SUMMARY:Cresçamos para o bem
DESCRIPTION:
URL:https://albinoteixeira.org.br/evento/crescamos-para-o-bem/
LOCATION:Grupo Espírita de Fraternidade Albino Teixeira\, Rua dos Aeroviários\, 240\, Bairro Liberdade\, Belo Horizonte\, MG\, 31270-330\, Brasil
CATEGORIES:Reunião Pública
ATTACH;FMTTYPE=image/jpeg:https://albinoteixeira.org.br/wp-content/uploads/2022/06/sede-scaled-e1656615992280.jpg
END:VEVENT
BEGIN:VEVENT
DTSTART;TZID=America/Sao_Paulo:20240216T150000
DTEND;TZID=America/Sao_Paulo:20240216T150000
DTSTAMP:20260425T194538
CREATED:20240219T133115Z
LAST-MODIFIED:20240219T133116Z
UID:8200-1708095600-1708095600@albinoteixeira.org.br
SUMMARY:Meu reino não é deste mundo
DESCRIPTION:
URL:https://albinoteixeira.org.br/evento/meu-reino-nao-e-deste-mundo-11/
LOCATION:Grupo Espírita de Fraternidade Albino Teixeira\, Rua dos Aeroviários\, 240\, Bairro Liberdade\, Belo Horizonte\, MG\, 31270-330\, Brasil
CATEGORIES:Reunião Pública
ATTACH;FMTTYPE=image/jpeg:https://albinoteixeira.org.br/wp-content/uploads/2022/06/sede-scaled-e1656615992280.jpg
END:VEVENT
BEGIN:VEVENT
DTSTART;TZID=America/Sao_Paulo:20240216T200000
DTEND;TZID=America/Sao_Paulo:20240216T200000
DTSTAMP:20260425T194538
CREATED:20240219T133232Z
LAST-MODIFIED:20240219T133232Z
UID:8202-1708113600-1708113600@albinoteixeira.org.br
SUMMARY:Obsessão espiritual
DESCRIPTION:
URL:https://albinoteixeira.org.br/evento/obsessao-espiritual-6/
LOCATION:Grupo Espírita de Fraternidade Albino Teixeira\, Rua dos Aeroviários\, 240\, Bairro Liberdade\, Belo Horizonte\, MG\, 31270-330\, Brasil
CATEGORIES:Reunião Pública
ATTACH;FMTTYPE=image/jpeg:https://albinoteixeira.org.br/wp-content/uploads/2022/06/sede-scaled-e1656615992280.jpg
END:VEVENT
BEGIN:VEVENT
DTSTART;TZID=America/Sao_Paulo:20240217T100000
DTEND;TZID=America/Sao_Paulo:20240217T100000
DTSTAMP:20260425T194538
CREATED:20240219T133339Z
LAST-MODIFIED:20240219T133339Z
UID:8204-1708164000-1708164000@albinoteixeira.org.br
SUMMARY:Em louvor do equilíbrio
DESCRIPTION:
URL:https://albinoteixeira.org.br/evento/em-louvor-do-equilibrio-4/
LOCATION:Grupo Espírita de Fraternidade Albino Teixeira\, Rua dos Aeroviários\, 240\, Bairro Liberdade\, Belo Horizonte\, MG\, 31270-330\, Brasil
CATEGORIES:Reunião Pública
ATTACH;FMTTYPE=image/jpeg:https://albinoteixeira.org.br/wp-content/uploads/2022/06/sede-scaled-e1656615992280.jpg
END:VEVENT
BEGIN:VEVENT
DTSTART;TZID=America/Sao_Paulo:20240217T143000
DTEND;TZID=America/Sao_Paulo:20240217T143000
DTSTAMP:20260425T194538
CREATED:20240219T133610Z
LAST-MODIFIED:20240219T133610Z
UID:8206-1708180200-1708180200@albinoteixeira.org.br
SUMMARY:Se teus olhos forem bons\, teu corpo terá luz
DESCRIPTION:
URL:https://albinoteixeira.org.br/evento/se-teus-olhos-forem-bons-teu-corpo-tera-luz/
LOCATION:Grupo Espírita de Fraternidade Albino Teixeira\, Rua dos Aeroviários\, 240\, Bairro Liberdade\, Belo Horizonte\, MG\, 31270-330\, Brasil
CATEGORIES:Reunião Pública
ATTACH;FMTTYPE=image/jpeg:https://albinoteixeira.org.br/wp-content/uploads/2022/06/sede-scaled-e1656615992280.jpg
END:VEVENT
BEGIN:VEVENT
DTSTART;TZID=America/Sao_Paulo:20240218T100000
DTEND;TZID=America/Sao_Paulo:20240218T100000
DTSTAMP:20260425T194538
CREATED:20240219T133804Z
LAST-MODIFIED:20240219T133804Z
UID:8208-1708250400-1708250400@albinoteixeira.org.br
SUMMARY:No roteiro da fé
DESCRIPTION:
URL:https://albinoteixeira.org.br/evento/no-roteiro-da-fe/
LOCATION:Grupo Espírita de Fraternidade Albino Teixeira\, Rua dos Aeroviários\, 240\, Bairro Liberdade\, Belo Horizonte\, MG\, 31270-330\, Brasil
CATEGORIES:Reunião Pública
ATTACH;FMTTYPE=image/jpeg:https://albinoteixeira.org.br/wp-content/uploads/2022/06/sede-scaled-e1656615992280.jpg
END:VEVENT
BEGIN:VEVENT
DTSTART;TZID=America/Sao_Paulo:20240218T190000
DTEND;TZID=America/Sao_Paulo:20240218T190000
DTSTAMP:20260425T194538
CREATED:20240219T133958Z
LAST-MODIFIED:20240219T133958Z
UID:8210-1708282800-1708282800@albinoteixeira.org.br
SUMMARY:Pecado e punição
DESCRIPTION:
URL:https://albinoteixeira.org.br/evento/pecado-e-punicao-6/
LOCATION:Plataforma Zoom (Senha: 123)
CATEGORIES:Online,Reunião Pública
ATTACH;FMTTYPE=image/jpeg:https://albinoteixeira.org.br/wp-content/uploads/2022/06/sede-scaled-e1656615992280.jpg
END:VEVENT
BEGIN:VEVENT
DTSTART;TZID=America/Sao_Paulo:20240219T200000
DTEND;TZID=America/Sao_Paulo:20240219T200000
DTSTAMP:20260425T194538
CREATED:20240219T134125Z
LAST-MODIFIED:20240219T134125Z
UID:8212-1708372800-1708372800@albinoteixeira.org.br
SUMMARY:O sermão do monte
DESCRIPTION:
URL:https://albinoteixeira.org.br/evento/o-sermao-do-monte-7/
LOCATION:Grupo Espírita de Fraternidade Albino Teixeira\, Rua dos Aeroviários\, 240\, Bairro Liberdade\, Belo Horizonte\, MG\, 31270-330\, Brasil
CATEGORIES:Reunião Pública
ATTACH;FMTTYPE=image/jpeg:https://albinoteixeira.org.br/wp-content/uploads/2022/06/sede-scaled-e1656615992280.jpg
END:VEVENT
BEGIN:VEVENT
DTSTART;TZID=America/Sao_Paulo:20240220T200000
DTEND;TZID=America/Sao_Paulo:20240220T200000
DTSTAMP:20260425T194538
CREATED:20240219T134537Z
LAST-MODIFIED:20240219T134537Z
UID:8214-1708459200-1708459200@albinoteixeira.org.br
SUMMARY:Jesus acalma a tempestade
DESCRIPTION:
URL:https://albinoteixeira.org.br/evento/jesus-acalma-a-tempestade-6/
LOCATION:Grupo Espírita de Fraternidade Albino Teixeira\, Rua dos Aeroviários\, 240\, Bairro Liberdade\, Belo Horizonte\, MG\, 31270-330\, Brasil
CATEGORIES:Reunião Pública
ATTACH;FMTTYPE=image/jpeg:https://albinoteixeira.org.br/wp-content/uploads/2022/06/sede-scaled-e1656615992280.jpg
END:VEVENT
BEGIN:VEVENT
DTSTART;TZID=America/Sao_Paulo:20240221T150000
DTEND;TZID=America/Sao_Paulo:20240221T150000
DTSTAMP:20260425T194538
CREATED:20240219T134830Z
LAST-MODIFIED:20240219T135516Z
UID:8216-1708527600-1708527600@albinoteixeira.org.br
SUMMARY:Sugestão
DESCRIPTION:
URL:https://albinoteixeira.org.br/evento/sugestao-2/
LOCATION:Grupo Espírita de Fraternidade Albino Teixeira\, Rua dos Aeroviários\, 240\, Bairro Liberdade\, Belo Horizonte\, MG\, 31270-330\, Brasil
CATEGORIES:Reunião Pública
ATTACH;FMTTYPE=image/jpeg:https://albinoteixeira.org.br/wp-content/uploads/2022/06/sede-scaled-e1656615992280.jpg
END:VEVENT
BEGIN:VEVENT
DTSTART;TZID=America/Sao_Paulo:20240221T200000
DTEND;TZID=America/Sao_Paulo:20240221T200000
DTSTAMP:20260425T194538
CREATED:20240219T135003Z
LAST-MODIFIED:20240219T135556Z
UID:8218-1708545600-1708545600@albinoteixeira.org.br
SUMMARY:A quaresma na visão espiritual
DESCRIPTION:
URL:https://albinoteixeira.org.br/evento/a-quaresma-na-visao-espiritual/
LOCATION:Grupo Espírita de Fraternidade Albino Teixeira\, Rua dos Aeroviários\, 240\, Bairro Liberdade\, Belo Horizonte\, MG\, 31270-330\, Brasil
CATEGORIES:Reunião Pública
ATTACH;FMTTYPE=image/jpeg:https://albinoteixeira.org.br/wp-content/uploads/2022/06/sede-scaled-e1656615992280.jpg
END:VEVENT
BEGIN:VEVENT
DTSTART;TZID=America/Sao_Paulo:20240222T200000
DTEND;TZID=America/Sao_Paulo:20240222T200000
DTSTAMP:20260425T194538
CREATED:20240219T135405Z
LAST-MODIFIED:20240219T135405Z
UID:8220-1708632000-1708632000@albinoteixeira.org.br
SUMMARY:Educação
DESCRIPTION:
URL:https://albinoteixeira.org.br/evento/educacao-2/
LOCATION:Grupo Espírita de Fraternidade Albino Teixeira\, Rua dos Aeroviários\, 240\, Bairro Liberdade\, Belo Horizonte\, MG\, 31270-330\, Brasil
CATEGORIES:Reunião Pública
ATTACH;FMTTYPE=image/jpeg:https://albinoteixeira.org.br/wp-content/uploads/2022/06/sede-scaled-e1656615992280.jpg
END:VEVENT
BEGIN:VEVENT
DTSTART;TZID=America/Sao_Paulo:20240223T150000
DTEND;TZID=America/Sao_Paulo:20240223T150000
DTSTAMP:20260425T194538
CREATED:20240219T135716Z
LAST-MODIFIED:20240219T135716Z
UID:8223-1708700400-1708700400@albinoteixeira.org.br
SUMMARY:Princípios básicos: Jesus
DESCRIPTION:
URL:https://albinoteixeira.org.br/evento/principios-basicos-jesus-6/
LOCATION:Grupo Espírita de Fraternidade Albino Teixeira\, Rua dos Aeroviários\, 240\, Bairro Liberdade\, Belo Horizonte\, MG\, 31270-330\, Brasil
CATEGORIES:Reunião Pública
ATTACH;FMTTYPE=image/jpeg:https://albinoteixeira.org.br/wp-content/uploads/2022/06/sede-scaled-e1656615992280.jpg
END:VEVENT
BEGIN:VEVENT
DTSTART;TZID=America/Sao_Paulo:20240223T200000
DTEND;TZID=America/Sao_Paulo:20240223T200000
DTSTAMP:20260425T194538
CREATED:20240219T140037Z
LAST-MODIFIED:20240219T140037Z
UID:8225-1708718400-1708718400@albinoteixeira.org.br
SUMMARY:A oração do Horto
DESCRIPTION:
URL:https://albinoteixeira.org.br/evento/a-oracao-do-horto-2/
LOCATION:Grupo Espírita de Fraternidade Albino Teixeira\, Rua dos Aeroviários\, 240\, Bairro Liberdade\, Belo Horizonte\, MG\, 31270-330\, Brasil
CATEGORIES:Reunião Pública
ATTACH;FMTTYPE=image/jpeg:https://albinoteixeira.org.br/wp-content/uploads/2022/06/sede-scaled-e1656615992280.jpg
END:VEVENT
BEGIN:VEVENT
DTSTART;TZID=America/Sao_Paulo:20240224T100000
DTEND;TZID=America/Sao_Paulo:20240224T100000
DTSTAMP:20260425T194538
CREATED:20240219T140211Z
LAST-MODIFIED:20240219T140211Z
UID:8227-1708768800-1708768800@albinoteixeira.org.br
SUMMARY:Não vim trazer a paz\, mas espada
DESCRIPTION:
URL:https://albinoteixeira.org.br/evento/nao-vim-trazer-a-paz-mas-espada-5/
LOCATION:Grupo Espírita de Fraternidade Albino Teixeira\, Rua dos Aeroviários\, 240\, Bairro Liberdade\, Belo Horizonte\, MG\, 31270-330\, Brasil
CATEGORIES:Reunião Pública
ATTACH;FMTTYPE=image/jpeg:https://albinoteixeira.org.br/wp-content/uploads/2022/06/sede-scaled-e1656615992280.jpg
END:VEVENT
BEGIN:VEVENT
DTSTART;TZID=America/Sao_Paulo:20240224T143000
DTEND;TZID=America/Sao_Paulo:20240224T143000
DTSTAMP:20260425T194538
CREATED:20240219T140415Z
LAST-MODIFIED:20240219T140415Z
UID:8229-1708785000-1708785000@albinoteixeira.org.br
SUMMARY:Para vencer o mal
DESCRIPTION:
URL:https://albinoteixeira.org.br/evento/para-vencer-o-mal/
LOCATION:Grupo Espírita de Fraternidade Albino Teixeira\, Rua dos Aeroviários\, 240\, Bairro Liberdade\, Belo Horizonte\, MG\, 31270-330\, Brasil
CATEGORIES:Reunião Pública
ATTACH;FMTTYPE=image/jpeg:https://albinoteixeira.org.br/wp-content/uploads/2022/06/sede-scaled-e1656615992280.jpg
END:VEVENT
BEGIN:VEVENT
DTSTART;TZID=America/Sao_Paulo:20240225T100000
DTEND;TZID=America/Sao_Paulo:20240225T100000
DTSTAMP:20260425T194538
CREATED:20240219T140602Z
LAST-MODIFIED:20240219T140602Z
UID:8231-1708855200-1708855200@albinoteixeira.org.br
SUMMARY:No rumo do amanhã
DESCRIPTION:
URL:https://albinoteixeira.org.br/evento/no-rumo-do-amanha/
LOCATION:Grupo Espírita de Fraternidade Albino Teixeira\, Rua dos Aeroviários\, 240\, Bairro Liberdade\, Belo Horizonte\, MG\, 31270-330\, Brasil
CATEGORIES:Reunião Pública
ATTACH;FMTTYPE=image/jpeg:https://albinoteixeira.org.br/wp-content/uploads/2022/06/sede-scaled-e1656615992280.jpg
END:VEVENT
BEGIN:VEVENT
DTSTART;TZID=America/Sao_Paulo:20240225T190000
DTEND;TZID=America/Sao_Paulo:20240225T190000
DTSTAMP:20260425T194538
CREATED:20240219T140815Z
LAST-MODIFIED:20240219T140815Z
UID:8233-1708887600-1708887600@albinoteixeira.org.br
SUMMARY:Associação
DESCRIPTION:
URL:https://albinoteixeira.org.br/evento/associacao-2/
LOCATION:Plataforma Zoom (Senha: 123)
CATEGORIES:Online,Reunião Pública
ATTACH;FMTTYPE=image/jpeg:https://albinoteixeira.org.br/wp-content/uploads/2022/06/sede-scaled-e1656615992280.jpg
END:VEVENT
BEGIN:VEVENT
DTSTART;TZID=America/Sao_Paulo:20240226T200000
DTEND;TZID=America/Sao_Paulo:20240226T200000
DTSTAMP:20260425T194538
CREATED:20240219T140926Z
LAST-MODIFIED:20240219T140926Z
UID:8235-1708977600-1708977600@albinoteixeira.org.br
SUMMARY:Caridade: cura da alma
DESCRIPTION:
URL:https://albinoteixeira.org.br/evento/caridade-cura-da-alma-8/
LOCATION:Grupo Espírita de Fraternidade Albino Teixeira\, Rua dos Aeroviários\, 240\, Bairro Liberdade\, Belo Horizonte\, MG\, 31270-330\, Brasil
CATEGORIES:Reunião Pública
ATTACH;FMTTYPE=image/jpeg:https://albinoteixeira.org.br/wp-content/uploads/2022/06/sede-scaled-e1656615992280.jpg
END:VEVENT
BEGIN:VEVENT
DTSTART;TZID=America/Sao_Paulo:20240227T200000
DTEND;TZID=America/Sao_Paulo:20240227T200000
DTSTAMP:20260425T194538
CREATED:20240219T141045Z
LAST-MODIFIED:20240219T141046Z
UID:8237-1709064000-1709064000@albinoteixeira.org.br
SUMMARY:Trabalho
DESCRIPTION:
URL:https://albinoteixeira.org.br/evento/trabalho-2/
LOCATION:Grupo Espírita de Fraternidade Albino Teixeira\, Rua dos Aeroviários\, 240\, Bairro Liberdade\, Belo Horizonte\, MG\, 31270-330\, Brasil
CATEGORIES:Reunião Pública
ATTACH;FMTTYPE=image/jpeg:https://albinoteixeira.org.br/wp-content/uploads/2022/06/sede-scaled-e1656615992280.jpg
END:VEVENT
BEGIN:VEVENT
DTSTART;TZID=America/Sao_Paulo:20240228T200000
DTEND;TZID=America/Sao_Paulo:20240228T200000
DTSTAMP:20260425T194538
CREATED:20240219T141215Z
LAST-MODIFIED:20240219T141215Z
UID:8239-1709150400-1709150400@albinoteixeira.org.br
SUMMARY:Perfeição Moral: conhecimento de si mesmo
DESCRIPTION:
URL:https://albinoteixeira.org.br/evento/perfeicao-moral-conhecimento-de-si-mesmo-3/
LOCATION:Grupo Espírita de Fraternidade Albino Teixeira\, Rua dos Aeroviários\, 240\, Bairro Liberdade\, Belo Horizonte\, MG\, 31270-330\, Brasil
CATEGORIES:Reunião Pública
ATTACH;FMTTYPE=image/jpeg:https://albinoteixeira.org.br/wp-content/uploads/2022/06/sede-scaled-e1656615992280.jpg
END:VEVENT
BEGIN:VEVENT
DTSTART;TZID=America/Sao_Paulo:20240229T200000
DTEND;TZID=America/Sao_Paulo:20240229T200000
DTSTAMP:20260425T194538
CREATED:20240219T141326Z
LAST-MODIFIED:20240219T141326Z
UID:8241-1709236800-1709236800@albinoteixeira.org.br
SUMMARY:Parábola dos talentos
DESCRIPTION:
URL:https://albinoteixeira.org.br/evento/parabola-dos-talentos-4/
LOCATION:Grupo Espírita de Fraternidade Albino Teixeira\, Rua dos Aeroviários\, 240\, Bairro Liberdade\, Belo Horizonte\, MG\, 31270-330\, Brasil
CATEGORIES:Reunião Pública
ATTACH;FMTTYPE=image/jpeg:https://albinoteixeira.org.br/wp-content/uploads/2022/06/sede-scaled-e1656615992280.jpg
END:VEVENT
BEGIN:VEVENT
DTSTART;TZID=America/Sao_Paulo:20240301T150000
DTEND;TZID=America/Sao_Paulo:20240301T150000
DTSTAMP:20260425T194538
CREATED:20240303T154729Z
LAST-MODIFIED:20240303T154758Z
UID:8245-1709305200-1709305200@albinoteixeira.org.br
SUMMARY:O banquete dos publicanos
DESCRIPTION: 
URL:https://albinoteixeira.org.br/evento/o-banquete-dos-publicanos-3/
LOCATION:Grupo Espírita de Fraternidade Albino Teixeira\, Rua dos Aeroviários\, 240\, Bairro Liberdade\, Belo Horizonte\, MG\, 31270-330\, Brasil
CATEGORIES:Reunião Pública
ATTACH;FMTTYPE=image/jpeg:https://albinoteixeira.org.br/wp-content/uploads/2022/06/sede-scaled-e1656615992280.jpg
END:VEVENT
END:VCALENDAR