BEGIN:VCALENDAR
VERSION:2.0
PRODID:-//Gefrater - ECPv6.15.20//NONSGML v1.0//EN
CALSCALE:GREGORIAN
METHOD:PUBLISH
X-WR-CALNAME:Gefrater
X-ORIGINAL-URL:https://albinoteixeira.org.br
X-WR-CALDESC:Eventos para Gefrater
REFRESH-INTERVAL;VALUE=DURATION:PT1H
X-Robots-Tag:noindex
X-PUBLISHED-TTL:PT1H
BEGIN:VTIMEZONE
TZID:America/Sao_Paulo
BEGIN:STANDARD
TZOFFSETFROM:-0300
TZOFFSETTO:-0300
TZNAME:-03
DTSTART:20230101T000000
END:STANDARD
END:VTIMEZONE
BEGIN:VEVENT
DTSTART;TZID=America/Sao_Paulo:20240226T200000
DTEND;TZID=America/Sao_Paulo:20240226T200000
DTSTAMP:20260425T224933
CREATED:20240219T140926Z
LAST-MODIFIED:20240219T140926Z
UID:8235-1708977600-1708977600@albinoteixeira.org.br
SUMMARY:Caridade: cura da alma
DESCRIPTION:
URL:https://albinoteixeira.org.br/evento/caridade-cura-da-alma-8/
LOCATION:Grupo Espírita de Fraternidade Albino Teixeira\, Rua dos Aeroviários\, 240\, Bairro Liberdade\, Belo Horizonte\, MG\, 31270-330\, Brasil
CATEGORIES:Reunião Pública
ATTACH;FMTTYPE=image/jpeg:https://albinoteixeira.org.br/wp-content/uploads/2022/06/sede-scaled-e1656615992280.jpg
END:VEVENT
BEGIN:VEVENT
DTSTART;TZID=America/Sao_Paulo:20240227T200000
DTEND;TZID=America/Sao_Paulo:20240227T200000
DTSTAMP:20260425T224933
CREATED:20240219T141045Z
LAST-MODIFIED:20240219T141046Z
UID:8237-1709064000-1709064000@albinoteixeira.org.br
SUMMARY:Trabalho
DESCRIPTION:
URL:https://albinoteixeira.org.br/evento/trabalho-2/
LOCATION:Grupo Espírita de Fraternidade Albino Teixeira\, Rua dos Aeroviários\, 240\, Bairro Liberdade\, Belo Horizonte\, MG\, 31270-330\, Brasil
CATEGORIES:Reunião Pública
ATTACH;FMTTYPE=image/jpeg:https://albinoteixeira.org.br/wp-content/uploads/2022/06/sede-scaled-e1656615992280.jpg
END:VEVENT
BEGIN:VEVENT
DTSTART;TZID=America/Sao_Paulo:20240228T200000
DTEND;TZID=America/Sao_Paulo:20240228T200000
DTSTAMP:20260425T224933
CREATED:20240219T141215Z
LAST-MODIFIED:20240219T141215Z
UID:8239-1709150400-1709150400@albinoteixeira.org.br
SUMMARY:Perfeição Moral: conhecimento de si mesmo
DESCRIPTION:
URL:https://albinoteixeira.org.br/evento/perfeicao-moral-conhecimento-de-si-mesmo-3/
LOCATION:Grupo Espírita de Fraternidade Albino Teixeira\, Rua dos Aeroviários\, 240\, Bairro Liberdade\, Belo Horizonte\, MG\, 31270-330\, Brasil
CATEGORIES:Reunião Pública
ATTACH;FMTTYPE=image/jpeg:https://albinoteixeira.org.br/wp-content/uploads/2022/06/sede-scaled-e1656615992280.jpg
END:VEVENT
BEGIN:VEVENT
DTSTART;TZID=America/Sao_Paulo:20240229T200000
DTEND;TZID=America/Sao_Paulo:20240229T200000
DTSTAMP:20260425T224933
CREATED:20240219T141326Z
LAST-MODIFIED:20240219T141326Z
UID:8241-1709236800-1709236800@albinoteixeira.org.br
SUMMARY:Parábola dos talentos
DESCRIPTION:
URL:https://albinoteixeira.org.br/evento/parabola-dos-talentos-4/
LOCATION:Grupo Espírita de Fraternidade Albino Teixeira\, Rua dos Aeroviários\, 240\, Bairro Liberdade\, Belo Horizonte\, MG\, 31270-330\, Brasil
CATEGORIES:Reunião Pública
ATTACH;FMTTYPE=image/jpeg:https://albinoteixeira.org.br/wp-content/uploads/2022/06/sede-scaled-e1656615992280.jpg
END:VEVENT
BEGIN:VEVENT
DTSTART;TZID=America/Sao_Paulo:20240301T150000
DTEND;TZID=America/Sao_Paulo:20240301T150000
DTSTAMP:20260425T224933
CREATED:20240303T154729Z
LAST-MODIFIED:20240303T154758Z
UID:8245-1709305200-1709305200@albinoteixeira.org.br
SUMMARY:O banquete dos publicanos
DESCRIPTION: 
URL:https://albinoteixeira.org.br/evento/o-banquete-dos-publicanos-3/
LOCATION:Grupo Espírita de Fraternidade Albino Teixeira\, Rua dos Aeroviários\, 240\, Bairro Liberdade\, Belo Horizonte\, MG\, 31270-330\, Brasil
CATEGORIES:Reunião Pública
ATTACH;FMTTYPE=image/jpeg:https://albinoteixeira.org.br/wp-content/uploads/2022/06/sede-scaled-e1656615992280.jpg
END:VEVENT
BEGIN:VEVENT
DTSTART;TZID=America/Sao_Paulo:20240301T200000
DTEND;TZID=America/Sao_Paulo:20240301T200000
DTSTAMP:20260425T224933
CREATED:20240303T154913Z
LAST-MODIFIED:20240303T154913Z
UID:8248-1709323200-1709323200@albinoteixeira.org.br
SUMMARY:O cego de Betsaida
DESCRIPTION:
URL:https://albinoteixeira.org.br/evento/o-cego-de-betsaida-4/
LOCATION:Grupo Espírita de Fraternidade Albino Teixeira\, Rua dos Aeroviários\, 240\, Bairro Liberdade\, Belo Horizonte\, MG\, 31270-330\, Brasil
CATEGORIES:Reunião Pública
ATTACH;FMTTYPE=image/jpeg:https://albinoteixeira.org.br/wp-content/uploads/2022/06/sede-scaled-e1656615992280.jpg
END:VEVENT
BEGIN:VEVENT
DTSTART;TZID=America/Sao_Paulo:20240302T100000
DTEND;TZID=America/Sao_Paulo:20240302T100000
DTSTAMP:20260425T224933
CREATED:20240303T155103Z
LAST-MODIFIED:20240303T155103Z
UID:8250-1709373600-1709373600@albinoteixeira.org.br
SUMMARY:Evangelização: Amor + Ação = Salvação
DESCRIPTION:
URL:https://albinoteixeira.org.br/evento/evangelizacao-amor-acao-salvacao/
LOCATION:Grupo Espírita de Fraternidade Albino Teixeira\, Rua dos Aeroviários\, 240\, Bairro Liberdade\, Belo Horizonte\, MG\, 31270-330\, Brasil
CATEGORIES:Reunião Pública
ATTACH;FMTTYPE=image/jpeg:https://albinoteixeira.org.br/wp-content/uploads/2022/06/sede-scaled-e1656615992280.jpg
END:VEVENT
BEGIN:VEVENT
DTSTART;TZID=America/Sao_Paulo:20240302T143000
DTEND;TZID=America/Sao_Paulo:20240302T143000
DTSTAMP:20260425T224933
CREATED:20240303T155158Z
LAST-MODIFIED:20240303T155251Z
UID:8252-1709389800-1709389800@albinoteixeira.org.br
SUMMARY:Evangelização: Amor + Ação = Salvação
DESCRIPTION:
URL:https://albinoteixeira.org.br/evento/evangelizacao-amor-acao-salvacao-2/
LOCATION:Grupo Espírita de Fraternidade Albino Teixeira\, Rua dos Aeroviários\, 240\, Bairro Liberdade\, Belo Horizonte\, MG\, 31270-330\, Brasil
CATEGORIES:Reunião Pública
ATTACH;FMTTYPE=image/jpeg:https://albinoteixeira.org.br/wp-content/uploads/2022/06/sede-scaled-e1656615992280.jpg
END:VEVENT
BEGIN:VEVENT
DTSTART;TZID=America/Sao_Paulo:20240303T100000
DTEND;TZID=America/Sao_Paulo:20240303T100000
DTSTAMP:20260425T224933
CREATED:20240303T155408Z
LAST-MODIFIED:20240303T155408Z
UID:8254-1709460000-1709460000@albinoteixeira.org.br
SUMMARY:Evangelização: Amor + Ação= Salvação
DESCRIPTION:
URL:https://albinoteixeira.org.br/evento/evangelizacao-amor-acao-salvacao-3/
LOCATION:Grupo Espírita de Fraternidade Albino Teixeira\, Rua dos Aeroviários\, 240\, Bairro Liberdade\, Belo Horizonte\, MG\, 31270-330\, Brasil
CATEGORIES:Reunião Pública
ATTACH;FMTTYPE=image/jpeg:https://albinoteixeira.org.br/wp-content/uploads/2022/06/sede-scaled-e1656615992280.jpg
END:VEVENT
BEGIN:VEVENT
DTSTART;TZID=America/Sao_Paulo:20240303T190000
DTEND;TZID=America/Sao_Paulo:20240303T190000
DTSTAMP:20260425T224933
CREATED:20240303T155523Z
LAST-MODIFIED:20240303T155557Z
UID:8256-1709492400-1709492400@albinoteixeira.org.br
SUMMARY:A casa construída sobre a rocha
DESCRIPTION:
URL:https://albinoteixeira.org.br/evento/a-casa-construida-sobre-a-rocha-13/
LOCATION:Plataforma Zoom (Senha: 123)
CATEGORIES:Online,Reunião Pública
ATTACH;FMTTYPE=image/jpeg:https://albinoteixeira.org.br/wp-content/uploads/2022/06/sede-scaled-e1656615992280.jpg
END:VEVENT
BEGIN:VEVENT
DTSTART;TZID=America/Sao_Paulo:20240304T200000
DTEND;TZID=America/Sao_Paulo:20240304T200000
DTSTAMP:20260425T224933
CREATED:20240303T155801Z
LAST-MODIFIED:20240303T155801Z
UID:8260-1709582400-1709582400@albinoteixeira.org.br
SUMMARY:Bem aventurados os que tem fome e sede de justiça
DESCRIPTION:
URL:https://albinoteixeira.org.br/evento/bem-aventurados-os-que-tem-fome-e-sede-de-justica-3/
LOCATION:Grupo Espírita de Fraternidade Albino Teixeira\, Rua dos Aeroviários\, 240\, Bairro Liberdade\, Belo Horizonte\, MG\, 31270-330\, Brasil
CATEGORIES:Reunião Pública
ATTACH;FMTTYPE=image/jpeg:https://albinoteixeira.org.br/wp-content/uploads/2022/06/sede-scaled-e1656615992280.jpg
END:VEVENT
BEGIN:VEVENT
DTSTART;TZID=America/Sao_Paulo:20240305T200000
DTEND;TZID=America/Sao_Paulo:20240305T200000
DTSTAMP:20260425T224933
CREATED:20240303T160007Z
LAST-MODIFIED:20240303T160007Z
UID:8262-1709668800-1709668800@albinoteixeira.org.br
SUMMARY:O suicídio e a legião de servos de Maria
DESCRIPTION:
URL:https://albinoteixeira.org.br/evento/o-suicidio-e-a-legiao-de-servos-de-maria/
LOCATION:Grupo Espírita de Fraternidade Albino Teixeira\, Rua dos Aeroviários\, 240\, Bairro Liberdade\, Belo Horizonte\, MG\, 31270-330\, Brasil
CATEGORIES:Reunião Pública
ATTACH;FMTTYPE=image/jpeg:https://albinoteixeira.org.br/wp-content/uploads/2022/06/sede-scaled-e1656615992280.jpg
END:VEVENT
BEGIN:VEVENT
DTSTART;TZID=America/Sao_Paulo:20240306T150000
DTEND;TZID=America/Sao_Paulo:20240306T150000
DTSTAMP:20260425T224933
CREATED:20240303T160356Z
LAST-MODIFIED:20240303T160357Z
UID:8264-1709737200-1709737200@albinoteixeira.org.br
SUMMARY:O Centurião de Cafarnaum
DESCRIPTION:
URL:https://albinoteixeira.org.br/evento/o-centuriao-de-cafarnaum-7/
LOCATION:Grupo Espírita de Fraternidade Albino Teixeira\, Rua dos Aeroviários\, 240\, Bairro Liberdade\, Belo Horizonte\, MG\, 31270-330\, Brasil
CATEGORIES:Reunião Pública
ATTACH;FMTTYPE=image/jpeg:https://albinoteixeira.org.br/wp-content/uploads/2022/06/sede-scaled-e1656615992280.jpg
END:VEVENT
BEGIN:VEVENT
DTSTART;TZID=America/Sao_Paulo:20240306T200000
DTEND;TZID=America/Sao_Paulo:20240306T200000
DTSTAMP:20260425T224933
CREATED:20240303T160512Z
LAST-MODIFIED:20240303T160512Z
UID:8266-1709755200-1709755200@albinoteixeira.org.br
SUMMARY:Quantos pães tendes?
DESCRIPTION:
URL:https://albinoteixeira.org.br/evento/quantos-paes-tendes-9/
LOCATION:Grupo Espírita de Fraternidade Albino Teixeira\, Rua dos Aeroviários\, 240\, Bairro Liberdade\, Belo Horizonte\, MG\, 31270-330\, Brasil
CATEGORIES:Reunião Pública
ATTACH;FMTTYPE=image/jpeg:https://albinoteixeira.org.br/wp-content/uploads/2022/06/sede-scaled-e1656615992280.jpg
END:VEVENT
BEGIN:VEVENT
DTSTART;TZID=America/Sao_Paulo:20240307T200000
DTEND;TZID=America/Sao_Paulo:20240307T200000
DTSTAMP:20260425T224933
CREATED:20240306T203209Z
LAST-MODIFIED:20240306T203209Z
UID:8273-1709841600-1709841600@albinoteixeira.org.br
SUMMARY:O Cristo consolador
DESCRIPTION:
URL:https://albinoteixeira.org.br/evento/o-cristo-consolador-4/
LOCATION:Grupo Espírita de Fraternidade Albino Teixeira\, Rua dos Aeroviários\, 240\, Bairro Liberdade\, Belo Horizonte\, MG\, 31270-330\, Brasil
CATEGORIES:Reunião Pública
ATTACH;FMTTYPE=image/jpeg:https://albinoteixeira.org.br/wp-content/uploads/2022/06/sede-scaled-e1656615992280.jpg
END:VEVENT
BEGIN:VEVENT
DTSTART;TZID=America/Sao_Paulo:20240308T150000
DTEND;TZID=America/Sao_Paulo:20240308T150000
DTSTAMP:20260425T224933
CREATED:20240306T203321Z
LAST-MODIFIED:20240306T203321Z
UID:8275-1709910000-1709910000@albinoteixeira.org.br
SUMMARY:A mulher do Evangelho
DESCRIPTION:
URL:https://albinoteixeira.org.br/evento/a-mulher-do-evangelho/
LOCATION:Grupo Espírita de Fraternidade Albino Teixeira\, Rua dos Aeroviários\, 240\, Bairro Liberdade\, Belo Horizonte\, MG\, 31270-330\, Brasil
CATEGORIES:Reunião Pública
ATTACH;FMTTYPE=image/jpeg:https://albinoteixeira.org.br/wp-content/uploads/2022/06/sede-scaled-e1656615992280.jpg
END:VEVENT
BEGIN:VEVENT
DTSTART;TZID=America/Sao_Paulo:20240308T200000
DTEND;TZID=America/Sao_Paulo:20240308T200000
DTSTAMP:20260425T224933
CREATED:20240306T203533Z
LAST-MODIFIED:20240306T203602Z
UID:8277-1709928000-1709928000@albinoteixeira.org.br
SUMMARY:A mulher do Evangelho
DESCRIPTION:
URL:https://albinoteixeira.org.br/evento/a-mulher-do-evangelho-2/
LOCATION:Grupo Espírita de Fraternidade Albino Teixeira\, Rua dos Aeroviários\, 240\, Bairro Liberdade\, Belo Horizonte\, MG\, 31270-330\, Brasil
CATEGORIES:Reunião Pública
ATTACH;FMTTYPE=image/jpeg:https://albinoteixeira.org.br/wp-content/uploads/2022/06/sede-scaled-e1656615992280.jpg
END:VEVENT
BEGIN:VEVENT
DTSTART;TZID=America/Sao_Paulo:20240309T100000
DTEND;TZID=America/Sao_Paulo:20240309T100000
DTSTAMP:20260425T224933
CREATED:20240306T203734Z
LAST-MODIFIED:20240306T203734Z
UID:8279-1709978400-1709978400@albinoteixeira.org.br
SUMMARY:Defesa
DESCRIPTION:
URL:https://albinoteixeira.org.br/evento/defesa-3/
LOCATION:Grupo Espírita de Fraternidade Albino Teixeira\, Rua dos Aeroviários\, 240\, Bairro Liberdade\, Belo Horizonte\, MG\, 31270-330\, Brasil
CATEGORIES:Reunião Pública
ATTACH;FMTTYPE=image/jpeg:https://albinoteixeira.org.br/wp-content/uploads/2022/06/sede-scaled-e1656615992280.jpg
END:VEVENT
BEGIN:VEVENT
DTSTART;TZID=America/Sao_Paulo:20240309T143000
DTEND;TZID=America/Sao_Paulo:20240309T143000
DTSTAMP:20260425T224933
CREATED:20240306T203854Z
LAST-MODIFIED:20240306T203854Z
UID:8281-1709994600-1709994600@albinoteixeira.org.br
SUMMARY:Confiemos\, Jesus está no leme
DESCRIPTION:
URL:https://albinoteixeira.org.br/evento/confiemos-jesus-esta-no-leme-9/
LOCATION:Grupo Espírita de Fraternidade Albino Teixeira\, Rua dos Aeroviários\, 240\, Bairro Liberdade\, Belo Horizonte\, MG\, 31270-330\, Brasil
CATEGORIES:Reunião Pública
ATTACH;FMTTYPE=image/jpeg:https://albinoteixeira.org.br/wp-content/uploads/2022/06/sede-scaled-e1656615992280.jpg
END:VEVENT
BEGIN:VEVENT
DTSTART;TZID=America/Sao_Paulo:20240310T100000
DTEND;TZID=America/Sao_Paulo:20240310T100000
DTSTAMP:20260425T224933
CREATED:20240306T204154Z
LAST-MODIFIED:20240306T204213Z
UID:8283-1710064800-1710064800@albinoteixeira.org.br
SUMMARY:Jesus\, médico das almas
DESCRIPTION:
URL:https://albinoteixeira.org.br/evento/jesus-medico-das-almas-8/
LOCATION:Grupo Espírita de Fraternidade Albino Teixeira\, Rua dos Aeroviários\, 240\, Bairro Liberdade\, Belo Horizonte\, MG\, 31270-330\, Brasil
CATEGORIES:Reunião Pública
ATTACH;FMTTYPE=image/jpeg:https://albinoteixeira.org.br/wp-content/uploads/2022/06/sede-scaled-e1656615992280.jpg
END:VEVENT
BEGIN:VEVENT
DTSTART;TZID=America/Sao_Paulo:20240310T190000
DTEND;TZID=America/Sao_Paulo:20240310T190000
DTSTAMP:20260425T224933
CREATED:20240306T204333Z
LAST-MODIFIED:20240306T204333Z
UID:8285-1710097200-1710097200@albinoteixeira.org.br
SUMMARY:Vigilância e oração
DESCRIPTION:
URL:https://albinoteixeira.org.br/evento/vigilancia-e-oracao/
LOCATION:Plataforma Zoom (Senha: 123)
CATEGORIES:Online,Reunião Pública
ATTACH;FMTTYPE=image/jpeg:https://albinoteixeira.org.br/wp-content/uploads/2022/06/sede-scaled-e1656615992280.jpg
END:VEVENT
BEGIN:VEVENT
DTSTART;TZID=America/Sao_Paulo:20240311T200000
DTEND;TZID=America/Sao_Paulo:20240311T200000
DTSTAMP:20260425T224933
CREATED:20240306T204506Z
LAST-MODIFIED:20240306T204507Z
UID:8287-1710187200-1710187200@albinoteixeira.org.br
SUMMARY:Autoconsciência e liberdade: suicídio não!
DESCRIPTION:
URL:https://albinoteixeira.org.br/evento/autoconsciencia-e-liberdade-suicidio-nao-5/
LOCATION:Grupo Espírita de Fraternidade Albino Teixeira\, Rua dos Aeroviários\, 240\, Bairro Liberdade\, Belo Horizonte\, MG\, 31270-330\, Brasil
CATEGORIES:Reunião Pública
ATTACH;FMTTYPE=image/jpeg:https://albinoteixeira.org.br/wp-content/uploads/2022/06/sede-scaled-e1656615992280.jpg
END:VEVENT
BEGIN:VEVENT
DTSTART;TZID=America/Sao_Paulo:20240312T200000
DTEND;TZID=America/Sao_Paulo:20240312T200000
DTSTAMP:20260425T224933
CREATED:20240306T204712Z
LAST-MODIFIED:20240306T204712Z
UID:8289-1710273600-1710273600@albinoteixeira.org.br
SUMMARY:Vim para que tenhais vida e vida em abundância
DESCRIPTION:
URL:https://albinoteixeira.org.br/evento/vim-para-que-tenhais-vida-e-vida-em-abundancia-6/
LOCATION:Grupo Espírita de Fraternidade Albino Teixeira\, Rua dos Aeroviários\, 240\, Bairro Liberdade\, Belo Horizonte\, MG\, 31270-330\, Brasil
CATEGORIES:Reunião Pública
ATTACH;FMTTYPE=image/jpeg:https://albinoteixeira.org.br/wp-content/uploads/2022/06/sede-scaled-e1656615992280.jpg
END:VEVENT
BEGIN:VEVENT
DTSTART;TZID=America/Sao_Paulo:20240313T150000
DTEND;TZID=America/Sao_Paulo:20240313T150000
DTSTAMP:20260425T224933
CREATED:20240306T204925Z
LAST-MODIFIED:20240306T204925Z
UID:8291-1710342000-1710342000@albinoteixeira.org.br
SUMMARY:Enquanto podes
DESCRIPTION:
URL:https://albinoteixeira.org.br/evento/enquanto-podes/
LOCATION:Grupo Espírita de Fraternidade Albino Teixeira\, Rua dos Aeroviários\, 240\, Bairro Liberdade\, Belo Horizonte\, MG\, 31270-330\, Brasil
CATEGORIES:Reunião Pública
ATTACH;FMTTYPE=image/jpeg:https://albinoteixeira.org.br/wp-content/uploads/2022/06/sede-scaled-e1656615992280.jpg
END:VEVENT
BEGIN:VEVENT
DTSTART;TZID=America/Sao_Paulo:20240313T200000
DTEND;TZID=America/Sao_Paulo:20240313T200000
DTSTAMP:20260425T224933
CREATED:20240306T205106Z
LAST-MODIFIED:20240306T205106Z
UID:8293-1710360000-1710360000@albinoteixeira.org.br
SUMMARY:A caridade como entendia Jesus
DESCRIPTION:
URL:https://albinoteixeira.org.br/evento/a-caridade-como-entendia-jesus-7/
LOCATION:Grupo Espírita de Fraternidade Albino Teixeira\, Rua dos Aeroviários\, 240\, Bairro Liberdade\, Belo Horizonte\, MG\, 31270-330\, Brasil
CATEGORIES:Reunião Pública
ATTACH;FMTTYPE=image/jpeg:https://albinoteixeira.org.br/wp-content/uploads/2022/06/sede-scaled-e1656615992280.jpg
END:VEVENT
BEGIN:VEVENT
DTSTART;TZID=America/Sao_Paulo:20240314T200000
DTEND;TZID=America/Sao_Paulo:20240314T200000
DTSTAMP:20260425T224933
CREATED:20240306T205346Z
LAST-MODIFIED:20240306T205346Z
UID:8295-1710446400-1710446400@albinoteixeira.org.br
SUMMARY:Filosofia Cristã e Espiritismo
DESCRIPTION:
URL:https://albinoteixeira.org.br/evento/filosofia-crista-e-espiritismo/
LOCATION:Grupo Espírita de Fraternidade Albino Teixeira\, Rua dos Aeroviários\, 240\, Bairro Liberdade\, Belo Horizonte\, MG\, 31270-330\, Brasil
CATEGORIES:Reunião Pública
ATTACH;FMTTYPE=image/jpeg:https://albinoteixeira.org.br/wp-content/uploads/2022/06/sede-scaled-e1656615992280.jpg
END:VEVENT
BEGIN:VEVENT
DTSTART;TZID=America/Sao_Paulo:20240315T150000
DTEND;TZID=America/Sao_Paulo:20240315T150000
DTSTAMP:20260425T224933
CREATED:20240306T205618Z
LAST-MODIFIED:20240306T205618Z
UID:8297-1710514800-1710514800@albinoteixeira.org.br
SUMMARY:E Jesus\, estendendo as mãos\, tocou-o\, dizendo: quero sê limpo
DESCRIPTION:
URL:https://albinoteixeira.org.br/evento/e-jesus-estendendo-as-maos-tocou-o-dizendo-quero-se-limpo-5/
LOCATION:Grupo Espírita de Fraternidade Albino Teixeira\, Rua dos Aeroviários\, 240\, Bairro Liberdade\, Belo Horizonte\, MG\, 31270-330\, Brasil
CATEGORIES:Reunião Pública
ATTACH;FMTTYPE=image/jpeg:https://albinoteixeira.org.br/wp-content/uploads/2022/06/sede-scaled-e1656615992280.jpg
END:VEVENT
BEGIN:VEVENT
DTSTART;TZID=America/Sao_Paulo:20240315T200000
DTEND;TZID=America/Sao_Paulo:20240315T200000
DTSTAMP:20260425T224933
CREATED:20240306T205740Z
LAST-MODIFIED:20240306T205741Z
UID:8299-1710532800-1710532800@albinoteixeira.org.br
SUMMARY:A negação de Pedro
DESCRIPTION:
URL:https://albinoteixeira.org.br/evento/a-negacao-de-pedro-5/
LOCATION:Grupo Espírita de Fraternidade Albino Teixeira\, Rua dos Aeroviários\, 240\, Bairro Liberdade\, Belo Horizonte\, MG\, 31270-330\, Brasil
CATEGORIES:Reunião Pública
ATTACH;FMTTYPE=image/jpeg:https://albinoteixeira.org.br/wp-content/uploads/2022/06/sede-scaled-e1656615992280.jpg
END:VEVENT
BEGIN:VEVENT
DTSTART;TZID=America/Sao_Paulo:20240319T200000
DTEND;TZID=America/Sao_Paulo:20240319T200000
DTSTAMP:20260425T224933
CREATED:20240319T164326Z
LAST-MODIFIED:20240319T164326Z
UID:8304-1710878400-1710878400@albinoteixeira.org.br
SUMMARY:Não se vos turbe o coração
DESCRIPTION:
URL:https://albinoteixeira.org.br/evento/nao-se-vos-turbe-o-coracao-2/
LOCATION:Grupo Espírita de Fraternidade Albino Teixeira\, Rua dos Aeroviários\, 240\, Bairro Liberdade\, Belo Horizonte\, MG\, 31270-330\, Brasil
CATEGORIES:Reunião Pública
ATTACH;FMTTYPE=image/jpeg:https://albinoteixeira.org.br/wp-content/uploads/2022/06/sede-scaled-e1656615992280.jpg
END:VEVENT
BEGIN:VEVENT
DTSTART;TZID=America/Sao_Paulo:20240320T150000
DTEND;TZID=America/Sao_Paulo:20240320T150000
DTSTAMP:20260425T224933
CREATED:20240319T164432Z
LAST-MODIFIED:20240319T164432Z
UID:8306-1710946800-1710946800@albinoteixeira.org.br
SUMMARY:Prossigamos
DESCRIPTION:
URL:https://albinoteixeira.org.br/evento/prossigamos-5/
LOCATION:Grupo Espírita de Fraternidade Albino Teixeira\, Rua dos Aeroviários\, 240\, Bairro Liberdade\, Belo Horizonte\, MG\, 31270-330\, Brasil
CATEGORIES:Reunião Pública
ATTACH;FMTTYPE=image/jpeg:https://albinoteixeira.org.br/wp-content/uploads/2022/06/sede-scaled-e1656615992280.jpg
END:VEVENT
END:VCALENDAR