BEGIN:VCALENDAR
VERSION:2.0
PRODID:-//Gefrater - ECPv6.15.20//NONSGML v1.0//EN
CALSCALE:GREGORIAN
METHOD:PUBLISH
X-WR-CALNAME:Gefrater
X-ORIGINAL-URL:https://albinoteixeira.org.br
X-WR-CALDESC:Eventos para Gefrater
REFRESH-INTERVAL;VALUE=DURATION:PT1H
X-Robots-Tag:noindex
X-PUBLISHED-TTL:PT1H
BEGIN:VTIMEZONE
TZID:America/Sao_Paulo
BEGIN:STANDARD
TZOFFSETFROM:-0300
TZOFFSETTO:-0300
TZNAME:-03
DTSTART:20230101T000000
END:STANDARD
END:VTIMEZONE
BEGIN:VEVENT
DTSTART;TZID=America/Sao_Paulo:20240315T150000
DTEND;TZID=America/Sao_Paulo:20240315T150000
DTSTAMP:20260426T013252
CREATED:20240306T205618Z
LAST-MODIFIED:20240306T205618Z
UID:8297-1710514800-1710514800@albinoteixeira.org.br
SUMMARY:E Jesus\, estendendo as mãos\, tocou-o\, dizendo: quero sê limpo
DESCRIPTION:
URL:https://albinoteixeira.org.br/evento/e-jesus-estendendo-as-maos-tocou-o-dizendo-quero-se-limpo-5/
LOCATION:Grupo Espírita de Fraternidade Albino Teixeira\, Rua dos Aeroviários\, 240\, Bairro Liberdade\, Belo Horizonte\, MG\, 31270-330\, Brasil
CATEGORIES:Reunião Pública
ATTACH;FMTTYPE=image/jpeg:https://albinoteixeira.org.br/wp-content/uploads/2022/06/sede-scaled-e1656615992280.jpg
END:VEVENT
BEGIN:VEVENT
DTSTART;TZID=America/Sao_Paulo:20240315T200000
DTEND;TZID=America/Sao_Paulo:20240315T200000
DTSTAMP:20260426T013252
CREATED:20240306T205740Z
LAST-MODIFIED:20240306T205741Z
UID:8299-1710532800-1710532800@albinoteixeira.org.br
SUMMARY:A negação de Pedro
DESCRIPTION:
URL:https://albinoteixeira.org.br/evento/a-negacao-de-pedro-5/
LOCATION:Grupo Espírita de Fraternidade Albino Teixeira\, Rua dos Aeroviários\, 240\, Bairro Liberdade\, Belo Horizonte\, MG\, 31270-330\, Brasil
CATEGORIES:Reunião Pública
ATTACH;FMTTYPE=image/jpeg:https://albinoteixeira.org.br/wp-content/uploads/2022/06/sede-scaled-e1656615992280.jpg
END:VEVENT
BEGIN:VEVENT
DTSTART;TZID=America/Sao_Paulo:20240319T200000
DTEND;TZID=America/Sao_Paulo:20240319T200000
DTSTAMP:20260426T013252
CREATED:20240319T164326Z
LAST-MODIFIED:20240319T164326Z
UID:8304-1710878400-1710878400@albinoteixeira.org.br
SUMMARY:Não se vos turbe o coração
DESCRIPTION:
URL:https://albinoteixeira.org.br/evento/nao-se-vos-turbe-o-coracao-2/
LOCATION:Grupo Espírita de Fraternidade Albino Teixeira\, Rua dos Aeroviários\, 240\, Bairro Liberdade\, Belo Horizonte\, MG\, 31270-330\, Brasil
CATEGORIES:Reunião Pública
ATTACH;FMTTYPE=image/jpeg:https://albinoteixeira.org.br/wp-content/uploads/2022/06/sede-scaled-e1656615992280.jpg
END:VEVENT
BEGIN:VEVENT
DTSTART;TZID=America/Sao_Paulo:20240320T150000
DTEND;TZID=America/Sao_Paulo:20240320T150000
DTSTAMP:20260426T013252
CREATED:20240319T164432Z
LAST-MODIFIED:20240319T164432Z
UID:8306-1710946800-1710946800@albinoteixeira.org.br
SUMMARY:Prossigamos
DESCRIPTION:
URL:https://albinoteixeira.org.br/evento/prossigamos-5/
LOCATION:Grupo Espírita de Fraternidade Albino Teixeira\, Rua dos Aeroviários\, 240\, Bairro Liberdade\, Belo Horizonte\, MG\, 31270-330\, Brasil
CATEGORIES:Reunião Pública
ATTACH;FMTTYPE=image/jpeg:https://albinoteixeira.org.br/wp-content/uploads/2022/06/sede-scaled-e1656615992280.jpg
END:VEVENT
BEGIN:VEVENT
DTSTART;TZID=America/Sao_Paulo:20240320T200000
DTEND;TZID=America/Sao_Paulo:20240320T200000
DTSTAMP:20260426T013252
CREATED:20240319T164556Z
LAST-MODIFIED:20240319T164556Z
UID:8308-1710964800-1710964800@albinoteixeira.org.br
SUMMARY:Com a medida com que tiverdes medido vos hão de medir a vós
DESCRIPTION:
URL:https://albinoteixeira.org.br/evento/com-a-medida-com-que-tiverdes-medido-vos-hao-de-medir-a-vos/
LOCATION:Grupo Espírita de Fraternidade Albino Teixeira\, Rua dos Aeroviários\, 240\, Bairro Liberdade\, Belo Horizonte\, MG\, 31270-330\, Brasil
CATEGORIES:Reunião Pública
ATTACH;FMTTYPE=image/jpeg:https://albinoteixeira.org.br/wp-content/uploads/2022/06/sede-scaled-e1656615992280.jpg
END:VEVENT
BEGIN:VEVENT
DTSTART;TZID=America/Sao_Paulo:20240321T200000
DTEND;TZID=America/Sao_Paulo:20240321T200000
DTSTAMP:20260426T013253
CREATED:20240319T164707Z
LAST-MODIFIED:20240319T164707Z
UID:8310-1711051200-1711051200@albinoteixeira.org.br
SUMMARY:Pacifica sempre
DESCRIPTION:
URL:https://albinoteixeira.org.br/evento/pacifica-sempre-2/
LOCATION:Grupo Espírita de Fraternidade Albino Teixeira\, Rua dos Aeroviários\, 240\, Bairro Liberdade\, Belo Horizonte\, MG\, 31270-330\, Brasil
CATEGORIES:Reunião Pública
ATTACH;FMTTYPE=image/jpeg:https://albinoteixeira.org.br/wp-content/uploads/2022/06/sede-scaled-e1656615992280.jpg
END:VEVENT
BEGIN:VEVENT
DTSTART;TZID=America/Sao_Paulo:20240322T150000
DTEND;TZID=America/Sao_Paulo:20240322T150000
DTSTAMP:20260426T013253
CREATED:20240319T164826Z
LAST-MODIFIED:20240319T164826Z
UID:8313-1711119600-1711119600@albinoteixeira.org.br
SUMMARY:O serco bom
DESCRIPTION:
URL:https://albinoteixeira.org.br/evento/o-serco-bom/
LOCATION:Grupo Espírita de Fraternidade Albino Teixeira\, Rua dos Aeroviários\, 240\, Bairro Liberdade\, Belo Horizonte\, MG\, 31270-330\, Brasil
CATEGORIES:Reunião Pública
ATTACH;FMTTYPE=image/jpeg:https://albinoteixeira.org.br/wp-content/uploads/2022/06/sede-scaled-e1656615992280.jpg
END:VEVENT
BEGIN:VEVENT
DTSTART;TZID=America/Sao_Paulo:20240322T200000
DTEND;TZID=America/Sao_Paulo:20240322T200000
DTSTAMP:20260426T013253
CREATED:20240319T165129Z
LAST-MODIFIED:20240319T165129Z
UID:8315-1711137600-1711137600@albinoteixeira.org.br
SUMMARY:Por que vês o argueiro no olho de teu irmão
DESCRIPTION:
URL:https://albinoteixeira.org.br/evento/por-que-ves-o-argueiro-no-olho-de-teu-irmao-3/
LOCATION:Grupo Espírita de Fraternidade Albino Teixeira\, Rua dos Aeroviários\, 240\, Bairro Liberdade\, Belo Horizonte\, MG\, 31270-330\, Brasil
CATEGORIES:Reunião Pública
ATTACH;FMTTYPE=image/jpeg:https://albinoteixeira.org.br/wp-content/uploads/2022/06/sede-scaled-e1656615992280.jpg
END:VEVENT
BEGIN:VEVENT
DTSTART;TZID=America/Sao_Paulo:20240323T100000
DTEND;TZID=America/Sao_Paulo:20240323T100000
DTSTAMP:20260426T013253
CREATED:20240319T165259Z
LAST-MODIFIED:20240319T165259Z
UID:8317-1711188000-1711188000@albinoteixeira.org.br
SUMMARY:A Deus tudo é possível
DESCRIPTION:
URL:https://albinoteixeira.org.br/evento/a-deus-tudo-e-possivel-6/
LOCATION:Grupo Espírita de Fraternidade Albino Teixeira\, Rua dos Aeroviários\, 240\, Bairro Liberdade\, Belo Horizonte\, MG\, 31270-330\, Brasil
CATEGORIES:Reunião Pública
ATTACH;FMTTYPE=image/jpeg:https://albinoteixeira.org.br/wp-content/uploads/2022/06/sede-scaled-e1656615992280.jpg
END:VEVENT
BEGIN:VEVENT
DTSTART;TZID=America/Sao_Paulo:20240323T143000
DTEND;TZID=America/Sao_Paulo:20240323T143000
DTSTAMP:20260426T013253
CREATED:20240319T165452Z
LAST-MODIFIED:20240319T165452Z
UID:8319-1711204200-1711204200@albinoteixeira.org.br
SUMMARY:Causas atuais das afições
DESCRIPTION:
URL:https://albinoteixeira.org.br/evento/causas-atuais-das-aficoes/
LOCATION:Grupo Espírita de Fraternidade Albino Teixeira\, Rua dos Aeroviários\, 240\, Bairro Liberdade\, Belo Horizonte\, MG\, 31270-330\, Brasil
CATEGORIES:Reunião Pública
ATTACH;FMTTYPE=image/jpeg:https://albinoteixeira.org.br/wp-content/uploads/2022/06/sede-scaled-e1656615992280.jpg
END:VEVENT
BEGIN:VEVENT
DTSTART;TZID=America/Sao_Paulo:20240324T100000
DTEND;TZID=America/Sao_Paulo:20240324T100000
DTSTAMP:20260426T013253
CREATED:20240319T165556Z
LAST-MODIFIED:20240319T165556Z
UID:8321-1711274400-1711274400@albinoteixeira.org.br
SUMMARY:Nossos filhos são espíritos
DESCRIPTION:
URL:https://albinoteixeira.org.br/evento/nossos-filhos-sao-espiritos-2/
LOCATION:Grupo Espírita de Fraternidade Albino Teixeira\, Rua dos Aeroviários\, 240\, Bairro Liberdade\, Belo Horizonte\, MG\, 31270-330\, Brasil
CATEGORIES:Reunião Pública
ATTACH;FMTTYPE=image/jpeg:https://albinoteixeira.org.br/wp-content/uploads/2022/06/sede-scaled-e1656615992280.jpg
END:VEVENT
BEGIN:VEVENT
DTSTART;TZID=America/Sao_Paulo:20240324T190000
DTEND;TZID=America/Sao_Paulo:20240324T190000
DTSTAMP:20260426T013253
CREATED:20240319T165703Z
LAST-MODIFIED:20240319T165703Z
UID:8323-1711306800-1711306800@albinoteixeira.org.br
SUMMARY:Paz seja convosco!
DESCRIPTION:
URL:https://albinoteixeira.org.br/evento/paz-seja-convosco-5/
LOCATION:Plataforma Zoom (Senha: 123)
CATEGORIES:Online,Reunião Pública
ATTACH;FMTTYPE=image/jpeg:https://albinoteixeira.org.br/wp-content/uploads/2022/06/sede-scaled-e1656615992280.jpg
END:VEVENT
BEGIN:VEVENT
DTSTART;TZID=America/Sao_Paulo:20240325T200000
DTEND;TZID=America/Sao_Paulo:20240325T200000
DTSTAMP:20260426T013253
CREATED:20240319T165816Z
LAST-MODIFIED:20240319T165817Z
UID:8325-1711396800-1711396800@albinoteixeira.org.br
SUMMARY:Bem aventurados os que tem fome e sede de justiça
DESCRIPTION:
URL:https://albinoteixeira.org.br/evento/bem-aventurados-os-que-tem-fome-e-sede-de-justica-4/
LOCATION:Grupo Espírita de Fraternidade Albino Teixeira\, Rua dos Aeroviários\, 240\, Bairro Liberdade\, Belo Horizonte\, MG\, 31270-330\, Brasil
CATEGORIES:Reunião Pública
ATTACH;FMTTYPE=image/jpeg:https://albinoteixeira.org.br/wp-content/uploads/2022/06/sede-scaled-e1656615992280.jpg
END:VEVENT
BEGIN:VEVENT
DTSTART;TZID=America/Sao_Paulo:20240326T200000
DTEND;TZID=America/Sao_Paulo:20240326T200000
DTSTAMP:20260426T013253
CREATED:20240319T165922Z
LAST-MODIFIED:20240319T165922Z
UID:8327-1711483200-1711483200@albinoteixeira.org.br
SUMMARY:Regozijai-vos sempre
DESCRIPTION:
URL:https://albinoteixeira.org.br/evento/regozijai-vos-sempre-3/
LOCATION:Grupo Espírita de Fraternidade Albino Teixeira\, Rua dos Aeroviários\, 240\, Bairro Liberdade\, Belo Horizonte\, MG\, 31270-330\, Brasil
CATEGORIES:Reunião Pública
ATTACH;FMTTYPE=image/jpeg:https://albinoteixeira.org.br/wp-content/uploads/2022/06/sede-scaled-e1656615992280.jpg
END:VEVENT
BEGIN:VEVENT
DTSTART;TZID=America/Sao_Paulo:20240327T150000
DTEND;TZID=America/Sao_Paulo:20240327T150000
DTSTAMP:20260426T013253
CREATED:20240325T124745Z
LAST-MODIFIED:20240325T124745Z
UID:8329-1711551600-1711551600@albinoteixeira.org.br
SUMMARY:E não vos conformeis com este mundo\, mas transformai-vos...
DESCRIPTION:
URL:https://albinoteixeira.org.br/evento/e-nao-vos-conformeis-com-este-mundo-mas-transformai-vos-5/
LOCATION:Grupo Espírita de Fraternidade Albino Teixeira\, Rua dos Aeroviários\, 240\, Bairro Liberdade\, Belo Horizonte\, MG\, 31270-330\, Brasil
CATEGORIES:Reunião Pública
ATTACH;FMTTYPE=image/jpeg:https://albinoteixeira.org.br/wp-content/uploads/2022/06/sede-scaled-e1656615992280.jpg
END:VEVENT
BEGIN:VEVENT
DTSTART;TZID=America/Sao_Paulo:20240327T200000
DTEND;TZID=America/Sao_Paulo:20240327T200000
DTSTAMP:20260426T013253
CREATED:20240325T124905Z
LAST-MODIFIED:20240325T124906Z
UID:8331-1711569600-1711569600@albinoteixeira.org.br
SUMMARY:Instrução
DESCRIPTION:
URL:https://albinoteixeira.org.br/evento/instrucao-2/
LOCATION:Grupo Espírita de Fraternidade Albino Teixeira\, Rua dos Aeroviários\, 240\, Bairro Liberdade\, Belo Horizonte\, MG\, 31270-330\, Brasil
CATEGORIES:Reunião Pública
ATTACH;FMTTYPE=image/jpeg:https://albinoteixeira.org.br/wp-content/uploads/2022/06/sede-scaled-e1656615992280.jpg
END:VEVENT
BEGIN:VEVENT
DTSTART;TZID=America/Sao_Paulo:20240328T200000
DTEND;TZID=America/Sao_Paulo:20240328T200000
DTSTAMP:20260426T013253
CREATED:20240325T125029Z
LAST-MODIFIED:20240325T125029Z
UID:8334-1711656000-1711656000@albinoteixeira.org.br
SUMMARY:Parábola do credor incompassivo
DESCRIPTION:
URL:https://albinoteixeira.org.br/evento/parabola-do-credor-incompassivo-6/
LOCATION:Grupo Espírita de Fraternidade Albino Teixeira\, Rua dos Aeroviários\, 240\, Bairro Liberdade\, Belo Horizonte\, MG\, 31270-330\, Brasil
CATEGORIES:Reunião Pública
ATTACH;FMTTYPE=image/jpeg:https://albinoteixeira.org.br/wp-content/uploads/2022/06/sede-scaled-e1656615992280.jpg
END:VEVENT
BEGIN:VEVENT
DTSTART;TZID=America/Sao_Paulo:20240329T150000
DTEND;TZID=America/Sao_Paulo:20240329T150000
DTSTAMP:20260426T013253
CREATED:20240325T125146Z
LAST-MODIFIED:20240325T125146Z
UID:8336-1711724400-1711724400@albinoteixeira.org.br
SUMMARY:Bom ânimo
DESCRIPTION:
URL:https://albinoteixeira.org.br/evento/bom-animo-12/
LOCATION:Grupo Espírita de Fraternidade Albino Teixeira\, Rua dos Aeroviários\, 240\, Bairro Liberdade\, Belo Horizonte\, MG\, 31270-330\, Brasil
CATEGORIES:Reunião Pública
ATTACH;FMTTYPE=image/jpeg:https://albinoteixeira.org.br/wp-content/uploads/2022/06/sede-scaled-e1656615992280.jpg
END:VEVENT
BEGIN:VEVENT
DTSTART;TZID=America/Sao_Paulo:20240329T200000
DTEND;TZID=America/Sao_Paulo:20240329T200000
DTSTAMP:20260426T013253
CREATED:20240325T125320Z
LAST-MODIFIED:20240325T130430Z
UID:8338-1711742400-1711742400@albinoteixeira.org.br
SUMMARY:A crucificação\, calvário e ressurreição do Cristo
DESCRIPTION:
URL:https://albinoteixeira.org.br/evento/a-crucificacao-calvario-e-ressurreicao-do-cristo-2/
LOCATION:Grupo Espírita de Fraternidade Albino Teixeira\, Rua dos Aeroviários\, 240\, Bairro Liberdade\, Belo Horizonte\, MG\, 31270-330\, Brasil
CATEGORIES:Reunião Pública
ATTACH;FMTTYPE=image/jpeg:https://albinoteixeira.org.br/wp-content/uploads/2022/06/sede-scaled-e1656615992280.jpg
END:VEVENT
BEGIN:VEVENT
DTSTART;TZID=America/Sao_Paulo:20240330T100000
DTEND;TZID=America/Sao_Paulo:20240330T100000
DTSTAMP:20260426T013253
CREATED:20240325T125501Z
LAST-MODIFIED:20240325T125502Z
UID:8340-1711792800-1711792800@albinoteixeira.org.br
SUMMARY:História da Páscoa e Ressurreição de Jesus
DESCRIPTION:
URL:https://albinoteixeira.org.br/evento/historia-da-pascoa-e-ressurreicao-de-jesus/
LOCATION:Grupo Espírita de Fraternidade Albino Teixeira\, Rua dos Aeroviários\, 240\, Bairro Liberdade\, Belo Horizonte\, MG\, 31270-330\, Brasil
CATEGORIES:Reunião Pública
ATTACH;FMTTYPE=image/jpeg:https://albinoteixeira.org.br/wp-content/uploads/2022/06/sede-scaled-e1656615992280.jpg
END:VEVENT
BEGIN:VEVENT
DTSTART;TZID=America/Sao_Paulo:20240330T143000
DTEND;TZID=America/Sao_Paulo:20240330T143000
DTSTAMP:20260426T013253
CREATED:20240325T125604Z
LAST-MODIFIED:20240325T125604Z
UID:8342-1711809000-1711809000@albinoteixeira.org.br
SUMMARY:História da Páscoa e Ressurreição de Jesus
DESCRIPTION:
URL:https://albinoteixeira.org.br/evento/historia-da-pascoa-e-ressurreicao-de-jesus-2/
LOCATION:Grupo Espírita de Fraternidade Albino Teixeira\, Rua dos Aeroviários\, 240\, Bairro Liberdade\, Belo Horizonte\, MG\, 31270-330\, Brasil
CATEGORIES:Reunião Pública
ATTACH;FMTTYPE=image/jpeg:https://albinoteixeira.org.br/wp-content/uploads/2022/06/sede-scaled-e1656615992280.jpg
END:VEVENT
BEGIN:VEVENT
DTSTART;TZID=America/Sao_Paulo:20240331T100000
DTEND;TZID=America/Sao_Paulo:20240331T100000
DTSTAMP:20260426T013253
CREATED:20240325T125659Z
LAST-MODIFIED:20240325T125659Z
UID:8344-1711879200-1711879200@albinoteixeira.org.br
SUMMARY:História da Páscoa e Ressurreição de Jesus
DESCRIPTION:
URL:https://albinoteixeira.org.br/evento/historia-da-pascoa-e-ressurreicao-de-jesus-3/
LOCATION:Grupo Espírita de Fraternidade Albino Teixeira\, Rua dos Aeroviários\, 240\, Bairro Liberdade\, Belo Horizonte\, MG\, 31270-330\, Brasil
CATEGORIES:Reunião Pública
ATTACH;FMTTYPE=image/jpeg:https://albinoteixeira.org.br/wp-content/uploads/2022/06/sede-scaled-e1656615992280.jpg
END:VEVENT
BEGIN:VEVENT
DTSTART;TZID=America/Sao_Paulo:20240331T190000
DTEND;TZID=America/Sao_Paulo:20240331T190000
DTSTAMP:20260426T013253
CREATED:20240325T125751Z
LAST-MODIFIED:20240325T125751Z
UID:8346-1711911600-1711911600@albinoteixeira.org.br
SUMMARY:Na palavra e na ação
DESCRIPTION:
URL:https://albinoteixeira.org.br/evento/na-palavra-e-na-acao-6/
LOCATION:Plataforma Zoom (Senha: 123)
CATEGORIES:Online,Reunião Pública
ATTACH;FMTTYPE=image/jpeg:https://albinoteixeira.org.br/wp-content/uploads/2022/06/sede-scaled-e1656615992280.jpg
END:VEVENT
BEGIN:VEVENT
DTSTART;TZID=America/Sao_Paulo:20240401T200000
DTEND;TZID=America/Sao_Paulo:20240401T200000
DTSTAMP:20260426T013253
CREATED:20240325T125904Z
LAST-MODIFIED:20240325T125904Z
UID:8348-1712001600-1712001600@albinoteixeira.org.br
SUMMARY:Princípios básicos: causa e efeito
DESCRIPTION:
URL:https://albinoteixeira.org.br/evento/principios-basicos-causa-e-efeito-8/
LOCATION:Grupo Espírita de Fraternidade Albino Teixeira\, Rua dos Aeroviários\, 240\, Bairro Liberdade\, Belo Horizonte\, MG\, 31270-330\, Brasil
CATEGORIES:Reunião Pública
ATTACH;FMTTYPE=image/jpeg:https://albinoteixeira.org.br/wp-content/uploads/2022/06/sede-scaled-e1656615992280.jpg
END:VEVENT
BEGIN:VEVENT
DTSTART;TZID=America/Sao_Paulo:20240402T200000
DTEND;TZID=America/Sao_Paulo:20240402T200000
DTSTAMP:20260426T013253
CREATED:20240325T125956Z
LAST-MODIFIED:20240325T125956Z
UID:8350-1712088000-1712088000@albinoteixeira.org.br
SUMMARY:O culto cristão no lar
DESCRIPTION:
URL:https://albinoteixeira.org.br/evento/o-culto-cristao-no-lar/
LOCATION:Grupo Espírita de Fraternidade Albino Teixeira\, Rua dos Aeroviários\, 240\, Bairro Liberdade\, Belo Horizonte\, MG\, 31270-330\, Brasil
CATEGORIES:Reunião Pública
ATTACH;FMTTYPE=image/jpeg:https://albinoteixeira.org.br/wp-content/uploads/2022/06/sede-scaled-e1656615992280.jpg
END:VEVENT
BEGIN:VEVENT
DTSTART;TZID=America/Sao_Paulo:20240403T150000
DTEND;TZID=America/Sao_Paulo:20240403T150000
DTSTAMP:20260426T013253
CREATED:20240325T130117Z
LAST-MODIFIED:20240325T130117Z
UID:8352-1712156400-1712156400@albinoteixeira.org.br
SUMMARY:Auto iluminação
DESCRIPTION:
URL:https://albinoteixeira.org.br/evento/auto-iluminacao/
LOCATION:Grupo Espírita de Fraternidade Albino Teixeira\, Rua dos Aeroviários\, 240\, Bairro Liberdade\, Belo Horizonte\, MG\, 31270-330\, Brasil
CATEGORIES:Reunião Pública
ATTACH;FMTTYPE=image/jpeg:https://albinoteixeira.org.br/wp-content/uploads/2022/06/sede-scaled-e1656615992280.jpg
END:VEVENT
BEGIN:VEVENT
DTSTART;TZID=America/Sao_Paulo:20240403T200000
DTEND;TZID=America/Sao_Paulo:20240403T200000
DTSTAMP:20260426T013253
CREATED:20240325T130234Z
LAST-MODIFIED:20240325T130234Z
UID:8356-1712174400-1712174400@albinoteixeira.org.br
SUMMARY:Quantos pães tendes?
DESCRIPTION:
URL:https://albinoteixeira.org.br/evento/quantos-paes-tendes-10/
LOCATION:Grupo Espírita de Fraternidade Albino Teixeira\, Rua dos Aeroviários\, 240\, Bairro Liberdade\, Belo Horizonte\, MG\, 31270-330\, Brasil
CATEGORIES:Reunião Pública
ATTACH;FMTTYPE=image/jpeg:https://albinoteixeira.org.br/wp-content/uploads/2022/06/sede-scaled-e1656615992280.jpg
END:VEVENT
BEGIN:VEVENT
DTSTART;TZID=America/Sao_Paulo:20240404T200000
DTEND;TZID=America/Sao_Paulo:20240404T200000
DTSTAMP:20260426T013253
CREATED:20240404T100014Z
LAST-MODIFIED:20240404T100014Z
UID:8359-1712260800-1712260800@albinoteixeira.org.br
SUMMARY:A lição da semente
DESCRIPTION:
URL:https://albinoteixeira.org.br/evento/a-licao-da-semente/
LOCATION:Grupo Espírita de Fraternidade Albino Teixeira\, Rua dos Aeroviários\, 240\, Bairro Liberdade\, Belo Horizonte\, MG\, 31270-330\, Brasil
CATEGORIES:Reunião Pública
ATTACH;FMTTYPE=image/jpeg:https://albinoteixeira.org.br/wp-content/uploads/2022/06/sede-scaled-e1656615992280.jpg
END:VEVENT
BEGIN:VEVENT
DTSTART;TZID=America/Sao_Paulo:20240405T150000
DTEND;TZID=America/Sao_Paulo:20240405T150000
DTSTAMP:20260426T013253
CREATED:20240404T100226Z
LAST-MODIFIED:20240404T100226Z
UID:8361-1712329200-1712329200@albinoteixeira.org.br
SUMMARY:O servo inconstante
DESCRIPTION:
URL:https://albinoteixeira.org.br/evento/o-servo-inconstante/
LOCATION:Grupo Espírita de Fraternidade Albino Teixeira\, Rua dos Aeroviários\, 240\, Bairro Liberdade\, Belo Horizonte\, MG\, 31270-330\, Brasil
CATEGORIES:Reunião Pública
ATTACH;FMTTYPE=image/jpeg:https://albinoteixeira.org.br/wp-content/uploads/2022/06/sede-scaled-e1656615992280.jpg
END:VEVENT
BEGIN:VEVENT
DTSTART;TZID=America/Sao_Paulo:20240405T200000
DTEND;TZID=America/Sao_Paulo:20240405T200000
DTSTAMP:20260426T013253
CREATED:20240404T100350Z
LAST-MODIFIED:20240404T100350Z
UID:8363-1712347200-1712347200@albinoteixeira.org.br
SUMMARY:Fé
DESCRIPTION:
URL:https://albinoteixeira.org.br/evento/fe-3/
LOCATION:Grupo Espírita de Fraternidade Albino Teixeira\, Rua dos Aeroviários\, 240\, Bairro Liberdade\, Belo Horizonte\, MG\, 31270-330\, Brasil
CATEGORIES:Reunião Pública
ATTACH;FMTTYPE=image/jpeg:https://albinoteixeira.org.br/wp-content/uploads/2022/06/sede-scaled-e1656615992280.jpg
END:VEVENT
END:VCALENDAR