BEGIN:VCALENDAR
VERSION:2.0
PRODID:-//Gefrater - ECPv6.15.20//NONSGML v1.0//EN
CALSCALE:GREGORIAN
METHOD:PUBLISH
X-WR-CALNAME:Gefrater
X-ORIGINAL-URL:https://albinoteixeira.org.br
X-WR-CALDESC:Eventos para Gefrater
REFRESH-INTERVAL;VALUE=DURATION:PT1H
X-Robots-Tag:noindex
X-PUBLISHED-TTL:PT1H
BEGIN:VTIMEZONE
TZID:America/Sao_Paulo
BEGIN:STANDARD
TZOFFSETFROM:-0300
TZOFFSETTO:-0300
TZNAME:-03
DTSTART:20230101T000000
END:STANDARD
END:VTIMEZONE
BEGIN:VEVENT
DTSTART;TZID=America/Sao_Paulo:20240404T200000
DTEND;TZID=America/Sao_Paulo:20240404T200000
DTSTAMP:20260426T013206
CREATED:20240404T100014Z
LAST-MODIFIED:20240404T100014Z
UID:8359-1712260800-1712260800@albinoteixeira.org.br
SUMMARY:A lição da semente
DESCRIPTION:
URL:https://albinoteixeira.org.br/evento/a-licao-da-semente/
LOCATION:Grupo Espírita de Fraternidade Albino Teixeira\, Rua dos Aeroviários\, 240\, Bairro Liberdade\, Belo Horizonte\, MG\, 31270-330\, Brasil
CATEGORIES:Reunião Pública
ATTACH;FMTTYPE=image/jpeg:https://albinoteixeira.org.br/wp-content/uploads/2022/06/sede-scaled-e1656615992280.jpg
END:VEVENT
BEGIN:VEVENT
DTSTART;TZID=America/Sao_Paulo:20240405T150000
DTEND;TZID=America/Sao_Paulo:20240405T150000
DTSTAMP:20260426T013206
CREATED:20240404T100226Z
LAST-MODIFIED:20240404T100226Z
UID:8361-1712329200-1712329200@albinoteixeira.org.br
SUMMARY:O servo inconstante
DESCRIPTION:
URL:https://albinoteixeira.org.br/evento/o-servo-inconstante/
LOCATION:Grupo Espírita de Fraternidade Albino Teixeira\, Rua dos Aeroviários\, 240\, Bairro Liberdade\, Belo Horizonte\, MG\, 31270-330\, Brasil
CATEGORIES:Reunião Pública
ATTACH;FMTTYPE=image/jpeg:https://albinoteixeira.org.br/wp-content/uploads/2022/06/sede-scaled-e1656615992280.jpg
END:VEVENT
BEGIN:VEVENT
DTSTART;TZID=America/Sao_Paulo:20240405T200000
DTEND;TZID=America/Sao_Paulo:20240405T200000
DTSTAMP:20260426T013206
CREATED:20240404T100350Z
LAST-MODIFIED:20240404T100350Z
UID:8363-1712347200-1712347200@albinoteixeira.org.br
SUMMARY:Fé
DESCRIPTION:
URL:https://albinoteixeira.org.br/evento/fe-3/
LOCATION:Grupo Espírita de Fraternidade Albino Teixeira\, Rua dos Aeroviários\, 240\, Bairro Liberdade\, Belo Horizonte\, MG\, 31270-330\, Brasil
CATEGORIES:Reunião Pública
ATTACH;FMTTYPE=image/jpeg:https://albinoteixeira.org.br/wp-content/uploads/2022/06/sede-scaled-e1656615992280.jpg
END:VEVENT
BEGIN:VEVENT
DTSTART;TZID=America/Sao_Paulo:20240406T100000
DTEND;TZID=America/Sao_Paulo:20240406T100000
DTSTAMP:20260426T013206
CREATED:20240404T100515Z
LAST-MODIFIED:20240404T100515Z
UID:8365-1712397600-1712397600@albinoteixeira.org.br
SUMMARY:Os instrumentos da perfeição
DESCRIPTION:
URL:https://albinoteixeira.org.br/evento/os-instrumentos-da-perfeicao/
LOCATION:Grupo Espírita de Fraternidade Albino Teixeira\, Rua dos Aeroviários\, 240\, Bairro Liberdade\, Belo Horizonte\, MG\, 31270-330\, Brasil
CATEGORIES:Reunião Pública
ATTACH;FMTTYPE=image/jpeg:https://albinoteixeira.org.br/wp-content/uploads/2022/06/sede-scaled-e1656615992280.jpg
END:VEVENT
BEGIN:VEVENT
DTSTART;TZID=America/Sao_Paulo:20240406T143000
DTEND;TZID=America/Sao_Paulo:20240406T143000
DTSTAMP:20260426T013206
CREATED:20240404T100642Z
LAST-MODIFIED:20240404T100642Z
UID:8368-1712413800-1712413800@albinoteixeira.org.br
SUMMARY:O maior servidor
DESCRIPTION:
URL:https://albinoteixeira.org.br/evento/o-maior-servidor/
LOCATION:Grupo Espírita de Fraternidade Albino Teixeira\, Rua dos Aeroviários\, 240\, Bairro Liberdade\, Belo Horizonte\, MG\, 31270-330\, Brasil
CATEGORIES:Reunião Pública
ATTACH;FMTTYPE=image/jpeg:https://albinoteixeira.org.br/wp-content/uploads/2022/06/sede-scaled-e1656615992280.jpg
END:VEVENT
BEGIN:VEVENT
DTSTART;TZID=America/Sao_Paulo:20240407T100000
DTEND;TZID=America/Sao_Paulo:20240407T100000
DTSTAMP:20260426T013206
CREATED:20240404T101010Z
LAST-MODIFIED:20240404T101010Z
UID:8372-1712484000-1712484000@albinoteixeira.org.br
SUMMARY:A lição a Nicodemos
DESCRIPTION:
URL:https://albinoteixeira.org.br/evento/a-licao-a-nicodemos-4/
LOCATION:Grupo Espírita de Fraternidade Albino Teixeira\, Rua dos Aeroviários\, 240\, Bairro Liberdade\, Belo Horizonte\, MG\, 31270-330\, Brasil
CATEGORIES:Reunião Pública
ATTACH;FMTTYPE=image/jpeg:https://albinoteixeira.org.br/wp-content/uploads/2022/06/sede-scaled-e1656615992280.jpg
END:VEVENT
BEGIN:VEVENT
DTSTART;TZID=America/Sao_Paulo:20240407T190000
DTEND;TZID=America/Sao_Paulo:20240407T190000
DTSTAMP:20260426T013206
CREATED:20240404T101143Z
LAST-MODIFIED:20240404T101143Z
UID:8374-1712516400-1712516400@albinoteixeira.org.br
SUMMARY:As obsessões e a responsabilidade individual
DESCRIPTION:
URL:https://albinoteixeira.org.br/evento/as-obsessoes-e-a-responsabilidade-individual-4/
LOCATION:Plataforma Zoom (Senha: 123)
CATEGORIES:Online,Reunião Pública
ATTACH;FMTTYPE=image/jpeg:https://albinoteixeira.org.br/wp-content/uploads/2022/06/sede-scaled-e1656615992280.jpg
END:VEVENT
BEGIN:VEVENT
DTSTART;TZID=America/Sao_Paulo:20240408T200000
DTEND;TZID=America/Sao_Paulo:20240408T200000
DTSTAMP:20260426T013206
CREATED:20240404T101426Z
LAST-MODIFIED:20240404T101426Z
UID:8376-1712606400-1712606400@albinoteixeira.org.br
SUMMARY:Dependência química na visão espírita
DESCRIPTION:
URL:https://albinoteixeira.org.br/evento/dependencia-quimica-na-visao-espirita-4/
LOCATION:Grupo Espírita de Fraternidade Albino Teixeira\, Rua dos Aeroviários\, 240\, Bairro Liberdade\, Belo Horizonte\, MG\, 31270-330\, Brasil
CATEGORIES:Reunião Pública
ATTACH;FMTTYPE=image/jpeg:https://albinoteixeira.org.br/wp-content/uploads/2022/06/sede-scaled-e1656615992280.jpg
END:VEVENT
BEGIN:VEVENT
DTSTART;TZID=America/Sao_Paulo:20240409T200000
DTEND;TZID=America/Sao_Paulo:20240409T200000
DTSTAMP:20260426T013206
CREATED:20240404T101600Z
LAST-MODIFIED:20240404T101600Z
UID:8379-1712692800-1712692800@albinoteixeira.org.br
SUMMARY:Transformação moral e os mecanismos do Ego
DESCRIPTION:
URL:https://albinoteixeira.org.br/evento/transformacao-moral-e-os-mecanismos-do-ego-3/
LOCATION:Grupo Espírita de Fraternidade Albino Teixeira\, Rua dos Aeroviários\, 240\, Bairro Liberdade\, Belo Horizonte\, MG\, 31270-330\, Brasil
CATEGORIES:Reunião Pública
ATTACH;FMTTYPE=image/jpeg:https://albinoteixeira.org.br/wp-content/uploads/2022/06/sede-scaled-e1656615992280.jpg
END:VEVENT
BEGIN:VEVENT
DTSTART;TZID=America/Sao_Paulo:20240410T150000
DTEND;TZID=America/Sao_Paulo:20240410T150000
DTSTAMP:20260426T013206
CREATED:20240404T101731Z
LAST-MODIFIED:20240404T101822Z
UID:8381-1712761200-1712761200@albinoteixeira.org.br
SUMMARY:Depressão na visão espírita
DESCRIPTION:
URL:https://albinoteixeira.org.br/evento/depressao-na-visao-espirita-10/
LOCATION:Grupo Espírita de Fraternidade Albino Teixeira\, Rua dos Aeroviários\, 240\, Bairro Liberdade\, Belo Horizonte\, MG\, 31270-330\, Brasil
CATEGORIES:Reunião Pública
ATTACH;FMTTYPE=image/jpeg:https://albinoteixeira.org.br/wp-content/uploads/2022/06/sede-scaled-e1656615992280.jpg
END:VEVENT
BEGIN:VEVENT
DTSTART;TZID=America/Sao_Paulo:20240410T200000
DTEND;TZID=America/Sao_Paulo:20240410T200000
DTSTAMP:20260426T013206
CREATED:20240404T102002Z
LAST-MODIFIED:20240404T102002Z
UID:8384-1712779200-1712779200@albinoteixeira.org.br
SUMMARY:Cura e auto cura
DESCRIPTION:
URL:https://albinoteixeira.org.br/evento/cura-e-auto-cura-3/
LOCATION:Grupo Espírita de Fraternidade Albino Teixeira\, Rua dos Aeroviários\, 240\, Bairro Liberdade\, Belo Horizonte\, MG\, 31270-330\, Brasil
CATEGORIES:Reunião Pública
ATTACH;FMTTYPE=image/jpeg:https://albinoteixeira.org.br/wp-content/uploads/2022/06/sede-scaled-e1656615992280.jpg
END:VEVENT
BEGIN:VEVENT
DTSTART;TZID=America/Sao_Paulo:20240411T200000
DTEND;TZID=America/Sao_Paulo:20240411T200000
DTSTAMP:20260426T013206
CREATED:20240414T090351Z
LAST-MODIFIED:20240414T090351Z
UID:8394-1712865600-1712865600@albinoteixeira.org.br
SUMMARY:Saúde e Espiritualidade\, abordando a ligação e ponte entre os temas
DESCRIPTION:
URL:https://albinoteixeira.org.br/evento/saude-e-espiritualidade-abordando-a-ligacao-e-ponte-entre-os-temas-3/
LOCATION:MG
CATEGORIES:Reunião Pública
ATTACH;FMTTYPE=image/jpeg:https://albinoteixeira.org.br/wp-content/uploads/2022/06/sede-scaled-e1656615992280.jpg
END:VEVENT
BEGIN:VEVENT
DTSTART;TZID=America/Sao_Paulo:20240412T150000
DTEND;TZID=America/Sao_Paulo:20240412T150000
DTSTAMP:20260426T013206
CREATED:20240414T090507Z
LAST-MODIFIED:20240414T090507Z
UID:8396-1712934000-1712934000@albinoteixeira.org.br
SUMMARY:Caridade: cura da alma
DESCRIPTION:
URL:https://albinoteixeira.org.br/evento/caridade-cura-da-alma-9/
LOCATION:Grupo Espírita de Fraternidade Albino Teixeira\, Rua dos Aeroviários\, 240\, Bairro Liberdade\, Belo Horizonte\, MG\, 31270-330\, Brasil
CATEGORIES:Reunião Pública
ATTACH;FMTTYPE=image/jpeg:https://albinoteixeira.org.br/wp-content/uploads/2022/06/sede-scaled-e1656615992280.jpg
END:VEVENT
BEGIN:VEVENT
DTSTART;TZID=America/Sao_Paulo:20240412T200000
DTEND;TZID=America/Sao_Paulo:20240412T200000
DTSTAMP:20260426T013206
CREATED:20240414T090600Z
LAST-MODIFIED:20240414T090600Z
UID:8398-1712952000-1712952000@albinoteixeira.org.br
SUMMARY:Medicina da alma
DESCRIPTION:
URL:https://albinoteixeira.org.br/evento/medicina-da-alma-3/
LOCATION:Grupo Espírita de Fraternidade Albino Teixeira\, Rua dos Aeroviários\, 240\, Bairro Liberdade\, Belo Horizonte\, MG\, 31270-330\, Brasil
CATEGORIES:Reunião Pública
ATTACH;FMTTYPE=image/jpeg:https://albinoteixeira.org.br/wp-content/uploads/2022/06/sede-scaled-e1656615992280.jpg
END:VEVENT
BEGIN:VEVENT
DTSTART;TZID=America/Sao_Paulo:20240413T100000
DTEND;TZID=America/Sao_Paulo:20240413T100000
DTSTAMP:20260426T013206
CREATED:20240414T090738Z
LAST-MODIFIED:20240414T090738Z
UID:8400-1713002400-1713002400@albinoteixeira.org.br
SUMMARY:Gestação: encontro de almas
DESCRIPTION:
URL:https://albinoteixeira.org.br/evento/gestacao-encontro-de-almas/
LOCATION:MG
CATEGORIES:Reunião Pública
ATTACH;FMTTYPE=image/jpeg:https://albinoteixeira.org.br/wp-content/uploads/2022/06/sede-scaled-e1656615992280.jpg
END:VEVENT
BEGIN:VEVENT
DTSTART;TZID=America/Sao_Paulo:20240413T143000
DTEND;TZID=America/Sao_Paulo:20240413T143000
DTSTAMP:20260426T013206
CREATED:20240414T090853Z
LAST-MODIFIED:20240414T090853Z
UID:8403-1713018600-1713018600@albinoteixeira.org.br
SUMMARY:Saúde do corpo e do espírito
DESCRIPTION:
URL:https://albinoteixeira.org.br/evento/saude-do-corpo-e-do-espirito-7/
LOCATION:Grupo Espírita de Fraternidade Albino Teixeira\, Rua dos Aeroviários\, 240\, Bairro Liberdade\, Belo Horizonte\, MG\, 31270-330\, Brasil
CATEGORIES:Reunião Pública
ATTACH;FMTTYPE=image/jpeg:https://albinoteixeira.org.br/wp-content/uploads/2022/06/sede-scaled-e1656615992280.jpg
END:VEVENT
BEGIN:VEVENT
DTSTART;TZID=America/Sao_Paulo:20240414T100000
DTEND;TZID=America/Sao_Paulo:20240414T100000
DTSTAMP:20260426T013206
CREATED:20240414T085955Z
LAST-MODIFIED:20240414T085955Z
UID:8388-1713088800-1713088800@albinoteixeira.org.br
SUMMARY:Depressão - aspectos clínicos e espirituais
DESCRIPTION:
URL:https://albinoteixeira.org.br/evento/depressao-aspectos-clinicos-e-espirituais-2/
LOCATION:Grupo Espírita de Fraternidade Albino Teixeira\, Rua dos Aeroviários\, 240\, Bairro Liberdade\, Belo Horizonte\, MG\, 31270-330\, Brasil
CATEGORIES:Reunião Pública
ATTACH;FMTTYPE=image/jpeg:https://albinoteixeira.org.br/wp-content/uploads/2022/06/sede-scaled-e1656615992280.jpg
END:VEVENT
BEGIN:VEVENT
DTSTART;TZID=America/Sao_Paulo:20240414T190000
DTEND;TZID=America/Sao_Paulo:20240414T190000
DTSTAMP:20260426T013206
CREATED:20240414T090141Z
LAST-MODIFIED:20240414T090141Z
UID:8390-1713121200-1713121200@albinoteixeira.org.br
SUMMARY:Visão médico espírita sobre a dependência emotivo afetiva
DESCRIPTION:
URL:https://albinoteixeira.org.br/evento/visao-medico-espirita-sobre-a-dependencia-emotivo-afetiva-2/
LOCATION:Plataforma Zoom (Senha: 123)
CATEGORIES:Online,Reunião Pública
ATTACH;FMTTYPE=image/jpeg:https://albinoteixeira.org.br/wp-content/uploads/2022/06/sede-scaled-e1656615992280.jpg
END:VEVENT
BEGIN:VEVENT
DTSTART;TZID=America/Sao_Paulo:20240415T200000
DTEND;TZID=America/Sao_Paulo:20240415T200000
DTSTAMP:20260426T013206
CREATED:20240414T090238Z
LAST-MODIFIED:20240414T090238Z
UID:8392-1713211200-1713211200@albinoteixeira.org.br
SUMMARY:O Mensageiro do amor
DESCRIPTION:
URL:https://albinoteixeira.org.br/evento/o-mensageiro-do-amor/
LOCATION:Grupo Espírita de Fraternidade Albino Teixeira\, Rua dos Aeroviários\, 240\, Bairro Liberdade\, Belo Horizonte\, MG\, 31270-330\, Brasil
CATEGORIES:Reunião Pública
ATTACH;FMTTYPE=image/jpeg:https://albinoteixeira.org.br/wp-content/uploads/2022/06/sede-scaled-e1656615992280.jpg
END:VEVENT
BEGIN:VEVENT
DTSTART;TZID=America/Sao_Paulo:20240421T100000
DTEND;TZID=America/Sao_Paulo:20240421T100000
DTSTAMP:20260426T013206
CREATED:20240421T115918Z
LAST-MODIFIED:20240421T115918Z
UID:8438-1713693600-1713693600@albinoteixeira.org.br
SUMMARY:Cura e auto cura
DESCRIPTION:
URL:https://albinoteixeira.org.br/evento/cura-e-auto-cura-4/
LOCATION:Grupo Espírita de Fraternidade Albino Teixeira\, Rua dos Aeroviários\, 240\, Bairro Liberdade\, Belo Horizonte\, MG\, 31270-330\, Brasil
CATEGORIES:Reunião Pública
ATTACH;FMTTYPE=image/jpeg:https://albinoteixeira.org.br/wp-content/uploads/2022/06/sede-scaled-e1656615992280.jpg
END:VEVENT
BEGIN:VEVENT
DTSTART;TZID=America/Sao_Paulo:20240421T190000
DTEND;TZID=America/Sao_Paulo:20240421T190000
DTSTAMP:20260426T013206
CREATED:20240421T120042Z
LAST-MODIFIED:20240421T120042Z
UID:8440-1713726000-1713726000@albinoteixeira.org.br
SUMMARY:O ministro sábio
DESCRIPTION:
URL:https://albinoteixeira.org.br/evento/o-ministro-sabio/
LOCATION:Plataforma Zoom (Senha: 123)
CATEGORIES:Online,Reunião Pública
ATTACH;FMTTYPE=image/jpeg:https://albinoteixeira.org.br/wp-content/uploads/2022/06/sede-scaled-e1656615992280.jpg
END:VEVENT
BEGIN:VEVENT
DTSTART;TZID=America/Sao_Paulo:20240422T200000
DTEND;TZID=America/Sao_Paulo:20240422T200000
DTSTAMP:20260426T013206
CREATED:20240421T120151Z
LAST-MODIFIED:20240421T120151Z
UID:8442-1713816000-1713816000@albinoteixeira.org.br
SUMMARY:A exaltação da cortesia
DESCRIPTION:
URL:https://albinoteixeira.org.br/evento/a-exaltacao-da-cortesia/
LOCATION:Grupo Espírita de Fraternidade Albino Teixeira\, Rua dos Aeroviários\, 240\, Bairro Liberdade\, Belo Horizonte\, MG\, 31270-330\, Brasil
CATEGORIES:Reunião Pública
ATTACH;FMTTYPE=image/jpeg:https://albinoteixeira.org.br/wp-content/uploads/2022/06/sede-scaled-e1656615992280.jpg
END:VEVENT
BEGIN:VEVENT
DTSTART;TZID=America/Sao_Paulo:20240423T200000
DTEND;TZID=America/Sao_Paulo:20240423T200000
DTSTAMP:20260426T013206
CREATED:20240421T120253Z
LAST-MODIFIED:20240421T120253Z
UID:8444-1713902400-1713902400@albinoteixeira.org.br
SUMMARY:A bênção do estímulo
DESCRIPTION:
URL:https://albinoteixeira.org.br/evento/a-bencao-do-estimulo/
LOCATION:Grupo Espírita de Fraternidade Albino Teixeira\, Rua dos Aeroviários\, 240\, Bairro Liberdade\, Belo Horizonte\, MG\, 31270-330\, Brasil
CATEGORIES:Reunião Pública
ATTACH;FMTTYPE=image/jpeg:https://albinoteixeira.org.br/wp-content/uploads/2022/06/sede-scaled-e1656615992280.jpg
END:VEVENT
BEGIN:VEVENT
DTSTART;TZID=America/Sao_Paulo:20240424T150000
DTEND;TZID=America/Sao_Paulo:20240424T150000
DTSTAMP:20260426T013206
CREATED:20240421T120418Z
LAST-MODIFIED:20240421T120419Z
UID:8446-1713970800-1713970800@albinoteixeira.org.br
SUMMARY:Boas obras
DESCRIPTION:
URL:https://albinoteixeira.org.br/evento/boas-obras-10/
LOCATION:Grupo Espírita de Fraternidade Albino Teixeira\, Rua dos Aeroviários\, 240\, Bairro Liberdade\, Belo Horizonte\, MG\, 31270-330\, Brasil
CATEGORIES:Reunião Pública
ATTACH;FMTTYPE=image/jpeg:https://albinoteixeira.org.br/wp-content/uploads/2022/06/sede-scaled-e1656615992280.jpg
END:VEVENT
BEGIN:VEVENT
DTSTART;TZID=America/Sao_Paulo:20240424T200000
DTEND;TZID=America/Sao_Paulo:20240424T200000
DTSTAMP:20260426T013206
CREATED:20240421T120528Z
LAST-MODIFIED:20240421T120528Z
UID:8448-1713988800-1713988800@albinoteixeira.org.br
SUMMARY:Os descobridores do homem
DESCRIPTION:
URL:https://albinoteixeira.org.br/evento/os-descobridores-do-homem/
LOCATION:Grupo Espírita de Fraternidade Albino Teixeira\, Rua dos Aeroviários\, 240\, Bairro Liberdade\, Belo Horizonte\, MG\, 31270-330\, Brasil
CATEGORIES:Reunião Pública
ATTACH;FMTTYPE=image/jpeg:https://albinoteixeira.org.br/wp-content/uploads/2022/06/sede-scaled-e1656615992280.jpg
END:VEVENT
BEGIN:VEVENT
DTSTART;TZID=America/Sao_Paulo:20240425T200000
DTEND;TZID=America/Sao_Paulo:20240425T200000
DTSTAMP:20260426T013206
CREATED:20240421T120648Z
LAST-MODIFIED:20240421T121849Z
UID:8450-1714075200-1714075200@albinoteixeira.org.br
SUMMARY:A grande tribulação de Jerusalém
DESCRIPTION:
URL:https://albinoteixeira.org.br/evento/a-grande-tribulacao-de-jerusalem/
LOCATION:Grupo Espírita de Fraternidade Albino Teixeira\, Rua dos Aeroviários\, 240\, Bairro Liberdade\, Belo Horizonte\, MG\, 31270-330\, Brasil
CATEGORIES:Reunião Pública
ATTACH;FMTTYPE=image/jpeg:https://albinoteixeira.org.br/wp-content/uploads/2022/06/sede-scaled-e1656615992280.jpg
END:VEVENT
BEGIN:VEVENT
DTSTART;TZID=America/Sao_Paulo:20240426T150000
DTEND;TZID=America/Sao_Paulo:20240426T150000
DTSTAMP:20260426T013206
CREATED:20240421T120759Z
LAST-MODIFIED:20240421T121908Z
UID:8452-1714143600-1714143600@albinoteixeira.org.br
SUMMARY:O rico vigilante
DESCRIPTION:
URL:https://albinoteixeira.org.br/evento/o-rico-vigilante/
LOCATION:Grupo Espírita de Fraternidade Albino Teixeira\, Rua dos Aeroviários\, 240\, Bairro Liberdade\, Belo Horizonte\, MG\, 31270-330\, Brasil
CATEGORIES:Reunião Pública
ATTACH;FMTTYPE=image/jpeg:https://albinoteixeira.org.br/wp-content/uploads/2022/06/sede-scaled-e1656615992280.jpg
END:VEVENT
BEGIN:VEVENT
DTSTART;TZID=America/Sao_Paulo:20240426T200000
DTEND;TZID=America/Sao_Paulo:20240426T200000
DTSTAMP:20260426T013206
CREATED:20240421T120944Z
LAST-MODIFIED:20240421T121930Z
UID:8454-1714161600-1714161600@albinoteixeira.org.br
SUMMARY:Conhecimento espírita: alimento para nossa alma
DESCRIPTION:
URL:https://albinoteixeira.org.br/evento/conhecimento-espirita-alimento-para-nossa-alma/
LOCATION:Grupo Espírita de Fraternidade Albino Teixeira\, Rua dos Aeroviários\, 240\, Bairro Liberdade\, Belo Horizonte\, MG\, 31270-330\, Brasil
CATEGORIES:Reunião Pública
ATTACH;FMTTYPE=image/jpeg:https://albinoteixeira.org.br/wp-content/uploads/2022/06/sede-scaled-e1656615992280.jpg
END:VEVENT
BEGIN:VEVENT
DTSTART;TZID=America/Sao_Paulo:20240427T100000
DTEND;TZID=America/Sao_Paulo:20240427T100000
DTSTAMP:20260426T013206
CREATED:20240421T121050Z
LAST-MODIFIED:20240421T121955Z
UID:8456-1714212000-1714212000@albinoteixeira.org.br
SUMMARY:O mensageiro distraído
DESCRIPTION:
URL:https://albinoteixeira.org.br/evento/o-mensageiro-distraido/
LOCATION:Grupo Espírita de Fraternidade Albino Teixeira\, Rua dos Aeroviários\, 240\, Bairro Liberdade\, Belo Horizonte\, MG\, 31270-330\, Brasil
CATEGORIES:Reunião Pública
ATTACH;FMTTYPE=image/jpeg:https://albinoteixeira.org.br/wp-content/uploads/2022/06/sede-scaled-e1656615992280.jpg
END:VEVENT
BEGIN:VEVENT
DTSTART;TZID=America/Sao_Paulo:20240427T143000
DTEND;TZID=America/Sao_Paulo:20240427T143000
DTSTAMP:20260426T013206
CREATED:20240421T121226Z
LAST-MODIFIED:20240421T122020Z
UID:8458-1714228200-1714228200@albinoteixeira.org.br
SUMMARY:A parábola relembrada
DESCRIPTION:
URL:https://albinoteixeira.org.br/evento/a-parabola-relembrada/
LOCATION:Grupo Espírita de Fraternidade Albino Teixeira\, Rua dos Aeroviários\, 240\, Bairro Liberdade\, Belo Horizonte\, MG\, 31270-330\, Brasil
CATEGORIES:Reunião Pública
ATTACH;FMTTYPE=image/jpeg:https://albinoteixeira.org.br/wp-content/uploads/2022/06/sede-scaled-e1656615992280.jpg
END:VEVENT
END:VCALENDAR