BEGIN:VCALENDAR
VERSION:2.0
PRODID:-//Gefrater - ECPv6.15.20//NONSGML v1.0//EN
CALSCALE:GREGORIAN
METHOD:PUBLISH
X-ORIGINAL-URL:https://albinoteixeira.org.br
X-WR-CALDESC:Eventos para Gefrater
REFRESH-INTERVAL;VALUE=DURATION:PT1H
X-Robots-Tag:noindex
X-PUBLISHED-TTL:PT1H
BEGIN:VTIMEZONE
TZID:America/Sao_Paulo
BEGIN:STANDARD
TZOFFSETFROM:-0300
TZOFFSETTO:-0300
TZNAME:-03
DTSTART:20210101T000000
END:STANDARD
END:VTIMEZONE
BEGIN:VEVENT
DTSTART;TZID=America/Sao_Paulo:20220815T200000
DTEND;TZID=America/Sao_Paulo:20220815T200000
DTSTAMP:20260425T222437
CREATED:20220727T150337Z
LAST-MODIFIED:20220727T150338Z
UID:6074-1660593600-1660593600@albinoteixeira.org.br
SUMMARY:Na palavra e na ação
DESCRIPTION:
URL:https://albinoteixeira.org.br/evento/na-palavra-e-na-acao-2/
LOCATION:Grupo Espírita de Fraternidade Albino Teixeira\, Rua dos Aeroviários\, 240\, Bairro Liberdade\, Belo Horizonte\, MG\, 31270-330\, Brasil
CATEGORIES:Reunião Pública
ATTACH;FMTTYPE=image/jpeg:https://albinoteixeira.org.br/wp-content/uploads/2022/06/sede-scaled-e1656615992280.jpg
END:VEVENT
BEGIN:VEVENT
DTSTART;TZID=America/Sao_Paulo:20220816T200000
DTEND;TZID=America/Sao_Paulo:20220816T200000
DTSTAMP:20260425T222437
CREATED:20220816T212921Z
LAST-MODIFIED:20220816T212921Z
UID:6103-1660680000-1660680000@albinoteixeira.org.br
SUMMARY:Não te deixes vencer pelo mal\, mas vence o mal com o bem
DESCRIPTION:
URL:https://albinoteixeira.org.br/evento/nao-te-deixes-vencer-pelo-mal-mas-vence-o-mal-com-o-bem/
LOCATION:Grupo Espírita de Fraternidade Albino Teixeira\, Rua dos Aeroviários\, 240\, Bairro Liberdade\, Belo Horizonte\, MG\, 31270-330\, Brasil
CATEGORIES:Reunião Pública
ATTACH;FMTTYPE=image/jpeg:https://albinoteixeira.org.br/wp-content/uploads/2022/06/sede-scaled-e1656615992280.jpg
END:VEVENT
BEGIN:VEVENT
DTSTART;TZID=America/Sao_Paulo:20220817T150000
DTEND;TZID=America/Sao_Paulo:20220817T150000
DTSTAMP:20260425T222437
CREATED:20220816T213042Z
LAST-MODIFIED:20220816T213042Z
UID:6105-1660748400-1660748400@albinoteixeira.org.br
SUMMARY:Vivei em paz uns com os outros
DESCRIPTION:
URL:https://albinoteixeira.org.br/evento/vivei-em-paz-uns-com-os-outros/
LOCATION:Grupo Espírita de Fraternidade Albino Teixeira\, Rua dos Aeroviários\, 240\, Bairro Liberdade\, Belo Horizonte\, MG\, 31270-330\, Brasil
CATEGORIES:Reunião Pública
ATTACH;FMTTYPE=image/jpeg:https://albinoteixeira.org.br/wp-content/uploads/2022/06/sede-scaled-e1656615992280.jpg
END:VEVENT
BEGIN:VEVENT
DTSTART;TZID=America/Sao_Paulo:20220817T200000
DTEND;TZID=America/Sao_Paulo:20220817T200000
DTSTAMP:20260425T222437
CREATED:20220816T213322Z
LAST-MODIFIED:20220816T213323Z
UID:6108-1660766400-1660766400@albinoteixeira.org.br
SUMMARY:E não vos conformeis com este mundo\, mas transformai-vos
DESCRIPTION:
URL:https://albinoteixeira.org.br/evento/e-nao-vos-conformeis-com-este-mundo-mas-transformai-vos/
LOCATION:Grupo Espírita de Fraternidade Albino Teixeira\, Rua dos Aeroviários\, 240\, Bairro Liberdade\, Belo Horizonte\, MG\, 31270-330\, Brasil
CATEGORIES:Reunião Pública
ATTACH;FMTTYPE=image/jpeg:https://albinoteixeira.org.br/wp-content/uploads/2022/06/sede-scaled-e1656615992280.jpg
END:VEVENT
BEGIN:VEVENT
DTSTART;TZID=America/Sao_Paulo:20220818T200000
DTEND;TZID=America/Sao_Paulo:20220818T200000
DTSTAMP:20260425T222437
CREATED:20220816T213447Z
LAST-MODIFIED:20220816T213447Z
UID:6110-1660852800-1660852800@albinoteixeira.org.br
SUMMARY:No solo do espírito
DESCRIPTION:
URL:https://albinoteixeira.org.br/evento/no-solo-do-espirito/
LOCATION:Grupo Espírita de Fraternidade Albino Teixeira\, Rua dos Aeroviários\, 240\, Bairro Liberdade\, Belo Horizonte\, MG\, 31270-330\, Brasil
CATEGORIES:Reunião Pública
ATTACH;FMTTYPE=image/jpeg:https://albinoteixeira.org.br/wp-content/uploads/2022/06/sede-scaled-e1656615992280.jpg
END:VEVENT
BEGIN:VEVENT
DTSTART;TZID=America/Sao_Paulo:20220819T150000
DTEND;TZID=America/Sao_Paulo:20220819T150000
DTSTAMP:20260425T222437
CREATED:20220816T213704Z
LAST-MODIFIED:20220816T213704Z
UID:6112-1660921200-1660921200@albinoteixeira.org.br
SUMMARY:Regozijai-vos sempre
DESCRIPTION:
URL:https://albinoteixeira.org.br/evento/regozijai-vos-sempre/
LOCATION:Grupo Espírita de Fraternidade Albino Teixeira\, Rua dos Aeroviários\, 240\, Bairro Liberdade\, Belo Horizonte\, MG\, 31270-330\, Brasil
CATEGORIES:Reunião Pública
ATTACH;FMTTYPE=image/jpeg:https://albinoteixeira.org.br/wp-content/uploads/2022/06/sede-scaled-e1656615992280.jpg
END:VEVENT
BEGIN:VEVENT
DTSTART;TZID=America/Sao_Paulo:20220819T200000
DTEND;TZID=America/Sao_Paulo:20220819T200000
DTSTAMP:20260425T222437
CREATED:20220816T213837Z
LAST-MODIFIED:20220816T213838Z
UID:6114-1660939200-1660939200@albinoteixeira.org.br
SUMMARY:Não se turbe o vosso coração
DESCRIPTION:
URL:https://albinoteixeira.org.br/evento/nao-se-turbe-o-vosso-coracao/
LOCATION:Grupo Espírita de Fraternidade Albino Teixeira\, Rua dos Aeroviários\, 240\, Bairro Liberdade\, Belo Horizonte\, MG\, 31270-330\, Brasil
CATEGORIES:Reunião Pública
ATTACH;FMTTYPE=image/jpeg:https://albinoteixeira.org.br/wp-content/uploads/2022/06/sede-scaled-e1656615992280.jpg
END:VEVENT
BEGIN:VEVENT
DTSTART;TZID=America/Sao_Paulo:20220820T100000
DTEND;TZID=America/Sao_Paulo:20220820T100000
DTSTAMP:20260425T222437
CREATED:20220816T214021Z
LAST-MODIFIED:20220816T214022Z
UID:6116-1660989600-1660989600@albinoteixeira.org.br
SUMMARY:O perdão
DESCRIPTION:
URL:https://albinoteixeira.org.br/evento/o-perdao-8/
LOCATION:Grupo Espírita de Fraternidade Albino Teixeira\, Rua dos Aeroviários\, 240\, Bairro Liberdade\, Belo Horizonte\, MG\, 31270-330\, Brasil
CATEGORIES:Reunião Pública
ATTACH;FMTTYPE=image/jpeg:https://albinoteixeira.org.br/wp-content/uploads/2022/06/sede-scaled-e1656615992280.jpg
END:VEVENT
BEGIN:VEVENT
DTSTART;TZID=America/Sao_Paulo:20220820T150000
DTEND;TZID=America/Sao_Paulo:20220820T150000
DTSTAMP:20260425T222437
CREATED:20220816T214201Z
LAST-MODIFIED:20220816T214201Z
UID:6119-1661007600-1661007600@albinoteixeira.org.br
SUMMARY:Não vem trazer a paz\, mas espada
DESCRIPTION:
URL:https://albinoteixeira.org.br/evento/nao-vem-trazer-a-paz-mas-espada/
LOCATION:Grupo Espírita de Fraternidade Albino Teixeira\, Rua dos Aeroviários\, 240\, Bairro Liberdade\, Belo Horizonte\, MG\, 31270-330\, Brasil
CATEGORIES:Reunião Pública
ATTACH;FMTTYPE=image/jpeg:https://albinoteixeira.org.br/wp-content/uploads/2022/06/sede-scaled-e1656615992280.jpg
END:VEVENT
BEGIN:VEVENT
DTSTART;TZID=America/Sao_Paulo:20220820T183000
DTEND;TZID=America/Sao_Paulo:20220820T183000
DTSTAMP:20260425T222437
CREATED:20220816T214432Z
LAST-MODIFIED:20220816T214432Z
UID:6121-1661020200-1661020200@albinoteixeira.org.br
SUMMARY:Se alguma virtude há ou se algum louvor existe\, seja isto o que ocupe o vosso pensamento
DESCRIPTION:
URL:https://albinoteixeira.org.br/evento/se-alguma-virtude-ha-ou-se-algum-louvor-existe-seja-isto-o-que-ocupe-o-vosso-pensamento/
LOCATION:Grupo Espírita de Fraternidade Albino Teixeira\, Rua dos Aeroviários\, 240\, Bairro Liberdade\, Belo Horizonte\, MG\, 31270-330\, Brasil
CATEGORIES:Reunião Pública
ATTACH;FMTTYPE=image/jpeg:https://albinoteixeira.org.br/wp-content/uploads/2022/06/sede-scaled-e1656615992280.jpg
END:VEVENT
BEGIN:VEVENT
DTSTART;TZID=America/Sao_Paulo:20220821T100000
DTEND;TZID=America/Sao_Paulo:20220821T100000
DTSTAMP:20260425T222437
CREATED:20220816T214611Z
LAST-MODIFIED:20220816T214611Z
UID:6123-1661076000-1661076000@albinoteixeira.org.br
SUMMARY:A indulgência
DESCRIPTION:
URL:https://albinoteixeira.org.br/evento/a-indulgencia-4/
LOCATION:Grupo Espírita de Fraternidade Albino Teixeira\, Rua dos Aeroviários\, 240\, Bairro Liberdade\, Belo Horizonte\, MG\, 31270-330\, Brasil
CATEGORIES:Reunião Pública
ATTACH;FMTTYPE=image/jpeg:https://albinoteixeira.org.br/wp-content/uploads/2022/06/sede-scaled-e1656615992280.jpg
END:VEVENT
BEGIN:VEVENT
DTSTART;TZID=America/Sao_Paulo:20220821T190000
DTEND;TZID=America/Sao_Paulo:20220821T190000
DTSTAMP:20260425T222437
CREATED:20220816T222758Z
LAST-MODIFIED:20220816T222924Z
UID:6157-1661108400-1661108400@albinoteixeira.org.br
SUMMARY:O amor tudo sofre. (Paulo)
DESCRIPTION:
URL:https://albinoteixeira.org.br/evento/o-amor-tudo-sofre-paulo/
LOCATION:Plataforma Zoom (Senha: 123)
CATEGORIES:Online,Reunião Pública
ATTACH;FMTTYPE=image/jpeg:https://albinoteixeira.org.br/wp-content/uploads/2022/06/sede-scaled-e1656615992280.jpg
END:VEVENT
BEGIN:VEVENT
DTSTART;TZID=America/Sao_Paulo:20220822T200000
DTEND;TZID=America/Sao_Paulo:20220822T200000
DTSTAMP:20260425T222437
CREATED:20220816T214803Z
LAST-MODIFIED:20220816T222526Z
UID:6125-1661198400-1661198400@albinoteixeira.org.br
SUMMARY:Dai gratuitamente o que gratuitamente recebestes
DESCRIPTION:
URL:https://albinoteixeira.org.br/evento/dai-gratuitamente-o-que-gratuitamente-recebestes/
LOCATION:Grupo Espírita de Fraternidade Albino Teixeira\, Rua dos Aeroviários\, 240\, Bairro Liberdade\, Belo Horizonte\, MG\, 31270-330\, Brasil
CATEGORIES:Reunião Pública
ATTACH;FMTTYPE=image/jpeg:https://albinoteixeira.org.br/wp-content/uploads/2022/06/sede-scaled-e1656615992280.jpg
END:VEVENT
BEGIN:VEVENT
DTSTART;TZID=America/Sao_Paulo:20220823T200000
DTEND;TZID=America/Sao_Paulo:20220823T200000
DTSTAMP:20260425T222437
CREATED:20220816T215016Z
LAST-MODIFIED:20220816T215016Z
UID:6128-1661284800-1661284800@albinoteixeira.org.br
SUMMARY:O amor e suas dimensões
DESCRIPTION:
URL:https://albinoteixeira.org.br/evento/o-amor-e-suas-dimensoes-2/
LOCATION:Grupo Espírita de Fraternidade Albino Teixeira\, Rua dos Aeroviários\, 240\, Bairro Liberdade\, Belo Horizonte\, MG\, 31270-330\, Brasil
CATEGORIES:Reunião Pública
ATTACH;FMTTYPE=image/jpeg:https://albinoteixeira.org.br/wp-content/uploads/2022/06/sede-scaled-e1656615992280.jpg
END:VEVENT
BEGIN:VEVENT
DTSTART;TZID=America/Sao_Paulo:20220824T150000
DTEND;TZID=America/Sao_Paulo:20220824T150000
DTSTAMP:20260425T222437
CREATED:20220816T215151Z
LAST-MODIFIED:20220816T215152Z
UID:6131-1661353200-1661353200@albinoteixeira.org.br
SUMMARY:Leis morais: leis do trabalho
DESCRIPTION:
URL:https://albinoteixeira.org.br/evento/leis-morais-leis-do-trabalho/
LOCATION:Grupo Espírita de Fraternidade Albino Teixeira\, Rua dos Aeroviários\, 240\, Bairro Liberdade\, Belo Horizonte\, MG\, 31270-330\, Brasil
CATEGORIES:Reunião Pública
ATTACH;FMTTYPE=image/jpeg:https://albinoteixeira.org.br/wp-content/uploads/2022/06/sede-scaled-e1656615992280.jpg
END:VEVENT
BEGIN:VEVENT
DTSTART;TZID=America/Sao_Paulo:20220824T200000
DTEND;TZID=America/Sao_Paulo:20220824T200000
DTSTAMP:20260425T222437
CREATED:20220816T215300Z
LAST-MODIFIED:20220816T215300Z
UID:6133-1661371200-1661371200@albinoteixeira.org.br
SUMMARY:Os tormentos voluntários
DESCRIPTION:
URL:https://albinoteixeira.org.br/evento/os-tormentos-voluntarios-8/
LOCATION:Grupo Espírita de Fraternidade Albino Teixeira\, Rua dos Aeroviários\, 240\, Bairro Liberdade\, Belo Horizonte\, MG\, 31270-330\, Brasil
CATEGORIES:Reunião Pública
ATTACH;FMTTYPE=image/jpeg:https://albinoteixeira.org.br/wp-content/uploads/2022/06/sede-scaled-e1656615992280.jpg
END:VEVENT
BEGIN:VEVENT
DTSTART;TZID=America/Sao_Paulo:20220825T200000
DTEND;TZID=America/Sao_Paulo:20220825T200000
DTSTAMP:20260425T222437
CREATED:20220816T215420Z
LAST-MODIFIED:20220825T205828Z
UID:6135-1661457600-1661457600@albinoteixeira.org.br
SUMMARY:Fora da caridade não há salvação
DESCRIPTION:
URL:https://albinoteixeira.org.br/evento/fora-da-caridade-nao-ha-salvacao-4/
LOCATION:Grupo Espírita de Fraternidade Albino Teixeira\, Rua dos Aeroviários\, 240\, Bairro Liberdade\, Belo Horizonte\, MG\, 31270-330\, Brasil
CATEGORIES:Reunião Pública
ATTACH;FMTTYPE=image/jpeg:https://albinoteixeira.org.br/wp-content/uploads/2022/06/sede-scaled-e1656615992280.jpg
END:VEVENT
BEGIN:VEVENT
DTSTART;TZID=America/Sao_Paulo:20220826T150000
DTEND;TZID=America/Sao_Paulo:20220826T150000
DTSTAMP:20260425T222437
CREATED:20220816T215608Z
LAST-MODIFIED:20220816T215608Z
UID:6137-1661526000-1661526000@albinoteixeira.org.br
SUMMARY:Haverá falsos Cristos e falsos profetas
DESCRIPTION:
URL:https://albinoteixeira.org.br/evento/havera-falsos-cristos-e-falsos-profetas-2/
LOCATION:Grupo Espírita de Fraternidade Albino Teixeira\, Rua dos Aeroviários\, 240\, Bairro Liberdade\, Belo Horizonte\, MG\, 31270-330\, Brasil
CATEGORIES:Reunião Pública
ATTACH;FMTTYPE=image/jpeg:https://albinoteixeira.org.br/wp-content/uploads/2022/06/sede-scaled-e1656615992280.jpg
END:VEVENT
BEGIN:VEVENT
DTSTART;TZID=America/Sao_Paulo:20220826T200000
DTEND;TZID=America/Sao_Paulo:20220826T200000
DTSTAMP:20260425T222437
CREATED:20220816T221109Z
LAST-MODIFIED:20220816T221109Z
UID:6139-1661544000-1661544000@albinoteixeira.org.br
SUMMARY:Benignidade
DESCRIPTION:
URL:https://albinoteixeira.org.br/evento/benignidade/
LOCATION:Grupo Espírita de Fraternidade Albino Teixeira\, Rua dos Aeroviários\, 240\, Bairro Liberdade\, Belo Horizonte\, MG\, 31270-330\, Brasil
CATEGORIES:Reunião Pública
ATTACH;FMTTYPE=image/jpeg:https://albinoteixeira.org.br/wp-content/uploads/2022/06/sede-scaled-e1656615992280.jpg
END:VEVENT
BEGIN:VEVENT
DTSTART;TZID=America/Sao_Paulo:20220827T100000
DTEND;TZID=America/Sao_Paulo:20220827T100000
DTSTAMP:20260425T222437
CREATED:20220816T221252Z
LAST-MODIFIED:20220816T221253Z
UID:6141-1661594400-1661594400@albinoteixeira.org.br
SUMMARY:O homem integral
DESCRIPTION:
URL:https://albinoteixeira.org.br/evento/o-homem-integral-3/
LOCATION:Grupo Espírita de Fraternidade Albino Teixeira\, Rua dos Aeroviários\, 240\, Bairro Liberdade\, Belo Horizonte\, MG\, 31270-330\, Brasil
CATEGORIES:Reunião Pública
ATTACH;FMTTYPE=image/jpeg:https://albinoteixeira.org.br/wp-content/uploads/2022/06/sede-scaled-e1656615992280.jpg
END:VEVENT
BEGIN:VEVENT
DTSTART;TZID=America/Sao_Paulo:20220827T150000
DTEND;TZID=America/Sao_Paulo:20220827T150000
DTSTAMP:20260425T222437
CREATED:20220816T221436Z
LAST-MODIFIED:20220816T221436Z
UID:6143-1661612400-1661612400@albinoteixeira.org.br
SUMMARY:O cego de Betsaida
DESCRIPTION:
URL:https://albinoteixeira.org.br/evento/o-cego-de-betsaida-3/
LOCATION:Grupo Espírita de Fraternidade Albino Teixeira\, Rua dos Aeroviários\, 240\, Bairro Liberdade\, Belo Horizonte\, MG\, 31270-330\, Brasil
CATEGORIES:Reunião Pública
ATTACH;FMTTYPE=image/jpeg:https://albinoteixeira.org.br/wp-content/uploads/2022/06/sede-scaled-e1656615992280.jpg
END:VEVENT
BEGIN:VEVENT
DTSTART;TZID=America/Sao_Paulo:20220827T183000
DTEND;TZID=America/Sao_Paulo:20220827T183000
DTSTAMP:20260425T222437
CREATED:20220816T221622Z
LAST-MODIFIED:20220816T221622Z
UID:6145-1661625000-1661625000@albinoteixeira.org.br
SUMMARY:Fraternidade
DESCRIPTION:
URL:https://albinoteixeira.org.br/evento/fraternidade-4/
LOCATION:Grupo Espírita de Fraternidade Albino Teixeira\, Rua dos Aeroviários\, 240\, Bairro Liberdade\, Belo Horizonte\, MG\, 31270-330\, Brasil
CATEGORIES:Reunião Pública
ATTACH;FMTTYPE=image/jpeg:https://albinoteixeira.org.br/wp-content/uploads/2022/06/sede-scaled-e1656615992280.jpg
END:VEVENT
BEGIN:VEVENT
DTSTART;TZID=America/Sao_Paulo:20220828T100000
DTEND;TZID=America/Sao_Paulo:20220828T100000
DTSTAMP:20260425T222437
CREATED:20220816T221729Z
LAST-MODIFIED:20220816T221730Z
UID:6147-1661680800-1661680800@albinoteixeira.org.br
SUMMARY:Fraternidade
DESCRIPTION:
URL:https://albinoteixeira.org.br/evento/fraternidade-5/
LOCATION:Grupo Espírita de Fraternidade Albino Teixeira\, Rua dos Aeroviários\, 240\, Bairro Liberdade\, Belo Horizonte\, MG\, 31270-330\, Brasil
CATEGORIES:Reunião Pública
ATTACH;FMTTYPE=image/jpeg:https://albinoteixeira.org.br/wp-content/uploads/2022/06/sede-scaled-e1656615992280.jpg
END:VEVENT
BEGIN:VEVENT
DTSTART;TZID=America/Sao_Paulo:20220828T190000
DTEND;TZID=America/Sao_Paulo:20220828T190000
DTSTAMP:20260425T222437
CREATED:20220816T223152Z
LAST-MODIFIED:20220816T223234Z
UID:6159-1661713200-1661713200@albinoteixeira.org.br
SUMMARY:Por que vês o argueiro no olho de teu irmão?
DESCRIPTION:
URL:https://albinoteixeira.org.br/evento/por-que-ves-o-argueiro-no-olho-de-teu-irmao/
LOCATION:Plataforma Zoom (Senha: 123)
CATEGORIES:Online,Reunião Pública
ATTACH;FMTTYPE=image/jpeg:https://albinoteixeira.org.br/wp-content/uploads/2022/06/sede-scaled-e1656615992280.jpg
END:VEVENT
BEGIN:VEVENT
DTSTART;TZID=America/Sao_Paulo:20220829T200000
DTEND;TZID=America/Sao_Paulo:20220829T200000
DTSTAMP:20260425T222437
CREATED:20220816T221923Z
LAST-MODIFIED:20220816T221923Z
UID:6149-1661803200-1661803200@albinoteixeira.org.br
SUMMARY:Vigiai e orai para não entrardes em tentação
DESCRIPTION:
URL:https://albinoteixeira.org.br/evento/vigiai-e-orai-para-nao-entrardes-em-tentacao/
LOCATION:Grupo Espírita de Fraternidade Albino Teixeira\, Rua dos Aeroviários\, 240\, Bairro Liberdade\, Belo Horizonte\, MG\, 31270-330\, Brasil
CATEGORIES:Reunião Pública
ATTACH;FMTTYPE=image/jpeg:https://albinoteixeira.org.br/wp-content/uploads/2022/06/sede-scaled-e1656615992280.jpg
END:VEVENT
BEGIN:VEVENT
DTSTART;TZID=America/Sao_Paulo:20220830T200000
DTEND;TZID=America/Sao_Paulo:20220830T200000
DTSTAMP:20260425T222437
CREATED:20220816T222055Z
LAST-MODIFIED:20220816T222055Z
UID:6151-1661889600-1661889600@albinoteixeira.org.br
SUMMARY:Advento do Espírito de Verdade
DESCRIPTION:
URL:https://albinoteixeira.org.br/evento/advento-do-espirito-de-verdade/
LOCATION:Grupo Espírita de Fraternidade Albino Teixeira\, Rua dos Aeroviários\, 240\, Bairro Liberdade\, Belo Horizonte\, MG\, 31270-330\, Brasil
CATEGORIES:Reunião Pública
ATTACH;FMTTYPE=image/jpeg:https://albinoteixeira.org.br/wp-content/uploads/2022/06/sede-scaled-e1656615992280.jpg
END:VEVENT
BEGIN:VEVENT
DTSTART;TZID=America/Sao_Paulo:20220831T150000
DTEND;TZID=America/Sao_Paulo:20220831T150000
DTSTAMP:20260425T222437
CREATED:20220816T222224Z
LAST-MODIFIED:20220816T222224Z
UID:6153-1661958000-1661958000@albinoteixeira.org.br
SUMMARY:Meu reino não é deste mundo
DESCRIPTION:
URL:https://albinoteixeira.org.br/evento/meu-reino-nao-e-deste-mundo-5/
LOCATION:Grupo Espírita de Fraternidade Albino Teixeira\, Rua dos Aeroviários\, 240\, Bairro Liberdade\, Belo Horizonte\, MG\, 31270-330\, Brasil
CATEGORIES:Reunião Pública
ATTACH;FMTTYPE=image/jpeg:https://albinoteixeira.org.br/wp-content/uploads/2022/06/sede-scaled-e1656615992280.jpg
END:VEVENT
BEGIN:VEVENT
DTSTART;TZID=America/Sao_Paulo:20220831T200000
DTEND;TZID=America/Sao_Paulo:20220831T200000
DTSTAMP:20260425T222437
CREATED:20220816T222405Z
LAST-MODIFIED:20220816T222405Z
UID:6155-1661976000-1661976000@albinoteixeira.org.br
SUMMARY:Avareza
DESCRIPTION:
URL:https://albinoteixeira.org.br/evento/avareza/
LOCATION:Grupo Espírita de Fraternidade Albino Teixeira\, Rua dos Aeroviários\, 240\, Bairro Liberdade\, Belo Horizonte\, MG\, 31270-330\, Brasil
CATEGORIES:Reunião Pública
ATTACH;FMTTYPE=image/jpeg:https://albinoteixeira.org.br/wp-content/uploads/2022/06/sede-scaled-e1656615992280.jpg
END:VEVENT
BEGIN:VEVENT
DTSTART;TZID=America/Sao_Paulo:20220901T200000
DTEND;TZID=America/Sao_Paulo:20220901T200000
DTSTAMP:20260425T222437
CREATED:20220826T105734Z
LAST-MODIFIED:20220826T105734Z
UID:6171-1662062400-1662062400@albinoteixeira.org.br
SUMMARY:Parábola do credor incompassivo
DESCRIPTION:
URL:https://albinoteixeira.org.br/evento/parabola-do-credor-incompassivo-4/
LOCATION:Grupo Espírita de Fraternidade Albino Teixeira\, Rua dos Aeroviários\, 240\, Bairro Liberdade\, Belo Horizonte\, MG\, 31270-330\, Brasil
CATEGORIES:Reunião Pública
ATTACH;FMTTYPE=image/jpeg:https://albinoteixeira.org.br/wp-content/uploads/2022/06/sede-scaled-e1656615992280.jpg
END:VEVENT
BEGIN:VEVENT
DTSTART;TZID=America/Sao_Paulo:20220902T150000
DTEND;TZID=America/Sao_Paulo:20220902T150000
DTSTAMP:20260425T222437
CREATED:20220826T105945Z
LAST-MODIFIED:20220826T105945Z
UID:6173-1662130800-1662130800@albinoteixeira.org.br
SUMMARY:Defesa
DESCRIPTION:
URL:https://albinoteixeira.org.br/evento/defesa/
LOCATION:Grupo Espírita de Fraternidade Albino Teixeira\, Rua dos Aeroviários\, 240\, Bairro Liberdade\, Belo Horizonte\, MG\, 31270-330\, Brasil
CATEGORIES:Reunião Pública
ATTACH;FMTTYPE=image/jpeg:https://albinoteixeira.org.br/wp-content/uploads/2022/06/sede-scaled-e1656615992280.jpg
END:VEVENT
END:VCALENDAR