BEGIN:VCALENDAR
VERSION:2.0
PRODID:-//Gefrater - ECPv6.15.20//NONSGML v1.0//EN
CALSCALE:GREGORIAN
METHOD:PUBLISH
X-ORIGINAL-URL:https://albinoteixeira.org.br
X-WR-CALDESC:Eventos para Gefrater
REFRESH-INTERVAL;VALUE=DURATION:PT1H
X-Robots-Tag:noindex
X-PUBLISHED-TTL:PT1H
BEGIN:VTIMEZONE
TZID:America/Sao_Paulo
BEGIN:STANDARD
TZOFFSETFROM:-0300
TZOFFSETTO:-0300
TZNAME:-03
DTSTART:20210101T000000
END:STANDARD
END:VTIMEZONE
BEGIN:VEVENT
DTSTART;TZID=America/Sao_Paulo:20221019T150000
DTEND;TZID=America/Sao_Paulo:20221019T150000
DTSTAMP:20260426T011941
CREATED:20221017T104955Z
LAST-MODIFIED:20221017T104955Z
UID:6378-1666191600-1666191600@albinoteixeira.org.br
SUMMARY:Bases para constituição do lar
DESCRIPTION:
URL:https://albinoteixeira.org.br/evento/bases-para-constituicao-do-lar-3/
LOCATION:Grupo Espírita de Fraternidade Albino Teixeira\, Rua dos Aeroviários\, 240\, Bairro Liberdade\, Belo Horizonte\, MG\, 31270-330\, Brasil
CATEGORIES:Reunião Pública
ATTACH;FMTTYPE=image/jpeg:https://albinoteixeira.org.br/wp-content/uploads/2022/06/sede-scaled-e1656615992280.jpg
END:VEVENT
BEGIN:VEVENT
DTSTART;TZID=America/Sao_Paulo:20221019T200000
DTEND;TZID=America/Sao_Paulo:20221019T200000
DTSTAMP:20260426T011941
CREATED:20221017T104823Z
LAST-MODIFIED:20221017T104823Z
UID:6376-1666209600-1666209600@albinoteixeira.org.br
SUMMARY:A caminho de Emaús
DESCRIPTION:
URL:https://albinoteixeira.org.br/evento/a-caminho-de-emaus-4/
LOCATION:Grupo Espírita de Fraternidade Albino Teixeira\, Rua dos Aeroviários\, 240\, Bairro Liberdade\, Belo Horizonte\, MG\, 31270-330\, Brasil
CATEGORIES:Reunião Pública
ATTACH;FMTTYPE=image/jpeg:https://albinoteixeira.org.br/wp-content/uploads/2022/06/sede-scaled-e1656615992280.jpg
END:VEVENT
BEGIN:VEVENT
DTSTART;TZID=America/Sao_Paulo:20221020T200000
DTEND;TZID=America/Sao_Paulo:20221020T200000
DTSTAMP:20260426T011941
CREATED:20221017T105150Z
LAST-MODIFIED:20221017T105150Z
UID:6380-1666296000-1666296000@albinoteixeira.org.br
SUMMARY:Dor e sofrimento na visão espírita
DESCRIPTION:
URL:https://albinoteixeira.org.br/evento/dor-e-sofrimento-na-visao-espirita-4/
LOCATION:Grupo Espírita de Fraternidade Albino Teixeira\, Rua dos Aeroviários\, 240\, Bairro Liberdade\, Belo Horizonte\, MG\, 31270-330\, Brasil
CATEGORIES:Reunião Pública
ATTACH;FMTTYPE=image/jpeg:https://albinoteixeira.org.br/wp-content/uploads/2022/06/sede-scaled-e1656615992280.jpg
END:VEVENT
BEGIN:VEVENT
DTSTART;TZID=America/Sao_Paulo:20221021T150000
DTEND;TZID=America/Sao_Paulo:20221021T150000
DTSTAMP:20260426T011941
CREATED:20221017T105904Z
LAST-MODIFIED:20221017T105904Z
UID:6384-1666364400-1666364400@albinoteixeira.org.br
SUMMARY:Fora da caridade não há salvação
DESCRIPTION:
URL:https://albinoteixeira.org.br/evento/fora-da-caridade-nao-ha-salvacao-6/
LOCATION:Grupo Espírita de Fraternidade Albino Teixeira\, Rua dos Aeroviários\, 240\, Bairro Liberdade\, Belo Horizonte\, MG\, 31270-330\, Brasil
CATEGORIES:Reunião Pública
ATTACH;FMTTYPE=image/jpeg:https://albinoteixeira.org.br/wp-content/uploads/2022/06/sede-scaled-e1656615992280.jpg
END:VEVENT
BEGIN:VEVENT
DTSTART;TZID=America/Sao_Paulo:20221021T200000
DTEND;TZID=America/Sao_Paulo:20221021T200000
DTSTAMP:20260426T011941
CREATED:20221017T105717Z
LAST-MODIFIED:20221017T105718Z
UID:6382-1666382400-1666382400@albinoteixeira.org.br
SUMMARY:A verdade vos libertará
DESCRIPTION:
URL:https://albinoteixeira.org.br/evento/a-verdade-vos-libertara-5/
LOCATION:Grupo Espírita de Fraternidade Albino Teixeira\, Rua dos Aeroviários\, 240\, Bairro Liberdade\, Belo Horizonte\, MG\, 31270-330\, Brasil
CATEGORIES:Reunião Pública
ATTACH;FMTTYPE=image/jpeg:https://albinoteixeira.org.br/wp-content/uploads/2022/06/sede-scaled-e1656615992280.jpg
END:VEVENT
BEGIN:VEVENT
DTSTART;TZID=America/Sao_Paulo:20221022T100000
DTEND;TZID=America/Sao_Paulo:20221022T100000
DTSTAMP:20260426T011941
CREATED:20221017T110052Z
LAST-MODIFIED:20221017T110052Z
UID:6386-1666432800-1666432800@albinoteixeira.org.br
SUMMARY:A parentela corporal e a parentela espiritual
DESCRIPTION:
URL:https://albinoteixeira.org.br/evento/a-parentela-corporal-e-a-parentela-espiritual-2/
LOCATION:Grupo Espírita de Fraternidade Albino Teixeira\, Rua dos Aeroviários\, 240\, Bairro Liberdade\, Belo Horizonte\, MG\, 31270-330\, Brasil
CATEGORIES:Reunião Pública
ATTACH;FMTTYPE=image/jpeg:https://albinoteixeira.org.br/wp-content/uploads/2022/06/sede-scaled-e1656615992280.jpg
END:VEVENT
BEGIN:VEVENT
DTSTART;TZID=America/Sao_Paulo:20221022T150000
DTEND;TZID=America/Sao_Paulo:20221022T150000
DTSTAMP:20260426T011941
CREATED:20221017T110300Z
LAST-MODIFIED:20221017T110300Z
UID:6388-1666450800-1666450800@albinoteixeira.org.br
SUMMARY:Eu pacificador
DESCRIPTION:
URL:https://albinoteixeira.org.br/evento/eu-pacificador-3/
LOCATION:Grupo Espírita de Fraternidade Albino Teixeira\, Rua dos Aeroviários\, 240\, Bairro Liberdade\, Belo Horizonte\, MG\, 31270-330\, Brasil
CATEGORIES:Reunião Pública
END:VEVENT
BEGIN:VEVENT
DTSTART;TZID=America/Sao_Paulo:20221022T183000
DTEND;TZID=America/Sao_Paulo:20221022T183000
DTSTAMP:20260426T011941
CREATED:20221017T110432Z
LAST-MODIFIED:20221017T110432Z
UID:6390-1666463400-1666463400@albinoteixeira.org.br
SUMMARY:Leis morais: lei do trabalho
DESCRIPTION:
URL:https://albinoteixeira.org.br/evento/leis-morais-lei-do-trabalho-4/
LOCATION:Grupo Espírita de Fraternidade Albino Teixeira\, Rua dos Aeroviários\, 240\, Bairro Liberdade\, Belo Horizonte\, MG\, 31270-330\, Brasil
CATEGORIES:Reunião Pública
ATTACH;FMTTYPE=image/jpeg:https://albinoteixeira.org.br/wp-content/uploads/2022/06/sede-scaled-e1656615992280.jpg
END:VEVENT
BEGIN:VEVENT
DTSTART;TZID=America/Sao_Paulo:20221023T100000
DTEND;TZID=America/Sao_Paulo:20221023T100000
DTSTAMP:20260426T011941
CREATED:20221017T110611Z
LAST-MODIFIED:20221017T110612Z
UID:6392-1666519200-1666519200@albinoteixeira.org.br
SUMMARY:Espíritos protetores
DESCRIPTION:
URL:https://albinoteixeira.org.br/evento/espiritos-protetores-6/
LOCATION:Grupo Espírita de Fraternidade Albino Teixeira\, Rua dos Aeroviários\, 240\, Bairro Liberdade\, Belo Horizonte\, MG\, 31270-330\, Brasil
CATEGORIES:Reunião Pública
ATTACH;FMTTYPE=image/jpeg:https://albinoteixeira.org.br/wp-content/uploads/2022/06/sede-scaled-e1656615992280.jpg
END:VEVENT
BEGIN:VEVENT
DTSTART;TZID=America/Sao_Paulo:20221023T190000
DTEND;TZID=America/Sao_Paulo:20221023T190000
DTSTAMP:20260426T011941
CREATED:20221017T112759Z
LAST-MODIFIED:20221017T112759Z
UID:6421-1666551600-1666551600@albinoteixeira.org.br
SUMMARY:Sede perfeitos
DESCRIPTION:
URL:https://albinoteixeira.org.br/evento/sede-perfeitos/
LOCATION:Plataforma Zoom (Senha: 123)
CATEGORIES:Online,Reunião Pública
ATTACH;FMTTYPE=image/jpeg:https://albinoteixeira.org.br/wp-content/uploads/2022/06/sede-scaled-e1656615992280.jpg
END:VEVENT
BEGIN:VEVENT
DTSTART;TZID=America/Sao_Paulo:20221024T200000
DTEND;TZID=America/Sao_Paulo:20221024T200000
DTSTAMP:20260426T011941
CREATED:20221017T110807Z
LAST-MODIFIED:20221017T110807Z
UID:6394-1666641600-1666641600@albinoteixeira.org.br
SUMMARY:Recomeçar sempre: é preciso modificar-se
DESCRIPTION:
URL:https://albinoteixeira.org.br/evento/recomecar-sempre-e-preciso-modificar-se-3/
LOCATION:Grupo Espírita de Fraternidade Albino Teixeira\, Rua dos Aeroviários\, 240\, Bairro Liberdade\, Belo Horizonte\, MG\, 31270-330\, Brasil
CATEGORIES:Reunião Pública
ATTACH;FMTTYPE=image/jpeg:https://albinoteixeira.org.br/wp-content/uploads/2022/06/sede-scaled-e1656615992280.jpg
END:VEVENT
BEGIN:VEVENT
DTSTART;TZID=America/Sao_Paulo:20221025T200000
DTEND;TZID=America/Sao_Paulo:20221025T200000
DTSTAMP:20260426T011941
CREATED:20221017T110935Z
LAST-MODIFIED:20221017T110935Z
UID:6397-1666728000-1666728000@albinoteixeira.org.br
SUMMARY:A Saga de Caim
DESCRIPTION:
URL:https://albinoteixeira.org.br/evento/a-saga-de-caim/
LOCATION:Grupo Espírita de Fraternidade Albino Teixeira\, Rua dos Aeroviários\, 240\, Bairro Liberdade\, Belo Horizonte\, MG\, 31270-330\, Brasil
CATEGORIES:Reunião Pública
ATTACH;FMTTYPE=image/jpeg:https://albinoteixeira.org.br/wp-content/uploads/2022/06/sede-scaled-e1656615992280.jpg
END:VEVENT
BEGIN:VEVENT
DTSTART;TZID=America/Sao_Paulo:20221026T150000
DTEND;TZID=America/Sao_Paulo:20221026T150000
DTSTAMP:20260426T011941
CREATED:20221017T111051Z
LAST-MODIFIED:20221017T111052Z
UID:6399-1666796400-1666796400@albinoteixeira.org.br
SUMMARY:Cristo em casa
DESCRIPTION:sed
URL:https://albinoteixeira.org.br/evento/cristo-em-casa/
LOCATION:Grupo Espírita de Fraternidade Albino Teixeira\, Rua dos Aeroviários\, 240\, Bairro Liberdade\, Belo Horizonte\, MG\, 31270-330\, Brasil
CATEGORIES:Reunião Pública
ATTACH;FMTTYPE=image/jpeg:https://albinoteixeira.org.br/wp-content/uploads/2022/06/sede-scaled-e1656615992280.jpg
END:VEVENT
BEGIN:VEVENT
DTSTART;TZID=America/Sao_Paulo:20221026T200000
DTEND;TZID=America/Sao_Paulo:20221026T200000
DTSTAMP:20260426T011941
CREATED:20221017T111218Z
LAST-MODIFIED:20221017T111218Z
UID:6401-1666814400-1666814400@albinoteixeira.org.br
SUMMARY:Dai a César o que é de César
DESCRIPTION:
URL:https://albinoteixeira.org.br/evento/dai-a-cesar-o-que-e-de-cesar-4/
LOCATION:Grupo Espírita de Fraternidade Albino Teixeira\, Rua dos Aeroviários\, 240\, Bairro Liberdade\, Belo Horizonte\, MG\, 31270-330\, Brasil
CATEGORIES:Reunião Pública
ATTACH;FMTTYPE=image/jpeg:https://albinoteixeira.org.br/wp-content/uploads/2022/06/sede-scaled-e1656615992280.jpg
END:VEVENT
BEGIN:VEVENT
DTSTART;TZID=America/Sao_Paulo:20221027T200000
DTEND;TZID=America/Sao_Paulo:20221027T200000
DTSTAMP:20260426T011941
CREATED:20221017T111335Z
LAST-MODIFIED:20221017T111335Z
UID:6403-1666900800-1666900800@albinoteixeira.org.br
SUMMARY:Princípios básicos: reencarnação
DESCRIPTION:
URL:https://albinoteixeira.org.br/evento/principios-basicos-reencarnacao-4/
LOCATION:Grupo Espírita de Fraternidade Albino Teixeira\, Rua dos Aeroviários\, 240\, Bairro Liberdade\, Belo Horizonte\, MG\, 31270-330\, Brasil
CATEGORIES:Reunião Pública
ATTACH;FMTTYPE=image/jpeg:https://albinoteixeira.org.br/wp-content/uploads/2022/06/sede-scaled-e1656615992280.jpg
END:VEVENT
BEGIN:VEVENT
DTSTART;TZID=America/Sao_Paulo:20221028T150000
DTEND;TZID=America/Sao_Paulo:20221028T150000
DTSTAMP:20260426T011941
CREATED:20221017T111458Z
LAST-MODIFIED:20221017T111458Z
UID:6405-1666969200-1666969200@albinoteixeira.org.br
SUMMARY:A missão de Jesus
DESCRIPTION:
URL:https://albinoteixeira.org.br/evento/a-missao-de-jesus-5/
LOCATION:Grupo Espírita de Fraternidade Albino Teixeira\, Rua dos Aeroviários\, 240\, Bairro Liberdade\, Belo Horizonte\, MG\, 31270-330\, Brasil
CATEGORIES:Reunião Pública
ATTACH;FMTTYPE=image/jpeg:https://albinoteixeira.org.br/wp-content/uploads/2022/06/sede-scaled-e1656615992280.jpg
END:VEVENT
BEGIN:VEVENT
DTSTART;TZID=America/Sao_Paulo:20221028T200000
DTEND;TZID=America/Sao_Paulo:20221028T200000
DTSTAMP:20260426T011941
CREATED:20221017T111616Z
LAST-MODIFIED:20221017T111617Z
UID:6407-1666987200-1666987200@albinoteixeira.org.br
SUMMARY:Educação no lar
DESCRIPTION:
URL:https://albinoteixeira.org.br/evento/educacao-no-lar-4/
LOCATION:Grupo Espírita de Fraternidade Albino Teixeira\, Rua dos Aeroviários\, 240\, Bairro Liberdade\, Belo Horizonte\, MG\, 31270-330\, Brasil
CATEGORIES:Reunião Pública
ATTACH;FMTTYPE=image/jpeg:https://albinoteixeira.org.br/wp-content/uploads/2022/06/sede-scaled-e1656615992280.jpg
END:VEVENT
BEGIN:VEVENT
DTSTART;TZID=America/Sao_Paulo:20221029T100000
DTEND;TZID=America/Sao_Paulo:20221029T100000
DTSTAMP:20260426T011941
CREATED:20221017T111746Z
LAST-MODIFIED:20221017T111746Z
UID:6409-1667037600-1667037600@albinoteixeira.org.br
SUMMARY:Leis Morais - Lei de Adoração
DESCRIPTION:
URL:https://albinoteixeira.org.br/evento/leis-morais-lei-de-adoracao-9/
LOCATION:Grupo Espírita de Fraternidade Albino Teixeira\, Rua dos Aeroviários\, 240\, Bairro Liberdade\, Belo Horizonte\, MG\, 31270-330\, Brasil
CATEGORIES:Reunião Pública
ATTACH;FMTTYPE=image/jpeg:https://albinoteixeira.org.br/wp-content/uploads/2022/06/sede-scaled-e1656615992280.jpg
END:VEVENT
BEGIN:VEVENT
DTSTART;TZID=America/Sao_Paulo:20221029T150000
DTEND;TZID=America/Sao_Paulo:20221029T150000
DTSTAMP:20260426T011941
CREATED:20221017T112124Z
LAST-MODIFIED:20221017T112125Z
UID:6413-1667055600-1667055600@albinoteixeira.org.br
SUMMARY:Fidelidade a Deus
DESCRIPTION:
URL:https://albinoteixeira.org.br/evento/fidelidade-a-deus-3/
LOCATION:Grupo Espírita de Fraternidade Albino Teixeira\, Rua dos Aeroviários\, 240\, Bairro Liberdade\, Belo Horizonte\, MG\, 31270-330\, Brasil
CATEGORIES:Reunião Pública
ATTACH;FMTTYPE=image/jpeg:https://albinoteixeira.org.br/wp-content/uploads/2022/06/sede-scaled-e1656615992280.jpg
END:VEVENT
BEGIN:VEVENT
DTSTART;TZID=America/Sao_Paulo:20221029T183000
DTEND;TZID=America/Sao_Paulo:20221029T183000
DTSTAMP:20260426T011941
CREATED:20221017T112017Z
LAST-MODIFIED:20221017T112017Z
UID:6411-1667068200-1667068200@albinoteixeira.org.br
SUMMARY:Cuidar do corpo e do espírito
DESCRIPTION:
URL:https://albinoteixeira.org.br/evento/cuidar-do-corpo-e-do-espirito-4/
LOCATION:Grupo Espírita de Fraternidade Albino Teixeira\, Rua dos Aeroviários\, 240\, Bairro Liberdade\, Belo Horizonte\, MG\, 31270-330\, Brasil
CATEGORIES:Reunião Pública
ATTACH;FMTTYPE=image/jpeg:https://albinoteixeira.org.br/wp-content/uploads/2022/06/sede-scaled-e1656615992280.jpg
END:VEVENT
BEGIN:VEVENT
DTSTART;TZID=America/Sao_Paulo:20221030T100000
DTEND;TZID=America/Sao_Paulo:20221030T100000
DTSTAMP:20260426T011941
CREATED:20221017T112331Z
LAST-MODIFIED:20221017T112332Z
UID:6415-1667124000-1667124000@albinoteixeira.org.br
SUMMARY:Parábola do filho pródigo
DESCRIPTION:
URL:https://albinoteixeira.org.br/evento/parabola-do-filho-prodigo-7/
LOCATION:Grupo Espírita de Fraternidade Albino Teixeira\, Rua dos Aeroviários\, 240\, Bairro Liberdade\, Belo Horizonte\, MG\, 31270-330\, Brasil
CATEGORIES:Reunião Pública
ATTACH;FMTTYPE=image/jpeg:https://albinoteixeira.org.br/wp-content/uploads/2022/06/sede-scaled-e1656615992280.jpg
END:VEVENT
BEGIN:VEVENT
DTSTART;TZID=America/Sao_Paulo:20221030T190000
DTEND;TZID=America/Sao_Paulo:20221030T190000
DTSTAMP:20260426T011941
CREATED:20221017T112919Z
LAST-MODIFIED:20221017T112953Z
UID:6423-1667156400-1667156400@albinoteixeira.org.br
SUMMARY:Paz seja convosco
DESCRIPTION:
URL:https://albinoteixeira.org.br/evento/paz-seja-convosco-2/
LOCATION:Plataforma Zoom (Senha: 123)
CATEGORIES:Online,Reunião Pública
ATTACH;FMTTYPE=image/jpeg:https://albinoteixeira.org.br/wp-content/uploads/2022/06/sede-scaled-e1656615992280.jpg
END:VEVENT
BEGIN:VEVENT
DTSTART;TZID=America/Sao_Paulo:20221031T200000
DTEND;TZID=America/Sao_Paulo:20221031T200000
DTSTAMP:20260426T011941
CREATED:20221017T112451Z
LAST-MODIFIED:20221017T112452Z
UID:6417-1667246400-1667246400@albinoteixeira.org.br
SUMMARY:A escolha de provas
DESCRIPTION:
URL:https://albinoteixeira.org.br/evento/a-escolha-de-provas-9/
LOCATION:Grupo Espírita de Fraternidade Albino Teixeira\, Rua dos Aeroviários\, 240\, Bairro Liberdade\, Belo Horizonte\, MG\, 31270-330\, Brasil
CATEGORIES:Reunião Pública
ATTACH;FMTTYPE=image/jpeg:https://albinoteixeira.org.br/wp-content/uploads/2022/06/sede-scaled-e1656615992280.jpg
END:VEVENT
BEGIN:VEVENT
DTSTART;TZID=America/Sao_Paulo:20221101T200000
DTEND;TZID=America/Sao_Paulo:20221101T200000
DTSTAMP:20260426T011941
CREATED:20221027T113400Z
LAST-MODIFIED:20221027T113400Z
UID:6434-1667332800-1667332800@albinoteixeira.org.br
SUMMARY:Açoitando o ar
DESCRIPTION:
URL:https://albinoteixeira.org.br/evento/acoitando-o-ar-2/
LOCATION:Grupo Espírita de Fraternidade Albino Teixeira\, Rua dos Aeroviários\, 240\, Bairro Liberdade\, Belo Horizonte\, MG\, 31270-330\, Brasil
CATEGORIES:Reunião Pública
ATTACH;FMTTYPE=image/jpeg:https://albinoteixeira.org.br/wp-content/uploads/2022/06/sede-scaled-e1656615992280.jpg
END:VEVENT
BEGIN:VEVENT
DTSTART;TZID=America/Sao_Paulo:20221102T150000
DTEND;TZID=America/Sao_Paulo:20221102T150000
DTSTAMP:20260426T011941
CREATED:20221027T113638Z
LAST-MODIFIED:20221027T113638Z
UID:6436-1667401200-1667401200@albinoteixeira.org.br
SUMMARY:E Jesus\, estendendo as mãos\, tocando-o\, dizendo: quero\, sê limpo...
DESCRIPTION:
URL:https://albinoteixeira.org.br/evento/e-jesus-estendendo-as-maos-tocando-o-dizendo-quero-se-limpo/
LOCATION:Grupo Espírita de Fraternidade Albino Teixeira\, Rua dos Aeroviários\, 240\, Bairro Liberdade\, Belo Horizonte\, MG\, 31270-330\, Brasil
CATEGORIES:Reunião Pública
ATTACH;FMTTYPE=image/jpeg:https://albinoteixeira.org.br/wp-content/uploads/2022/06/sede-scaled-e1656615992280.jpg
END:VEVENT
BEGIN:VEVENT
DTSTART;TZID=America/Sao_Paulo:20221103T200000
DTEND;TZID=America/Sao_Paulo:20221103T200000
DTSTAMP:20260426T011941
CREATED:20221027T113818Z
LAST-MODIFIED:20221027T113818Z
UID:6438-1667505600-1667505600@albinoteixeira.org.br
SUMMARY:Caridade para com os criminosos
DESCRIPTION:
URL:https://albinoteixeira.org.br/evento/caridade-para-com-os-criminosos-6/
LOCATION:Grupo Espírita de Fraternidade Albino Teixeira\, Rua dos Aeroviários\, 240\, Bairro Liberdade\, Belo Horizonte\, MG\, 31270-330\, Brasil
CATEGORIES:Reunião Pública
ATTACH;FMTTYPE=image/jpeg:https://albinoteixeira.org.br/wp-content/uploads/2022/06/sede-scaled-e1656615992280.jpg
END:VEVENT
BEGIN:VEVENT
DTSTART;TZID=America/Sao_Paulo:20221103T200000
DTEND;TZID=America/Sao_Paulo:20221103T200000
DTSTAMP:20260426T011941
CREATED:20221027T114127Z
LAST-MODIFIED:20221027T114127Z
UID:6440-1667505600-1667505600@albinoteixeira.org.br
SUMMARY:Mas não vos conformeis com este mundo\, mas transformai-vos
DESCRIPTION:
URL:https://albinoteixeira.org.br/evento/mas-nao-vos-conformeis-com-este-mundo-mas-transformai-vos/
LOCATION:Grupo Espírita de Fraternidade Albino Teixeira\, Rua dos Aeroviários\, 240\, Bairro Liberdade\, Belo Horizonte\, MG\, 31270-330\, Brasil
CATEGORIES:Reunião Pública
ATTACH;FMTTYPE=image/jpeg:https://albinoteixeira.org.br/wp-content/uploads/2022/06/sede-scaled-e1656615992280.jpg
END:VEVENT
BEGIN:VEVENT
DTSTART;TZID=America/Sao_Paulo:20221104T150000
DTEND;TZID=America/Sao_Paulo:20221104T150000
DTSTAMP:20260426T011941
CREATED:20221027T114241Z
LAST-MODIFIED:20221027T114242Z
UID:6442-1667574000-1667574000@albinoteixeira.org.br
SUMMARY:A felicidade não é desse mundo
DESCRIPTION:
URL:https://albinoteixeira.org.br/evento/a-felicidade-nao-e-desse-mundo-3/
LOCATION:Grupo Espírita de Fraternidade Albino Teixeira\, Rua dos Aeroviários\, 240\, Bairro Liberdade\, Belo Horizonte\, MG\, 31270-330\, Brasil
CATEGORIES:Reunião Pública
ATTACH;FMTTYPE=image/jpeg:https://albinoteixeira.org.br/wp-content/uploads/2022/06/sede-scaled-e1656615992280.jpg
END:VEVENT
BEGIN:VEVENT
DTSTART;TZID=America/Sao_Paulo:20221104T200000
DTEND;TZID=America/Sao_Paulo:20221104T200000
DTSTAMP:20260426T011941
CREATED:20221027T114345Z
LAST-MODIFIED:20221027T114345Z
UID:6444-1667592000-1667592000@albinoteixeira.org.br
SUMMARY:A inspiração de Pedro
DESCRIPTION:
URL:https://albinoteixeira.org.br/evento/a-inspiracao-de-pedro-5/
LOCATION:Grupo Espírita de Fraternidade Albino Teixeira\, Rua dos Aeroviários\, 240\, Bairro Liberdade\, Belo Horizonte\, MG\, 31270-330\, Brasil
CATEGORIES:Reunião Pública
ATTACH;FMTTYPE=image/jpeg:https://albinoteixeira.org.br/wp-content/uploads/2022/06/sede-scaled-e1656615992280.jpg
END:VEVENT
BEGIN:VEVENT
DTSTART;TZID=America/Sao_Paulo:20221105T100000
DTEND;TZID=America/Sao_Paulo:20221105T100000
DTSTAMP:20260426T011941
CREATED:20221027T114511Z
LAST-MODIFIED:20221027T114511Z
UID:6446-1667642400-1667642400@albinoteixeira.org.br
SUMMARY:Edificando a paz interior
DESCRIPTION:
URL:https://albinoteixeira.org.br/evento/edificando-a-paz-interior-4/
LOCATION:Grupo Espírita de Fraternidade Albino Teixeira\, Rua dos Aeroviários\, 240\, Bairro Liberdade\, Belo Horizonte\, MG\, 31270-330\, Brasil
CATEGORIES:Reunião Pública
ATTACH;FMTTYPE=image/jpeg:https://albinoteixeira.org.br/wp-content/uploads/2022/06/sede-scaled-e1656615992280.jpg
END:VEVENT
END:VCALENDAR