BEGIN:VCALENDAR
VERSION:2.0
PRODID:-//Gefrater - ECPv6.15.20//NONSGML v1.0//EN
CALSCALE:GREGORIAN
METHOD:PUBLISH
X-ORIGINAL-URL:https://albinoteixeira.org.br
X-WR-CALDESC:Eventos para Gefrater
REFRESH-INTERVAL;VALUE=DURATION:PT1H
X-Robots-Tag:noindex
X-PUBLISHED-TTL:PT1H
BEGIN:VTIMEZONE
TZID:America/Sao_Paulo
BEGIN:STANDARD
TZOFFSETFROM:-0300
TZOFFSETTO:-0300
TZNAME:-03
DTSTART:20220101T000000
END:STANDARD
END:VTIMEZONE
BEGIN:VEVENT
DTSTART;TZID=America/Sao_Paulo:20230312T100000
DTEND;TZID=America/Sao_Paulo:20230312T100000
DTSTAMP:20260423T144639
CREATED:20230302T110407Z
LAST-MODIFIED:20230302T110407Z
UID:7089-1678615200-1678615200@albinoteixeira.org.br
SUMMARY:Palavra falada
DESCRIPTION:
URL:https://albinoteixeira.org.br/evento/palavra-falada-2/
LOCATION:Grupo Espírita de Fraternidade Albino Teixeira\, Rua dos Aeroviários\, 240\, Bairro Liberdade\, Belo Horizonte\, MG\, 31270-330\, Brasil
CATEGORIES:Reunião Pública
ATTACH;FMTTYPE=image/jpeg:https://albinoteixeira.org.br/wp-content/uploads/2022/06/sede-scaled-e1656615992280.jpg
END:VEVENT
BEGIN:VEVENT
DTSTART;TZID=America/Sao_Paulo:20230312T190000
DTEND;TZID=America/Sao_Paulo:20230312T190000
DTSTAMP:20260423T144639
CREATED:20230302T111136Z
LAST-MODIFIED:20230302T111137Z
UID:7101-1678647600-1678647600@albinoteixeira.org.br
SUMMARY:Pensamento e Vontade
DESCRIPTION:
URL:https://albinoteixeira.org.br/evento/pensamento-e-vontade-6/
LOCATION:Plataforma Zoom (Senha: 123)
CATEGORIES:Online,Reunião Pública
ATTACH;FMTTYPE=image/jpeg:https://albinoteixeira.org.br/wp-content/uploads/2022/06/sede-scaled-e1656615992280.jpg
END:VEVENT
BEGIN:VEVENT
DTSTART;TZID=America/Sao_Paulo:20230313T200000
DTEND;TZID=America/Sao_Paulo:20230313T200000
DTSTAMP:20260423T144639
CREATED:20230302T110520Z
LAST-MODIFIED:20230302T110520Z
UID:7091-1678737600-1678737600@albinoteixeira.org.br
SUMMARY:A misericórdia - estudo do Salmo 51
DESCRIPTION:
URL:https://albinoteixeira.org.br/evento/a-misericordia-estudo-do-salmo-51-2/
LOCATION:Grupo Espírita de Fraternidade Albino Teixeira\, Rua dos Aeroviários\, 240\, Bairro Liberdade\, Belo Horizonte\, MG\, 31270-330\, Brasil
CATEGORIES:Reunião Pública
ATTACH;FMTTYPE=image/jpeg:https://albinoteixeira.org.br/wp-content/uploads/2022/06/sede-scaled-e1656615992280.jpg
END:VEVENT
BEGIN:VEVENT
DTSTART;TZID=America/Sao_Paulo:20230314T200000
DTEND;TZID=America/Sao_Paulo:20230314T200000
DTSTAMP:20260423T144639
CREATED:20230302T110623Z
LAST-MODIFIED:20230302T110624Z
UID:7093-1678824000-1678824000@albinoteixeira.org.br
SUMMARY:Obsessão espiritual
DESCRIPTION:
URL:https://albinoteixeira.org.br/evento/obsessao-espiritual-5/
LOCATION:Grupo Espírita de Fraternidade Albino Teixeira\, Rua dos Aeroviários\, 240\, Bairro Liberdade\, Belo Horizonte\, MG\, 31270-330\, Brasil
CATEGORIES:Reunião Pública
ATTACH;FMTTYPE=image/jpeg:https://albinoteixeira.org.br/wp-content/uploads/2022/06/sede-scaled-e1656615992280.jpg
END:VEVENT
BEGIN:VEVENT
DTSTART;TZID=America/Sao_Paulo:20230315T150000
DTEND;TZID=America/Sao_Paulo:20230315T150000
DTSTAMP:20260423T144639
CREATED:20230302T110740Z
LAST-MODIFIED:20230302T110740Z
UID:7095-1678892400-1678892400@albinoteixeira.org.br
SUMMARY:Providência Divina
DESCRIPTION:
URL:https://albinoteixeira.org.br/evento/providencia-divina-8/
LOCATION:Grupo Espírita de Fraternidade Albino Teixeira\, Rua dos Aeroviários\, 240\, Bairro Liberdade\, Belo Horizonte\, MG\, 31270-330\, Brasil
CATEGORIES:Reunião Pública
ATTACH;FMTTYPE=image/jpeg:https://albinoteixeira.org.br/wp-content/uploads/2022/06/sede-scaled-e1656615992280.jpg
END:VEVENT
BEGIN:VEVENT
DTSTART;TZID=America/Sao_Paulo:20230315T200000
DTEND;TZID=America/Sao_Paulo:20230315T200000
DTSTAMP:20260423T144639
CREATED:20230302T110844Z
LAST-MODIFIED:20230302T110845Z
UID:7097-1678910400-1678910400@albinoteixeira.org.br
SUMMARY:No auxílio a todos
DESCRIPTION:
URL:https://albinoteixeira.org.br/evento/no-auxilio-a-todos-2/
LOCATION:Grupo Espírita de Fraternidade Albino Teixeira\, Rua dos Aeroviários\, 240\, Bairro Liberdade\, Belo Horizonte\, MG\, 31270-330\, Brasil
CATEGORIES:Reunião Pública
ATTACH;FMTTYPE=image/jpeg:https://albinoteixeira.org.br/wp-content/uploads/2022/06/sede-scaled-e1656615992280.jpg
END:VEVENT
BEGIN:VEVENT
DTSTART;TZID=America/Sao_Paulo:20230316T200000
DTEND;TZID=America/Sao_Paulo:20230316T200000
DTSTAMP:20260423T144639
CREATED:20230317T001650Z
LAST-MODIFIED:20230317T001715Z
UID:7109-1678996800-1678996800@albinoteixeira.org.br
SUMMARY:Sede firmes\, inabalável e abundante na obra do Senhor
DESCRIPTION: 
URL:https://albinoteixeira.org.br/evento/sede-firmes-inabalavel-e-abundante-na-obra-do-senhor/
LOCATION:Grupo Espírita de Fraternidade Albino Teixeira\, Rua dos Aeroviários\, 240\, Bairro Liberdade\, Belo Horizonte\, MG\, 31270-330\, Brasil
CATEGORIES:Reunião Pública
ATTACH;FMTTYPE=image/jpeg:https://albinoteixeira.org.br/wp-content/uploads/2022/06/sede-scaled-e1656615992280.jpg
END:VEVENT
BEGIN:VEVENT
DTSTART;TZID=America/Sao_Paulo:20230317T150000
DTEND;TZID=America/Sao_Paulo:20230317T150000
DTSTAMP:20260423T144639
CREATED:20230317T001837Z
LAST-MODIFIED:20230317T001838Z
UID:7111-1679065200-1679065200@albinoteixeira.org.br
SUMMARY:Ação e reação
DESCRIPTION:
URL:https://albinoteixeira.org.br/evento/acao-e-reacao-8/
LOCATION:Grupo Espírita de Fraternidade Albino Teixeira\, Rua dos Aeroviários\, 240\, Bairro Liberdade\, Belo Horizonte\, MG\, 31270-330\, Brasil
CATEGORIES:Reunião Pública
ATTACH;FMTTYPE=image/jpeg:https://albinoteixeira.org.br/wp-content/uploads/2022/06/sede-scaled-e1656615992280.jpg
END:VEVENT
BEGIN:VEVENT
DTSTART;TZID=America/Sao_Paulo:20230317T200000
DTEND;TZID=America/Sao_Paulo:20230317T200000
DTSTAMP:20260423T144639
CREATED:20230317T002017Z
LAST-MODIFIED:20230317T002017Z
UID:7113-1679083200-1679083200@albinoteixeira.org.br
SUMMARY:A minha paz vos dou
DESCRIPTION:
URL:https://albinoteixeira.org.br/evento/a-minha-paz-vos-dou/
LOCATION:Grupo Espírita de Fraternidade Albino Teixeira\, Rua dos Aeroviários\, 240\, Bairro Liberdade\, Belo Horizonte\, MG\, 31270-330\, Brasil
CATEGORIES:Reunião Pública
ATTACH;FMTTYPE=image/jpeg:https://albinoteixeira.org.br/wp-content/uploads/2022/06/sede-scaled-e1656615992280.jpg
END:VEVENT
BEGIN:VEVENT
DTSTART;TZID=America/Sao_Paulo:20230318T100000
DTEND;TZID=America/Sao_Paulo:20230318T100000
DTSTAMP:20260423T144639
CREATED:20230317T002214Z
LAST-MODIFIED:20230317T002214Z
UID:7115-1679133600-1679133600@albinoteixeira.org.br
SUMMARY:A melhor parte - Marta e Maria
DESCRIPTION:
URL:https://albinoteixeira.org.br/evento/a-melhor-parte-marta-e-maria-6/
LOCATION:Grupo Espírita de Fraternidade Albino Teixeira\, Rua dos Aeroviários\, 240\, Bairro Liberdade\, Belo Horizonte\, MG\, 31270-330\, Brasil
CATEGORIES:Reunião Pública
ATTACH;FMTTYPE=image/jpeg:https://albinoteixeira.org.br/wp-content/uploads/2022/06/sede-scaled-e1656615992280.jpg
END:VEVENT
BEGIN:VEVENT
DTSTART;TZID=America/Sao_Paulo:20230318T143000
DTEND;TZID=America/Sao_Paulo:20230318T143000
DTSTAMP:20260423T144639
CREATED:20230317T002342Z
LAST-MODIFIED:20230317T002342Z
UID:7117-1679149800-1679149800@albinoteixeira.org.br
SUMMARY:A família na visão espírita
DESCRIPTION:
URL:https://albinoteixeira.org.br/evento/a-familia-na-visao-espirita-2/
LOCATION:Grupo Espírita de Fraternidade Albino Teixeira\, Rua dos Aeroviários\, 240\, Bairro Liberdade\, Belo Horizonte\, MG\, 31270-330\, Brasil
CATEGORIES:Reunião Pública
ATTACH;FMTTYPE=image/jpeg:https://albinoteixeira.org.br/wp-content/uploads/2022/06/sede-scaled-e1656615992280.jpg
END:VEVENT
BEGIN:VEVENT
DTSTART;TZID=America/Sao_Paulo:20230318T183000
DTEND;TZID=America/Sao_Paulo:20230318T183000
DTSTAMP:20260423T144639
CREATED:20230317T002558Z
LAST-MODIFIED:20230317T003329Z
UID:7119-1679164200-1679164200@albinoteixeira.org.br
SUMMARY:Parábola dos primeiros lugares
DESCRIPTION:
URL:https://albinoteixeira.org.br/evento/parabola-dos-primeiros-lugares/
LOCATION:Grupo Espírita de Fraternidade Albino Teixeira\, Rua dos Aeroviários\, 240\, Bairro Liberdade\, Belo Horizonte\, MG\, 31270-330\, Brasil
CATEGORIES:Reunião Pública
ATTACH;FMTTYPE=image/jpeg:https://albinoteixeira.org.br/wp-content/uploads/2022/06/sede-scaled-e1656615992280.jpg
END:VEVENT
BEGIN:VEVENT
DTSTART;TZID=America/Sao_Paulo:20230319T100000
DTEND;TZID=America/Sao_Paulo:20230319T100000
DTSTAMP:20260423T144639
CREATED:20230317T002736Z
LAST-MODIFIED:20230317T002736Z
UID:7122-1679220000-1679220000@albinoteixeira.org.br
SUMMARY:Defesa
DESCRIPTION:
URL:https://albinoteixeira.org.br/evento/defesa-2/
LOCATION:Grupo Espírita de Fraternidade Albino Teixeira\, Rua dos Aeroviários\, 240\, Bairro Liberdade\, Belo Horizonte\, MG\, 31270-330\, Brasil
CATEGORIES:Reunião Pública
ATTACH;FMTTYPE=image/jpeg:https://albinoteixeira.org.br/wp-content/uploads/2022/06/sede-scaled-e1656615992280.jpg
END:VEVENT
BEGIN:VEVENT
DTSTART;TZID=America/Sao_Paulo:20230319T190000
DTEND;TZID=America/Sao_Paulo:20230319T190000
DTSTAMP:20260423T144639
CREATED:20230317T003633Z
LAST-MODIFIED:20230317T003633Z
UID:7128-1679252400-1679252400@albinoteixeira.org.br
SUMMARY:Não extingais o espírito
DESCRIPTION:
URL:https://albinoteixeira.org.br/evento/nao-extingais-o-espirito/
LOCATION:Plataforma Zoom (Senha: 123)
CATEGORIES:Online,Reunião Pública
ATTACH;FMTTYPE=image/jpeg:https://albinoteixeira.org.br/wp-content/uploads/2022/06/sede-scaled-e1656615992280.jpg
END:VEVENT
BEGIN:VEVENT
DTSTART;TZID=America/Sao_Paulo:20230320T200000
DTEND;TZID=America/Sao_Paulo:20230320T200000
DTSTAMP:20260423T144639
CREATED:20230317T002941Z
LAST-MODIFIED:20230317T002942Z
UID:7124-1679342400-1679342400@albinoteixeira.org.br
SUMMARY:Se andarmos na luz como Ele\, temos comunhão uns com os outros
DESCRIPTION:
URL:https://albinoteixeira.org.br/evento/se-andarmos-na-luz-como-ele-temos-comunhao-uns-com-os-outros/
LOCATION:Grupo Espírita de Fraternidade Albino Teixeira\, Rua dos Aeroviários\, 240\, Bairro Liberdade\, Belo Horizonte\, MG\, 31270-330\, Brasil
CATEGORIES:Reunião Pública
ATTACH;FMTTYPE=image/jpeg:https://albinoteixeira.org.br/wp-content/uploads/2022/06/sede-scaled-e1656615992280.jpg
END:VEVENT
BEGIN:VEVENT
DTSTART;TZID=America/Sao_Paulo:20230321T200000
DTEND;TZID=America/Sao_Paulo:20230321T200000
DTSTAMP:20260423T144639
CREATED:20230317T003115Z
LAST-MODIFIED:20230317T003115Z
UID:7126-1679428800-1679428800@albinoteixeira.org.br
SUMMARY:O espírita na sociedade
DESCRIPTION:
URL:https://albinoteixeira.org.br/evento/o-espirita-na-sociedade-6/
LOCATION:Grupo Espírita de Fraternidade Albino Teixeira\, Rua dos Aeroviários\, 240\, Bairro Liberdade\, Belo Horizonte\, MG\, 31270-330\, Brasil
CATEGORIES:Reunião Pública
ATTACH;FMTTYPE=image/jpeg:https://albinoteixeira.org.br/wp-content/uploads/2022/06/sede-scaled-e1656615992280.jpg
END:VEVENT
BEGIN:VEVENT
DTSTART;TZID=America/Sao_Paulo:20230322T150000
DTEND;TZID=America/Sao_Paulo:20230322T150000
DTSTAMP:20260423T144639
CREATED:20230320T183022Z
LAST-MODIFIED:20230320T183022Z
UID:7138-1679497200-1679497200@albinoteixeira.org.br
SUMMARY:Parábola do servo vigilante
DESCRIPTION:
URL:https://albinoteixeira.org.br/evento/parabola-do-servo-vigilante-3/
LOCATION:Grupo Espírita de Fraternidade Albino Teixeira\, Rua dos Aeroviários\, 240\, Bairro Liberdade\, Belo Horizonte\, MG\, 31270-330\, Brasil
CATEGORIES:Reunião Pública
ATTACH;FMTTYPE=image/jpeg:https://albinoteixeira.org.br/wp-content/uploads/2022/06/sede-scaled-e1656615992280.jpg
END:VEVENT
BEGIN:VEVENT
DTSTART;TZID=America/Sao_Paulo:20230322T200000
DTEND;TZID=America/Sao_Paulo:20230322T200000
DTSTAMP:20260423T144639
CREATED:20230320T182728Z
LAST-MODIFIED:20230320T183100Z
UID:7134-1679515200-1679515200@albinoteixeira.org.br
SUMMARY:Tenha a paciência a sua obra perfeita
DESCRIPTION:
URL:https://albinoteixeira.org.br/evento/tenha-a-paciencia-a-sua-obra-perfeita-2/
LOCATION:Grupo Espírita de Fraternidade Albino Teixeira\, Rua dos Aeroviários\, 240\, Bairro Liberdade\, Belo Horizonte\, MG\, 31270-330\, Brasil
CATEGORIES:Reunião Pública
ATTACH;FMTTYPE=image/jpeg:https://albinoteixeira.org.br/wp-content/uploads/2022/06/sede-scaled-e1656615992280.jpg
END:VEVENT
BEGIN:VEVENT
DTSTART;TZID=America/Sao_Paulo:20230323T200000
DTEND;TZID=America/Sao_Paulo:20230323T200000
DTSTAMP:20260423T144639
CREATED:20230320T182914Z
LAST-MODIFIED:20230320T182914Z
UID:7136-1679601600-1679601600@albinoteixeira.org.br
SUMMARY:Vim para que tenhais vida e vida em abundância
DESCRIPTION:
URL:https://albinoteixeira.org.br/evento/vim-para-que-tenhais-vida-e-vida-em-abundancia-4/
LOCATION:Grupo Espírita de Fraternidade Albino Teixeira\, Rua dos Aeroviários\, 240\, Bairro Liberdade\, Belo Horizonte\, MG\, 31270-330\, Brasil
CATEGORIES:Reunião Pública
ATTACH;FMTTYPE=image/jpeg:https://albinoteixeira.org.br/wp-content/uploads/2022/06/sede-scaled-e1656615992280.jpg
END:VEVENT
BEGIN:VEVENT
DTSTART;TZID=America/Sao_Paulo:20230324T150000
DTEND;TZID=America/Sao_Paulo:20230324T150000
DTSTAMP:20260423T144639
CREATED:20230320T183211Z
LAST-MODIFIED:20230320T183211Z
UID:7140-1679670000-1679670000@albinoteixeira.org.br
SUMMARY:Na luz da compaixão
DESCRIPTION:
URL:https://albinoteixeira.org.br/evento/na-luz-da-compaixao/
LOCATION:Grupo Espírita de Fraternidade Albino Teixeira\, Rua dos Aeroviários\, 240\, Bairro Liberdade\, Belo Horizonte\, MG\, 31270-330\, Brasil
CATEGORIES:Reunião Pública
ATTACH;FMTTYPE=image/jpeg:https://albinoteixeira.org.br/wp-content/uploads/2022/06/sede-scaled-e1656615992280.jpg
END:VEVENT
BEGIN:VEVENT
DTSTART;TZID=America/Sao_Paulo:20230324T200000
DTEND;TZID=America/Sao_Paulo:20230324T200000
DTSTAMP:20260423T144639
CREATED:20230320T183501Z
LAST-MODIFIED:20230320T183501Z
UID:7142-1679688000-1679688000@albinoteixeira.org.br
SUMMARY:Em louvor do equilíbrio
DESCRIPTION:
URL:https://albinoteixeira.org.br/evento/em-louvor-do-equilibrio-2/
LOCATION:Grupo Espírita de Fraternidade Albino Teixeira\, Rua dos Aeroviários\, 240\, Bairro Liberdade\, Belo Horizonte\, MG\, 31270-330\, Brasil
CATEGORIES:Reunião Pública
END:VEVENT
BEGIN:VEVENT
DTSTART;TZID=America/Sao_Paulo:20230325T100000
DTEND;TZID=America/Sao_Paulo:20230325T100000
DTSTAMP:20260423T144639
CREATED:20230320T183611Z
LAST-MODIFIED:20230320T183612Z
UID:7144-1679738400-1679738400@albinoteixeira.org.br
SUMMARY:Comunhão com Deus
DESCRIPTION:
URL:https://albinoteixeira.org.br/evento/comunhao-com-deus-5/
LOCATION:Grupo Espírita de Fraternidade Albino Teixeira\, Rua dos Aeroviários\, 240\, Bairro Liberdade\, Belo Horizonte\, MG\, 31270-330\, Brasil
CATEGORIES:Reunião Pública
ATTACH;FMTTYPE=image/jpeg:https://albinoteixeira.org.br/wp-content/uploads/2022/06/sede-scaled-e1656615992280.jpg
END:VEVENT
BEGIN:VEVENT
DTSTART;TZID=America/Sao_Paulo:20230325T143000
DTEND;TZID=America/Sao_Paulo:20230325T143000
DTSTAMP:20260423T144639
CREATED:20230320T183726Z
LAST-MODIFIED:20230320T185723Z
UID:7146-1679754600-1679754600@albinoteixeira.org.br
SUMMARY:Educação no lar
DESCRIPTION:
URL:https://albinoteixeira.org.br/evento/educacao-no-lar-5/
LOCATION:Grupo Espírita de Fraternidade Albino Teixeira\, Rua dos Aeroviários\, 240\, Bairro Liberdade\, Belo Horizonte\, MG\, 31270-330\, Brasil
CATEGORIES:Reunião Pública
ATTACH;FMTTYPE=image/jpeg:https://albinoteixeira.org.br/wp-content/uploads/2022/06/sede-scaled-e1656615992280.jpg
END:VEVENT
BEGIN:VEVENT
DTSTART;TZID=America/Sao_Paulo:20230325T183000
DTEND;TZID=America/Sao_Paulo:20230325T183000
DTSTAMP:20260423T144639
CREATED:20230320T183846Z
LAST-MODIFIED:20230320T183847Z
UID:7148-1679769000-1679769000@albinoteixeira.org.br
SUMMARY:Bom aventurados os pacificadores\, serão chamados filhos de Deus
DESCRIPTION:
URL:https://albinoteixeira.org.br/evento/bom-aventurados-os-pacificadores-serao-chamados-filhos-de-deus/
LOCATION:Grupo Espírita de Fraternidade Albino Teixeira\, Rua dos Aeroviários\, 240\, Bairro Liberdade\, Belo Horizonte\, MG\, 31270-330\, Brasil
CATEGORIES:Reunião Pública
ATTACH;FMTTYPE=image/jpeg:https://albinoteixeira.org.br/wp-content/uploads/2022/06/sede-scaled-e1656615992280.jpg
END:VEVENT
BEGIN:VEVENT
DTSTART;TZID=America/Sao_Paulo:20230326T100000
DTEND;TZID=America/Sao_Paulo:20230326T100000
DTSTAMP:20260423T144639
CREATED:20230320T184046Z
LAST-MODIFIED:20230320T184047Z
UID:7150-1679824800-1679824800@albinoteixeira.org.br
SUMMARY:Parábola da Dracma perdida
DESCRIPTION:
URL:https://albinoteixeira.org.br/evento/parabola-da-dracma-perdida-4/
LOCATION:Grupo Espírita de Fraternidade Albino Teixeira\, Rua dos Aeroviários\, 240\, Bairro Liberdade\, Belo Horizonte\, MG\, 31270-330\, Brasil
CATEGORIES:Reunião Pública
ATTACH;FMTTYPE=image/jpeg:https://albinoteixeira.org.br/wp-content/uploads/2022/06/sede-scaled-e1656615992280.jpg
END:VEVENT
BEGIN:VEVENT
DTSTART;TZID=America/Sao_Paulo:20230326T190000
DTEND;TZID=America/Sao_Paulo:20230326T190000
DTSTAMP:20260423T144639
CREATED:20230317T003917Z
LAST-MODIFIED:20230317T003918Z
UID:7131-1679857200-1679857200@albinoteixeira.org.br
SUMMARY:Tu\, porém\, fala o que convém a sã doutrina
DESCRIPTION:
URL:https://albinoteixeira.org.br/evento/tu-porem-fala-o-que-convem-a-sa-doutrina/
LOCATION:Plataforma Zoom (Senha: 123)
CATEGORIES:Online,Reunião Pública
ATTACH;FMTTYPE=image/jpeg:https://albinoteixeira.org.br/wp-content/uploads/2022/06/sede-scaled-e1656615992280.jpg
END:VEVENT
BEGIN:VEVENT
DTSTART;TZID=America/Sao_Paulo:20230327T200000
DTEND;TZID=America/Sao_Paulo:20230327T200000
DTSTAMP:20260423T144639
CREATED:20230320T184647Z
LAST-MODIFIED:20230320T184648Z
UID:7152-1679947200-1679947200@albinoteixeira.org.br
SUMMARY:Examinai tudo. Retende o bem
DESCRIPTION:
URL:https://albinoteixeira.org.br/evento/examinai-tudo-retende-o-bem/
LOCATION:Grupo Espírita de Fraternidade Albino Teixeira\, Rua dos Aeroviários\, 240\, Bairro Liberdade\, Belo Horizonte\, MG\, 31270-330\, Brasil
CATEGORIES:Reunião Pública
ATTACH;FMTTYPE=image/jpeg:https://albinoteixeira.org.br/wp-content/uploads/2022/06/sede-scaled-e1656615992280.jpg
END:VEVENT
BEGIN:VEVENT
DTSTART;TZID=America/Sao_Paulo:20230328T200000
DTEND;TZID=America/Sao_Paulo:20230328T200000
DTSTAMP:20260423T144639
CREATED:20230320T184815Z
LAST-MODIFIED:20230320T184815Z
UID:7154-1680033600-1680033600@albinoteixeira.org.br
SUMMARY:Terra - Bênção Divina
DESCRIPTION:
URL:https://albinoteixeira.org.br/evento/terra-bencao-divina/
LOCATION:Grupo Espírita de Fraternidade Albino Teixeira\, Rua dos Aeroviários\, 240\, Bairro Liberdade\, Belo Horizonte\, MG\, 31270-330\, Brasil
CATEGORIES:Reunião Pública
END:VEVENT
BEGIN:VEVENT
DTSTART;TZID=America/Sao_Paulo:20230329T150000
DTEND;TZID=America/Sao_Paulo:20230329T150000
DTSTAMP:20260423T144639
CREATED:20230320T185006Z
LAST-MODIFIED:20230320T185006Z
UID:7156-1680102000-1680102000@albinoteixeira.org.br
SUMMARY:Vigiai e orai para não entrardes em tentação
DESCRIPTION:
URL:https://albinoteixeira.org.br/evento/vigiai-e-orai-para-nao-entrardes-em-tentacao-3/
LOCATION:Grupo Espírita de Fraternidade Albino Teixeira\, Rua dos Aeroviários\, 240\, Bairro Liberdade\, Belo Horizonte\, MG\, 31270-330\, Brasil
CATEGORIES:Reunião Pública
ATTACH;FMTTYPE=image/jpeg:https://albinoteixeira.org.br/wp-content/uploads/2022/06/sede-scaled-e1656615992280.jpg
END:VEVENT
BEGIN:VEVENT
DTSTART;TZID=America/Sao_Paulo:20230329T200000
DTEND;TZID=America/Sao_Paulo:20230329T200000
DTSTAMP:20260423T144639
CREATED:20230320T185140Z
LAST-MODIFIED:20230320T185141Z
UID:7158-1680120000-1680120000@albinoteixeira.org.br
SUMMARY:Excesso
DESCRIPTION:
URL:https://albinoteixeira.org.br/evento/excesso/
LOCATION:Grupo Espírita de Fraternidade Albino Teixeira\, Rua dos Aeroviários\, 240\, Bairro Liberdade\, Belo Horizonte\, MG\, 31270-330\, Brasil
CATEGORIES:Reunião Pública
ATTACH;FMTTYPE=image/jpeg:https://albinoteixeira.org.br/wp-content/uploads/2022/06/sede-scaled-e1656615992280.jpg
END:VEVENT
END:VCALENDAR