BEGIN:VCALENDAR
VERSION:2.0
PRODID:-//Gefrater - ECPv6.15.20//NONSGML v1.0//EN
CALSCALE:GREGORIAN
METHOD:PUBLISH
X-ORIGINAL-URL:https://albinoteixeira.org.br
X-WR-CALDESC:Eventos para Gefrater
REFRESH-INTERVAL;VALUE=DURATION:PT1H
X-Robots-Tag:noindex
X-PUBLISHED-TTL:PT1H
BEGIN:VTIMEZONE
TZID:America/Sao_Paulo
BEGIN:STANDARD
TZOFFSETFROM:-0300
TZOFFSETTO:-0300
TZNAME:-03
DTSTART:20220101T000000
END:STANDARD
END:VTIMEZONE
BEGIN:VEVENT
DTSTART;TZID=America/Sao_Paulo:20230326T100000
DTEND;TZID=America/Sao_Paulo:20230326T100000
DTSTAMP:20260423T144639
CREATED:20230320T184046Z
LAST-MODIFIED:20230320T184047Z
UID:7150-1679824800-1679824800@albinoteixeira.org.br
SUMMARY:Parábola da Dracma perdida
DESCRIPTION:
URL:https://albinoteixeira.org.br/evento/parabola-da-dracma-perdida-4/
LOCATION:Grupo Espírita de Fraternidade Albino Teixeira\, Rua dos Aeroviários\, 240\, Bairro Liberdade\, Belo Horizonte\, MG\, 31270-330\, Brasil
CATEGORIES:Reunião Pública
ATTACH;FMTTYPE=image/jpeg:https://albinoteixeira.org.br/wp-content/uploads/2022/06/sede-scaled-e1656615992280.jpg
END:VEVENT
BEGIN:VEVENT
DTSTART;TZID=America/Sao_Paulo:20230326T190000
DTEND;TZID=America/Sao_Paulo:20230326T190000
DTSTAMP:20260423T144639
CREATED:20230317T003917Z
LAST-MODIFIED:20230317T003918Z
UID:7131-1679857200-1679857200@albinoteixeira.org.br
SUMMARY:Tu\, porém\, fala o que convém a sã doutrina
DESCRIPTION:
URL:https://albinoteixeira.org.br/evento/tu-porem-fala-o-que-convem-a-sa-doutrina/
LOCATION:Plataforma Zoom (Senha: 123)
CATEGORIES:Online,Reunião Pública
ATTACH;FMTTYPE=image/jpeg:https://albinoteixeira.org.br/wp-content/uploads/2022/06/sede-scaled-e1656615992280.jpg
END:VEVENT
BEGIN:VEVENT
DTSTART;TZID=America/Sao_Paulo:20230327T200000
DTEND;TZID=America/Sao_Paulo:20230327T200000
DTSTAMP:20260423T144639
CREATED:20230320T184647Z
LAST-MODIFIED:20230320T184648Z
UID:7152-1679947200-1679947200@albinoteixeira.org.br
SUMMARY:Examinai tudo. Retende o bem
DESCRIPTION:
URL:https://albinoteixeira.org.br/evento/examinai-tudo-retende-o-bem/
LOCATION:Grupo Espírita de Fraternidade Albino Teixeira\, Rua dos Aeroviários\, 240\, Bairro Liberdade\, Belo Horizonte\, MG\, 31270-330\, Brasil
CATEGORIES:Reunião Pública
ATTACH;FMTTYPE=image/jpeg:https://albinoteixeira.org.br/wp-content/uploads/2022/06/sede-scaled-e1656615992280.jpg
END:VEVENT
BEGIN:VEVENT
DTSTART;TZID=America/Sao_Paulo:20230328T200000
DTEND;TZID=America/Sao_Paulo:20230328T200000
DTSTAMP:20260423T144639
CREATED:20230320T184815Z
LAST-MODIFIED:20230320T184815Z
UID:7154-1680033600-1680033600@albinoteixeira.org.br
SUMMARY:Terra - Bênção Divina
DESCRIPTION:
URL:https://albinoteixeira.org.br/evento/terra-bencao-divina/
LOCATION:Grupo Espírita de Fraternidade Albino Teixeira\, Rua dos Aeroviários\, 240\, Bairro Liberdade\, Belo Horizonte\, MG\, 31270-330\, Brasil
CATEGORIES:Reunião Pública
END:VEVENT
BEGIN:VEVENT
DTSTART;TZID=America/Sao_Paulo:20230329T150000
DTEND;TZID=America/Sao_Paulo:20230329T150000
DTSTAMP:20260423T144639
CREATED:20230320T185006Z
LAST-MODIFIED:20230320T185006Z
UID:7156-1680102000-1680102000@albinoteixeira.org.br
SUMMARY:Vigiai e orai para não entrardes em tentação
DESCRIPTION:
URL:https://albinoteixeira.org.br/evento/vigiai-e-orai-para-nao-entrardes-em-tentacao-3/
LOCATION:Grupo Espírita de Fraternidade Albino Teixeira\, Rua dos Aeroviários\, 240\, Bairro Liberdade\, Belo Horizonte\, MG\, 31270-330\, Brasil
CATEGORIES:Reunião Pública
ATTACH;FMTTYPE=image/jpeg:https://albinoteixeira.org.br/wp-content/uploads/2022/06/sede-scaled-e1656615992280.jpg
END:VEVENT
BEGIN:VEVENT
DTSTART;TZID=America/Sao_Paulo:20230329T200000
DTEND;TZID=America/Sao_Paulo:20230329T200000
DTSTAMP:20260423T144639
CREATED:20230320T185140Z
LAST-MODIFIED:20230320T185141Z
UID:7158-1680120000-1680120000@albinoteixeira.org.br
SUMMARY:Excesso
DESCRIPTION:
URL:https://albinoteixeira.org.br/evento/excesso/
LOCATION:Grupo Espírita de Fraternidade Albino Teixeira\, Rua dos Aeroviários\, 240\, Bairro Liberdade\, Belo Horizonte\, MG\, 31270-330\, Brasil
CATEGORIES:Reunião Pública
ATTACH;FMTTYPE=image/jpeg:https://albinoteixeira.org.br/wp-content/uploads/2022/06/sede-scaled-e1656615992280.jpg
END:VEVENT
BEGIN:VEVENT
DTSTART;TZID=America/Sao_Paulo:20230330T200000
DTEND;TZID=America/Sao_Paulo:20230330T200000
DTSTAMP:20260423T144639
CREATED:20230320T185311Z
LAST-MODIFIED:20230320T185311Z
UID:7160-1680206400-1680206400@albinoteixeira.org.br
SUMMARY:O passe
DESCRIPTION:
URL:https://albinoteixeira.org.br/evento/o-passe-4/
LOCATION:Grupo Espírita de Fraternidade Albino Teixeira\, Rua dos Aeroviários\, 240\, Bairro Liberdade\, Belo Horizonte\, MG\, 31270-330\, Brasil
CATEGORIES:Reunião Pública
ATTACH;FMTTYPE=image/jpeg:https://albinoteixeira.org.br/wp-content/uploads/2022/06/sede-scaled-e1656615992280.jpg
END:VEVENT
BEGIN:VEVENT
DTSTART;TZID=America/Sao_Paulo:20230331T150000
DTEND;TZID=America/Sao_Paulo:20230331T150000
DTSTAMP:20260423T144639
CREATED:20230320T185434Z
LAST-MODIFIED:20230320T185435Z
UID:7162-1680274800-1680274800@albinoteixeira.org.br
SUMMARY:Que te importa a ti? Segue-me tu
DESCRIPTION:
URL:https://albinoteixeira.org.br/evento/que-te-importa-a-ti-segue-me-tu-3/
LOCATION:Grupo Espírita de Fraternidade Albino Teixeira\, Rua dos Aeroviários\, 240\, Bairro Liberdade\, Belo Horizonte\, MG\, 31270-330\, Brasil
CATEGORIES:Reunião Pública
ATTACH;FMTTYPE=image/jpeg:https://albinoteixeira.org.br/wp-content/uploads/2022/06/sede-scaled-e1656615992280.jpg
END:VEVENT
BEGIN:VEVENT
DTSTART;TZID=America/Sao_Paulo:20230331T200000
DTEND;TZID=America/Sao_Paulo:20230331T200000
DTSTAMP:20260423T144639
CREATED:20230320T185554Z
LAST-MODIFIED:20230320T185554Z
UID:7164-1680292800-1680292800@albinoteixeira.org.br
SUMMARY:A melhor medida
DESCRIPTION:
URL:https://albinoteixeira.org.br/evento/a-melhor-medida/
LOCATION:Grupo Espírita de Fraternidade Albino Teixeira\, Rua dos Aeroviários\, 240\, Bairro Liberdade\, Belo Horizonte\, MG\, 31270-330\, Brasil
CATEGORIES:Reunião Pública
ATTACH;FMTTYPE=image/jpeg:https://albinoteixeira.org.br/wp-content/uploads/2022/06/sede-scaled-e1656615992280.jpg
END:VEVENT
BEGIN:VEVENT
DTSTART;TZID=America/Sao_Paulo:20230401T100000
DTEND;TZID=America/Sao_Paulo:20230401T100000
DTSTAMP:20260423T144639
CREATED:20230331T201726Z
LAST-MODIFIED:20230331T201727Z
UID:7176-1680343200-1680343200@albinoteixeira.org.br
SUMMARY:Ninguém põe remendo de pano novo em vestido velho
DESCRIPTION:
URL:https://albinoteixeira.org.br/evento/ninguem-poe-remendo-de-pano-novo-em-vestido-velho-2/
LOCATION:Grupo Espírita de Fraternidade Albino Teixeira\, Rua dos Aeroviários\, 240\, Bairro Liberdade\, Belo Horizonte\, MG\, 31270-330\, Brasil
CATEGORIES:Reunião Pública
END:VEVENT
BEGIN:VEVENT
DTSTART;TZID=America/Sao_Paulo:20230401T143000
DTEND;TZID=America/Sao_Paulo:20230401T143000
DTSTAMP:20260423T144639
CREATED:20230331T201840Z
LAST-MODIFIED:20230331T201840Z
UID:7179-1680359400-1680359400@albinoteixeira.org.br
SUMMARY:A cada um conforme sua obra
DESCRIPTION:
URL:https://albinoteixeira.org.br/evento/a-cada-um-conforme-sua-obra/
LOCATION:Grupo Espírita de Fraternidade Albino Teixeira\, Rua dos Aeroviários\, 240\, Bairro Liberdade\, Belo Horizonte\, MG\, 31270-330\, Brasil
CATEGORIES:Reunião Pública
ATTACH;FMTTYPE=image/jpeg:https://albinoteixeira.org.br/wp-content/uploads/2022/06/sede-scaled-e1656615992280.jpg
END:VEVENT
BEGIN:VEVENT
DTSTART;TZID=America/Sao_Paulo:20230401T183000
DTEND;TZID=America/Sao_Paulo:20230401T183000
DTSTAMP:20260423T144639
CREATED:20230331T201956Z
LAST-MODIFIED:20230331T201956Z
UID:7181-1680373800-1680373800@albinoteixeira.org.br
SUMMARY:Viver com simplicidade
DESCRIPTION:
URL:https://albinoteixeira.org.br/evento/viver-com-simplicidade-5/
LOCATION:Grupo Espírita de Fraternidade Albino Teixeira\, Rua dos Aeroviários\, 240\, Bairro Liberdade\, Belo Horizonte\, MG\, 31270-330\, Brasil
CATEGORIES:Reunião Pública
ATTACH;FMTTYPE=image/jpeg:https://albinoteixeira.org.br/wp-content/uploads/2022/06/sede-scaled-e1656615992280.jpg
END:VEVENT
BEGIN:VEVENT
DTSTART;TZID=America/Sao_Paulo:20230402T100000
DTEND;TZID=America/Sao_Paulo:20230402T100000
DTSTAMP:20260423T144639
CREATED:20230331T202103Z
LAST-MODIFIED:20230331T202104Z
UID:7183-1680429600-1680429600@albinoteixeira.org.br
SUMMARY:Fé
DESCRIPTION:
URL:https://albinoteixeira.org.br/evento/fe/
LOCATION:Grupo Espírita de Fraternidade Albino Teixeira\, Rua dos Aeroviários\, 240\, Bairro Liberdade\, Belo Horizonte\, MG\, 31270-330\, Brasil
CATEGORIES:Reunião Pública
ATTACH;FMTTYPE=image/jpeg:https://albinoteixeira.org.br/wp-content/uploads/2022/06/sede-scaled-e1656615992280.jpg
END:VEVENT
BEGIN:VEVENT
DTSTART;TZID=America/Sao_Paulo:20230402T190000
DTEND;TZID=America/Sao_Paulo:20230402T190000
DTSTAMP:20260423T144639
CREATED:20230331T202253Z
LAST-MODIFIED:20230331T202253Z
UID:7185-1680462000-1680462000@albinoteixeira.org.br
SUMMARY:A multiplicação dos pães e peixes
DESCRIPTION:
URL:https://albinoteixeira.org.br/evento/a-multiplicacao-dos-paes-e-peixes/
LOCATION:Plataforma Zoom (Senha: 123)
CATEGORIES:Online,Reunião Pública
ATTACH;FMTTYPE=image/jpeg:https://albinoteixeira.org.br/wp-content/uploads/2022/06/sede-scaled-e1656615992280.jpg
END:VEVENT
BEGIN:VEVENT
DTSTART;TZID=America/Sao_Paulo:20230403T200000
DTEND;TZID=America/Sao_Paulo:20230403T200000
DTSTAMP:20260423T144639
CREATED:20230331T202603Z
LAST-MODIFIED:20230331T202604Z
UID:7189-1680552000-1680552000@albinoteixeira.org.br
SUMMARY:Afetividade conflitiva
DESCRIPTION:
URL:https://albinoteixeira.org.br/evento/afetividade-conflitiva-2/
LOCATION:Grupo Espírita de Fraternidade Albino Teixeira\, Rua dos Aeroviários\, 240\, Bairro Liberdade\, Belo Horizonte\, MG\, 31270-330\, Brasil
CATEGORIES:Reunião Pública
ATTACH;FMTTYPE=image/jpeg:https://albinoteixeira.org.br/wp-content/uploads/2022/06/sede-scaled-e1656615992280.jpg
END:VEVENT
BEGIN:VEVENT
DTSTART;TZID=America/Sao_Paulo:20230404T200000
DTEND;TZID=America/Sao_Paulo:20230404T200000
DTSTAMP:20260423T144639
CREATED:20230403T202236Z
LAST-MODIFIED:20230403T202236Z
UID:7207-1680638400-1680638400@albinoteixeira.org.br
SUMMARY:A fé transporta montanhas
DESCRIPTION:
URL:https://albinoteixeira.org.br/evento/a-fe-transporta-montanhas-5/
LOCATION:Grupo Espírita de Fraternidade Albino Teixeira\, Rua dos Aeroviários\, 240\, Bairro Liberdade\, Belo Horizonte\, MG\, 31270-330\, Brasil
CATEGORIES:Reunião Pública
ATTACH;FMTTYPE=image/jpeg:https://albinoteixeira.org.br/wp-content/uploads/2022/06/sede-scaled-e1656615992280.jpg
END:VEVENT
BEGIN:VEVENT
DTSTART;TZID=America/Sao_Paulo:20230405T150000
DTEND;TZID=America/Sao_Paulo:20230405T150000
DTSTAMP:20260423T144639
CREATED:20230403T201311Z
LAST-MODIFIED:20230403T201311Z
UID:7197-1680706800-1680706800@albinoteixeira.org.br
SUMMARY:Mandamento de Maria: fazei tudo o que ele voz disser
DESCRIPTION:
URL:https://albinoteixeira.org.br/evento/mandamento-de-maria-fazei-tudo-o-que-ele-voz-disser/
LOCATION:Grupo Espírita de Fraternidade Albino Teixeira\, Rua dos Aeroviários\, 240\, Bairro Liberdade\, Belo Horizonte\, MG\, 31270-330\, Brasil
CATEGORIES:Reunião Pública
ATTACH;FMTTYPE=image/jpeg:https://albinoteixeira.org.br/wp-content/uploads/2022/06/sede-scaled-e1656615992280.jpg
END:VEVENT
BEGIN:VEVENT
DTSTART;TZID=America/Sao_Paulo:20230405T200000
DTEND;TZID=America/Sao_Paulo:20230405T200000
DTSTAMP:20260423T144639
CREATED:20230403T201601Z
LAST-MODIFIED:20230403T201601Z
UID:7199-1680724800-1680724800@albinoteixeira.org.br
SUMMARY:A ressurreição da filha de Jairo
DESCRIPTION:
URL:https://albinoteixeira.org.br/evento/a-ressurreicao-da-filha-de-jairo-3/
LOCATION:Grupo Espírita de Fraternidade Albino Teixeira\, Rua dos Aeroviários\, 240\, Bairro Liberdade\, Belo Horizonte\, MG\, 31270-330\, Brasil
CATEGORIES:Reunião Pública
ATTACH;FMTTYPE=image/jpeg:https://albinoteixeira.org.br/wp-content/uploads/2022/06/sede-scaled-e1656615992280.jpg
END:VEVENT
BEGIN:VEVENT
DTSTART;TZID=America/Sao_Paulo:20230406T200000
DTEND;TZID=America/Sao_Paulo:20230406T200000
DTSTAMP:20260423T144639
CREATED:20230403T201725Z
LAST-MODIFIED:20230403T201725Z
UID:7201-1680811200-1680811200@albinoteixeira.org.br
SUMMARY:A caminho de Emaús
DESCRIPTION:
URL:https://albinoteixeira.org.br/evento/a-caminho-de-emaus-6/
LOCATION:Grupo Espírita de Fraternidade Albino Teixeira\, Rua dos Aeroviários\, 240\, Bairro Liberdade\, Belo Horizonte\, MG\, 31270-330\, Brasil
CATEGORIES:Reunião Pública
ATTACH;FMTTYPE=image/jpeg:https://albinoteixeira.org.br/wp-content/uploads/2022/06/sede-scaled-e1656615992280.jpg
END:VEVENT
BEGIN:VEVENT
DTSTART;TZID=America/Sao_Paulo:20230407T150000
DTEND;TZID=America/Sao_Paulo:20230407T150000
DTSTAMP:20260423T144639
CREATED:20230403T201935Z
LAST-MODIFIED:20230403T201936Z
UID:7203-1680879600-1680879600@albinoteixeira.org.br
SUMMARY:Nisto todos conhecerão que sois meus discípulos\, se tiverdes amor uns aos outros
DESCRIPTION:
URL:https://albinoteixeira.org.br/evento/nisto-todos-conhecerao-que-sois-meus-discipulos-se-tiverdes-amor-uns-aos-outros-2/
LOCATION:Grupo Espírita de Fraternidade Albino Teixeira\, Rua dos Aeroviários\, 240\, Bairro Liberdade\, Belo Horizonte\, MG\, 31270-330\, Brasil
CATEGORIES:Reunião Pública
ATTACH;FMTTYPE=image/jpeg:https://albinoteixeira.org.br/wp-content/uploads/2022/06/sede-scaled-e1656615992280.jpg
END:VEVENT
BEGIN:VEVENT
DTSTART;TZID=America/Sao_Paulo:20230407T200000
DTEND;TZID=America/Sao_Paulo:20230407T200000
DTSTAMP:20260423T144639
CREATED:20230403T202030Z
LAST-MODIFIED:20230403T202031Z
UID:7205-1680897600-1680897600@albinoteixeira.org.br
SUMMARY:A prece
DESCRIPTION:
URL:https://albinoteixeira.org.br/evento/a-prece/
LOCATION:Grupo Espírita de Fraternidade Albino Teixeira\, Rua dos Aeroviários\, 240\, Bairro Liberdade\, Belo Horizonte\, MG\, 31270-330\, Brasil
CATEGORIES:Reunião Pública
ATTACH;FMTTYPE=image/jpeg:https://albinoteixeira.org.br/wp-content/uploads/2022/06/sede-scaled-e1656615992280.jpg
END:VEVENT
BEGIN:VEVENT
DTSTART;TZID=America/Sao_Paulo:20230408T100000
DTEND;TZID=America/Sao_Paulo:20230408T100000
DTSTAMP:20260423T144639
CREATED:20230409T122508Z
LAST-MODIFIED:20230409T122508Z
UID:7235-1680948000-1680948000@albinoteixeira.org.br
SUMMARY:Não é a vida mais que alimento?
DESCRIPTION:
URL:https://albinoteixeira.org.br/evento/nao-e-a-vida-mais-que-alimento/
LOCATION:Grupo Espírita de Fraternidade Albino Teixeira\, Rua dos Aeroviários\, 240\, Bairro Liberdade\, Belo Horizonte\, MG\, 31270-330\, Brasil
CATEGORIES:Reunião Pública
ATTACH;FMTTYPE=image/jpeg:https://albinoteixeira.org.br/wp-content/uploads/2022/06/sede-scaled-e1656615992280.jpg
END:VEVENT
BEGIN:VEVENT
DTSTART;TZID=America/Sao_Paulo:20230408T143000
DTEND;TZID=America/Sao_Paulo:20230408T143000
DTSTAMP:20260423T144639
CREATED:20230409T122645Z
LAST-MODIFIED:20230409T122646Z
UID:7237-1680964200-1680964200@albinoteixeira.org.br
SUMMARY:A pesca maravilhosa
DESCRIPTION:
URL:https://albinoteixeira.org.br/evento/a-pesca-maravilhosa-5/
LOCATION:Grupo Espírita de Fraternidade Albino Teixeira\, Rua dos Aeroviários\, 240\, Bairro Liberdade\, Belo Horizonte\, MG\, 31270-330\, Brasil
CATEGORIES:Reunião Pública
ATTACH;FMTTYPE=image/jpeg:https://albinoteixeira.org.br/wp-content/uploads/2022/06/sede-scaled-e1656615992280.jpg
END:VEVENT
BEGIN:VEVENT
DTSTART;TZID=America/Sao_Paulo:20230408T183000
DTEND;TZID=America/Sao_Paulo:20230408T183000
DTSTAMP:20260423T144639
CREATED:20230409T122818Z
LAST-MODIFIED:20230409T122819Z
UID:7239-1680978600-1680978600@albinoteixeira.org.br
SUMMARY:Parábola do juiz iníquo
DESCRIPTION:
URL:https://albinoteixeira.org.br/evento/parabola-do-juiz-iniquo-2/
LOCATION:Grupo Espírita de Fraternidade Albino Teixeira\, Rua dos Aeroviários\, 240\, Bairro Liberdade\, Belo Horizonte\, MG\, 31270-330\, Brasil
CATEGORIES:Reunião Pública
ATTACH;FMTTYPE=image/jpeg:https://albinoteixeira.org.br/wp-content/uploads/2022/06/sede-scaled-e1656615992280.jpg
END:VEVENT
BEGIN:VEVENT
DTSTART;TZID=America/Sao_Paulo:20230409T100000
DTEND;TZID=America/Sao_Paulo:20230409T100000
DTSTAMP:20260423T144639
CREATED:20230409T120507Z
LAST-MODIFIED:20230409T120508Z
UID:7213-1681034400-1681034400@albinoteixeira.org.br
SUMMARY:Na conquista de liberdade
DESCRIPTION:
URL:https://albinoteixeira.org.br/evento/na-conquista-de-liberdade/
LOCATION:Grupo Espírita de Fraternidade Albino Teixeira\, Rua dos Aeroviários\, 240\, Bairro Liberdade\, Belo Horizonte\, MG\, 31270-330\, Brasil
CATEGORIES:Reunião Pública
ATTACH;FMTTYPE=image/jpeg:https://albinoteixeira.org.br/wp-content/uploads/2022/06/sede-scaled-e1656615992280.jpg
END:VEVENT
BEGIN:VEVENT
DTSTART;TZID=America/Sao_Paulo:20230409T190000
DTEND;TZID=America/Sao_Paulo:20230409T190000
DTSTAMP:20260423T144639
CREATED:20230331T202400Z
LAST-MODIFIED:20230409T122226Z
UID:7187-1681066800-1681066800@albinoteixeira.org.br
SUMMARY:Prossigamos
DESCRIPTION:
URL:https://albinoteixeira.org.br/evento/prossigamos-3/
LOCATION:Grupo Espírita de Fraternidade Albino Teixeira\, Rua dos Aeroviários\, 240\, Bairro Liberdade\, Belo Horizonte\, MG\, 31270-330\, Brasil
CATEGORIES:Online,Reunião Pública
ATTACH;FMTTYPE=image/jpeg:https://albinoteixeira.org.br/wp-content/uploads/2022/06/sede-scaled-e1656615992280.jpg
END:VEVENT
BEGIN:VEVENT
DTSTART;TZID=America/Sao_Paulo:20230410T200000
DTEND;TZID=America/Sao_Paulo:20230410T200000
DTSTAMP:20260423T144639
CREATED:20230409T120636Z
LAST-MODIFIED:20230409T120636Z
UID:7215-1681156800-1681156800@albinoteixeira.org.br
SUMMARY:Dependência química na visão espírita
DESCRIPTION:
URL:https://albinoteixeira.org.br/evento/dependencia-quimica-na-visao-espirita-2/
LOCATION:Grupo Espírita de Fraternidade Albino Teixeira\, Rua dos Aeroviários\, 240\, Bairro Liberdade\, Belo Horizonte\, MG\, 31270-330\, Brasil
CATEGORIES:Reunião Pública
ATTACH;FMTTYPE=image/jpeg:https://albinoteixeira.org.br/wp-content/uploads/2022/06/sede-scaled-e1656615992280.jpg
END:VEVENT
BEGIN:VEVENT
DTSTART;TZID=America/Sao_Paulo:20230411T200000
DTEND;TZID=America/Sao_Paulo:20230411T200000
DTSTAMP:20260423T144639
CREATED:20230409T120745Z
LAST-MODIFIED:20230409T120745Z
UID:7217-1681243200-1681243200@albinoteixeira.org.br
SUMMARY:Cura e auto cura
DESCRIPTION:
URL:https://albinoteixeira.org.br/evento/cura-e-auto-cura-2/
LOCATION:Grupo Espírita de Fraternidade Albino Teixeira\, Rua dos Aeroviários\, 240\, Bairro Liberdade\, Belo Horizonte\, MG\, 31270-330\, Brasil
CATEGORIES:Reunião Pública
ATTACH;FMTTYPE=image/jpeg:https://albinoteixeira.org.br/wp-content/uploads/2022/06/sede-scaled-e1656615992280.jpg
END:VEVENT
BEGIN:VEVENT
DTSTART;TZID=America/Sao_Paulo:20230412T150000
DTEND;TZID=America/Sao_Paulo:20230412T150000
DTSTAMP:20260423T144639
CREATED:20230409T120946Z
LAST-MODIFIED:20230409T120947Z
UID:7219-1681311600-1681311600@albinoteixeira.org.br
SUMMARY:Saúde e espiritualidade\, abordando a ligação e ponte entre os temas
DESCRIPTION:
URL:https://albinoteixeira.org.br/evento/saude-e-espiritualidade-abordando-a-ligacao-e-ponte-entre-os-temas-2/
LOCATION:Grupo Espírita de Fraternidade Albino Teixeira\, Rua dos Aeroviários\, 240\, Bairro Liberdade\, Belo Horizonte\, MG\, 31270-330\, Brasil
CATEGORIES:Reunião Pública
ATTACH;FMTTYPE=image/jpeg:https://albinoteixeira.org.br/wp-content/uploads/2022/06/sede-scaled-e1656615992280.jpg
END:VEVENT
BEGIN:VEVENT
DTSTART;TZID=America/Sao_Paulo:20230412T200000
DTEND;TZID=America/Sao_Paulo:20230412T200000
DTSTAMP:20260423T144639
CREATED:20230409T121105Z
LAST-MODIFIED:20230409T121105Z
UID:7221-1681329600-1681329600@albinoteixeira.org.br
SUMMARY:Gestação: encontro entre almas
DESCRIPTION:
URL:https://albinoteixeira.org.br/evento/gestacao-encontro-entre-almas/
LOCATION:Grupo Espírita de Fraternidade Albino Teixeira\, Rua dos Aeroviários\, 240\, Bairro Liberdade\, Belo Horizonte\, MG\, 31270-330\, Brasil
CATEGORIES:Reunião Pública
ATTACH;FMTTYPE=image/jpeg:https://albinoteixeira.org.br/wp-content/uploads/2022/06/sede-scaled-e1656615992280.jpg
END:VEVENT
END:VCALENDAR