BEGIN:VCALENDAR
VERSION:2.0
PRODID:-//Gefrater - ECPv6.15.20//NONSGML v1.0//EN
CALSCALE:GREGORIAN
METHOD:PUBLISH
X-ORIGINAL-URL:https://albinoteixeira.org.br
X-WR-CALDESC:Eventos para Gefrater
REFRESH-INTERVAL;VALUE=DURATION:PT1H
X-Robots-Tag:noindex
X-PUBLISHED-TTL:PT1H
BEGIN:VTIMEZONE
TZID:America/Sao_Paulo
BEGIN:STANDARD
TZOFFSETFROM:-0300
TZOFFSETTO:-0300
TZNAME:-03
DTSTART:20220101T000000
END:STANDARD
END:VTIMEZONE
BEGIN:VEVENT
DTSTART;TZID=America/Sao_Paulo:20230606T200000
DTEND;TZID=America/Sao_Paulo:20230606T200000
DTSTAMP:20260423T200339
CREATED:20230531T111010Z
LAST-MODIFIED:20230531T111010Z
UID:7444-1686081600-1686081600@albinoteixeira.org.br
SUMMARY:Princípios básicos: Influência dos espíritos em nossa vida
DESCRIPTION:
URL:https://albinoteixeira.org.br/evento/principios-basicos-influencia-dos-espiritos-em-nossa-vida-3/
LOCATION:Grupo Espírita de Fraternidade Albino Teixeira\, Rua dos Aeroviários\, 240\, Bairro Liberdade\, Belo Horizonte\, MG\, 31270-330\, Brasil
CATEGORIES:Reunião Pública
ATTACH;FMTTYPE=image/jpeg:https://albinoteixeira.org.br/wp-content/uploads/2022/06/sede-scaled-e1656615992280.jpg
END:VEVENT
BEGIN:VEVENT
DTSTART;TZID=America/Sao_Paulo:20230607T150000
DTEND;TZID=America/Sao_Paulo:20230607T150000
DTSTAMP:20260423T200339
CREATED:20230606T121748Z
LAST-MODIFIED:20230606T121750Z
UID:7451-1686150000-1686150000@albinoteixeira.org.br
SUMMARY:O cego na estrada de Jericó
DESCRIPTION:
URL:https://albinoteixeira.org.br/evento/o-cego-na-estrada-de-jerico-2/
LOCATION:Grupo Espírita de Fraternidade Albino Teixeira\, Rua dos Aeroviários\, 240\, Bairro Liberdade\, Belo Horizonte\, MG\, 31270-330\, Brasil
CATEGORIES:Reunião Pública
ATTACH;FMTTYPE=image/jpeg:https://albinoteixeira.org.br/wp-content/uploads/2022/06/sede-scaled-e1656615992280.jpg
END:VEVENT
BEGIN:VEVENT
DTSTART;TZID=America/Sao_Paulo:20230607T200000
DTEND;TZID=America/Sao_Paulo:20230607T200000
DTSTAMP:20260423T200339
CREATED:20230606T121925Z
LAST-MODIFIED:20230606T121926Z
UID:7453-1686168000-1686168000@albinoteixeira.org.br
SUMMARY:Aparições de Jesus ressuscitado
DESCRIPTION:
URL:https://albinoteixeira.org.br/evento/aparicoes-de-jesus-ressuscitado/
LOCATION:Grupo Espírita de Fraternidade Albino Teixeira\, Rua dos Aeroviários\, 240\, Bairro Liberdade\, Belo Horizonte\, MG\, 31270-330\, Brasil
CATEGORIES:Reunião Pública
ATTACH;FMTTYPE=image/jpeg:https://albinoteixeira.org.br/wp-content/uploads/2022/06/sede-scaled-e1656615992280.jpg
END:VEVENT
BEGIN:VEVENT
DTSTART;TZID=America/Sao_Paulo:20230608T200000
DTEND;TZID=America/Sao_Paulo:20230608T200000
DTSTAMP:20260423T200339
CREATED:20230606T122114Z
LAST-MODIFIED:20230606T122115Z
UID:7455-1686254400-1686254400@albinoteixeira.org.br
SUMMARY:Cura de um hidrópico em dia de sábado
DESCRIPTION:
URL:https://albinoteixeira.org.br/evento/cura-de-um-hidropico-em-dia-de-sabado-2/
LOCATION:Grupo Espírita de Fraternidade Albino Teixeira\, Rua dos Aeroviários\, 240\, Bairro Liberdade\, Belo Horizonte\, MG\, 31270-330\, Brasil
CATEGORIES:Reunião Pública
ATTACH;FMTTYPE=image/jpeg:https://albinoteixeira.org.br/wp-content/uploads/2022/06/sede-scaled-e1656615992280.jpg
END:VEVENT
BEGIN:VEVENT
DTSTART;TZID=America/Sao_Paulo:20230609T150000
DTEND;TZID=America/Sao_Paulo:20230609T150000
DTSTAMP:20260423T200339
CREATED:20230606T122237Z
LAST-MODIFIED:20230606T122237Z
UID:7457-1686322800-1686322800@albinoteixeira.org.br
SUMMARY:Princípios básicos: espírito
DESCRIPTION:
URL:https://albinoteixeira.org.br/evento/principios-basicos-espirito-3/
LOCATION:Grupo Espírita de Fraternidade Albino Teixeira\, Rua dos Aeroviários\, 240\, Bairro Liberdade\, Belo Horizonte\, MG\, 31270-330\, Brasil
CATEGORIES:Reunião Pública
ATTACH;FMTTYPE=image/jpeg:https://albinoteixeira.org.br/wp-content/uploads/2022/06/sede-scaled-e1656615992280.jpg
END:VEVENT
BEGIN:VEVENT
DTSTART;TZID=America/Sao_Paulo:20230609T200000
DTEND;TZID=America/Sao_Paulo:20230609T200000
DTSTAMP:20260423T200339
CREATED:20230606T122353Z
LAST-MODIFIED:20230606T122354Z
UID:7459-1686340800-1686340800@albinoteixeira.org.br
SUMMARY:A lição da vigilância
DESCRIPTION:
URL:https://albinoteixeira.org.br/evento/a-licao-da-vigilancia-6/
LOCATION:Grupo Espírita de Fraternidade Albino Teixeira\, Rua dos Aeroviários\, 240\, Bairro Liberdade\, Belo Horizonte\, MG\, 31270-330\, Brasil
CATEGORIES:Reunião Pública
ATTACH;FMTTYPE=image/jpeg:https://albinoteixeira.org.br/wp-content/uploads/2022/06/sede-scaled-e1656615992280.jpg
END:VEVENT
BEGIN:VEVENT
DTSTART;TZID=America/Sao_Paulo:20230610T100000
DTEND;TZID=America/Sao_Paulo:20230610T100000
DTSTAMP:20260423T200339
CREATED:20230606T122526Z
LAST-MODIFIED:20230606T122526Z
UID:7461-1686391200-1686391200@albinoteixeira.org.br
SUMMARY:Cura de um homem com a mão atrofiada
DESCRIPTION:
URL:https://albinoteixeira.org.br/evento/cura-de-um-homem-com-a-mao-atrofiada-3/
LOCATION:Grupo Espírita de Fraternidade Albino Teixeira\, Rua dos Aeroviários\, 240\, Bairro Liberdade\, Belo Horizonte\, MG\, 31270-330\, Brasil
CATEGORIES:Reunião Pública
ATTACH;FMTTYPE=image/jpeg:https://albinoteixeira.org.br/wp-content/uploads/2022/06/sede-scaled-e1656615992280.jpg
END:VEVENT
BEGIN:VEVENT
DTSTART;TZID=America/Sao_Paulo:20230610T143000
DTEND;TZID=America/Sao_Paulo:20230610T143000
DTSTAMP:20260423T200339
CREATED:20230606T122706Z
LAST-MODIFIED:20230606T122706Z
UID:7463-1686407400-1686407400@albinoteixeira.org.br
SUMMARY:Parábola do credor incompassivo
DESCRIPTION:
URL:https://albinoteixeira.org.br/evento/parabola-do-credor-incompassivo-5/
LOCATION:Grupo Espírita de Fraternidade Albino Teixeira\, Rua dos Aeroviários\, 240\, Bairro Liberdade\, Belo Horizonte\, MG\, 31270-330\, Brasil
CATEGORIES:Reunião Pública
ATTACH;FMTTYPE=image/jpeg:https://albinoteixeira.org.br/wp-content/uploads/2022/06/sede-scaled-e1656615992280.jpg
END:VEVENT
BEGIN:VEVENT
DTSTART;TZID=America/Sao_Paulo:20230610T183000
DTEND;TZID=America/Sao_Paulo:20230610T183000
DTSTAMP:20260423T200339
CREATED:20230606T122819Z
LAST-MODIFIED:20230606T122819Z
UID:7465-1686421800-1686421800@albinoteixeira.org.br
SUMMARY:A filha de Jairo
DESCRIPTION:
URL:https://albinoteixeira.org.br/evento/a-filha-de-jairo-3/
LOCATION:Grupo Espírita de Fraternidade Albino Teixeira\, Rua dos Aeroviários\, 240\, Bairro Liberdade\, Belo Horizonte\, MG\, 31270-330\, Brasil
CATEGORIES:Reunião Pública
ATTACH;FMTTYPE=image/jpeg:https://albinoteixeira.org.br/wp-content/uploads/2022/06/sede-scaled-e1656615992280.jpg
END:VEVENT
BEGIN:VEVENT
DTSTART;TZID=America/Sao_Paulo:20230611T100000
DTEND;TZID=America/Sao_Paulo:20230611T100000
DTSTAMP:20260423T200339
CREATED:20230606T122934Z
LAST-MODIFIED:20230606T122934Z
UID:7467-1686477600-1686477600@albinoteixeira.org.br
SUMMARY:A luta contra o mal
DESCRIPTION:
URL:https://albinoteixeira.org.br/evento/a-luta-contra-o-mal-6/
LOCATION:Grupo Espírita de Fraternidade Albino Teixeira\, Rua dos Aeroviários\, 240\, Bairro Liberdade\, Belo Horizonte\, MG\, 31270-330\, Brasil
CATEGORIES:Reunião Pública
ATTACH;FMTTYPE=image/jpeg:https://albinoteixeira.org.br/wp-content/uploads/2022/06/sede-scaled-e1656615992280.jpg
END:VEVENT
BEGIN:VEVENT
DTSTART;TZID=America/Sao_Paulo:20230611T190000
DTEND;TZID=America/Sao_Paulo:20230611T190000
DTSTAMP:20260423T200339
CREATED:20230531T111428Z
LAST-MODIFIED:20230531T111428Z
UID:7448-1686510000-1686510000@albinoteixeira.org.br
SUMMARY:Princípios básicos: vida futura
DESCRIPTION:
URL:https://albinoteixeira.org.br/evento/principios-basicos-vida-futura-6/
LOCATION:Plataforma Zoom (Senha: 123)
CATEGORIES:Online,Reunião Pública
ATTACH;FMTTYPE=image/jpeg:https://albinoteixeira.org.br/wp-content/uploads/2022/06/sede-scaled-e1656615992280.jpg
END:VEVENT
BEGIN:VEVENT
DTSTART;TZID=America/Sao_Paulo:20230612T200000
DTEND;TZID=America/Sao_Paulo:20230612T200000
DTSTAMP:20260423T200339
CREATED:20230606T123033Z
LAST-MODIFIED:20230606T123033Z
UID:7469-1686600000-1686600000@albinoteixeira.org.br
SUMMARY:Bom ânimo
DESCRIPTION:
URL:https://albinoteixeira.org.br/evento/bom-animo-8/
LOCATION:Grupo Espírita de Fraternidade Albino Teixeira\, Rua dos Aeroviários\, 240\, Bairro Liberdade\, Belo Horizonte\, MG\, 31270-330\, Brasil
CATEGORIES:Reunião Pública
ATTACH;FMTTYPE=image/jpeg:https://albinoteixeira.org.br/wp-content/uploads/2022/06/sede-scaled-e1656615992280.jpg
END:VEVENT
BEGIN:VEVENT
DTSTART;TZID=America/Sao_Paulo:20230613T200000
DTEND;TZID=America/Sao_Paulo:20230613T200000
DTSTAMP:20260423T200339
CREATED:20230606T123134Z
LAST-MODIFIED:20230606T123135Z
UID:7471-1686686400-1686686400@albinoteixeira.org.br
SUMMARY:Amor e renúncia
DESCRIPTION:
URL:https://albinoteixeira.org.br/evento/amor-e-renuncia-8/
LOCATION:Grupo Espírita de Fraternidade Albino Teixeira\, Rua dos Aeroviários\, 240\, Bairro Liberdade\, Belo Horizonte\, MG\, 31270-330\, Brasil
CATEGORIES:Reunião Pública
ATTACH;FMTTYPE=image/jpeg:https://albinoteixeira.org.br/wp-content/uploads/2022/06/sede-scaled-e1656615992280.jpg
END:VEVENT
BEGIN:VEVENT
DTSTART;TZID=America/Sao_Paulo:20230614T150000
DTEND;TZID=America/Sao_Paulo:20230614T150000
DTSTAMP:20260423T200339
CREATED:20230606T123304Z
LAST-MODIFIED:20230606T123704Z
UID:7473-1686754800-1686754800@albinoteixeira.org.br
SUMMARY:A oração dominical
DESCRIPTION:
URL:https://albinoteixeira.org.br/evento/a-oracao-dominical-4/
LOCATION:Grupo Espírita de Fraternidade Albino Teixeira\, Rua dos Aeroviários\, 240\, Bairro Liberdade\, Belo Horizonte\, MG\, 31270-330\, Brasil
CATEGORIES:Reunião Pública
ATTACH;FMTTYPE=image/jpeg:https://albinoteixeira.org.br/wp-content/uploads/2022/06/sede-scaled-e1656615992280.jpg
END:VEVENT
BEGIN:VEVENT
DTSTART;TZID=America/Sao_Paulo:20230614T200000
DTEND;TZID=America/Sao_Paulo:20230614T200000
DTSTAMP:20260423T200339
CREATED:20230606T123437Z
LAST-MODIFIED:20230606T123437Z
UID:7475-1686772800-1686772800@albinoteixeira.org.br
SUMMARY:A lição a Nicodemos
DESCRIPTION:
URL:https://albinoteixeira.org.br/evento/a-licao-a-nicodemos-3/
LOCATION:Grupo Espírita de Fraternidade Albino Teixeira\, Rua dos Aeroviários\, 240\, Bairro Liberdade\, Belo Horizonte\, MG\, 31270-330\, Brasil
CATEGORIES:Reunião Pública
ATTACH;FMTTYPE=image/jpeg:https://albinoteixeira.org.br/wp-content/uploads/2022/06/sede-scaled-e1656615992280.jpg
END:VEVENT
BEGIN:VEVENT
DTSTART;TZID=America/Sao_Paulo:20230615T200000
DTEND;TZID=America/Sao_Paulo:20230615T200000
DTSTAMP:20260423T200339
CREATED:20230606T123546Z
LAST-MODIFIED:20230606T123546Z
UID:7477-1686859200-1686859200@albinoteixeira.org.br
SUMMARY:Joana de Cusa
DESCRIPTION:
URL:https://albinoteixeira.org.br/evento/joana-de-cusa-3/
LOCATION:Grupo Espírita de Fraternidade Albino Teixeira\, Rua dos Aeroviários\, 240\, Bairro Liberdade\, Belo Horizonte\, MG\, 31270-330\, Brasil
CATEGORIES:Reunião Pública
ATTACH;FMTTYPE=image/jpeg:https://albinoteixeira.org.br/wp-content/uploads/2022/06/sede-scaled-e1656615992280.jpg
END:VEVENT
BEGIN:VEVENT
DTSTART;TZID=America/Sao_Paulo:20230616T150000
DTEND;TZID=America/Sao_Paulo:20230616T150000
DTSTAMP:20260423T200339
CREATED:20230615T184239Z
LAST-MODIFIED:20230615T184241Z
UID:7480-1686927600-1686927600@albinoteixeira.org.br
SUMMARY:Maria de Magdala
DESCRIPTION:
URL:https://albinoteixeira.org.br/evento/maria-de-magdala-5/
LOCATION:Grupo Espírita de Fraternidade Albino Teixeira\, Rua dos Aeroviários\, 240\, Bairro Liberdade\, Belo Horizonte\, MG\, 31270-330\, Brasil
CATEGORIES:Reunião Pública
ATTACH;FMTTYPE=image/jpeg:https://albinoteixeira.org.br/wp-content/uploads/2022/06/sede-scaled-e1656615992280.jpg
END:VEVENT
BEGIN:VEVENT
DTSTART;TZID=America/Sao_Paulo:20230616T200000
DTEND;TZID=America/Sao_Paulo:20230616T200000
DTSTAMP:20260423T200339
CREATED:20230615T184414Z
LAST-MODIFIED:20230615T184414Z
UID:7482-1686945600-1686945600@albinoteixeira.org.br
SUMMARY:Cura de um endemoninhado mudo
DESCRIPTION:
URL:https://albinoteixeira.org.br/evento/cura-de-um-endemoninhado-mudo-2/
LOCATION:Grupo Espírita de Fraternidade Albino Teixeira\, Rua dos Aeroviários\, 240\, Bairro Liberdade\, Belo Horizonte\, MG\, 31270-330\, Brasil
CATEGORIES:Reunião Pública
ATTACH;FMTTYPE=image/jpeg:https://albinoteixeira.org.br/wp-content/uploads/2022/06/sede-scaled-e1656615992280.jpg
END:VEVENT
BEGIN:VEVENT
DTSTART;TZID=America/Sao_Paulo:20230617T100000
DTEND;TZID=America/Sao_Paulo:20230617T100000
DTSTAMP:20260423T200339
CREATED:20230615T184619Z
LAST-MODIFIED:20230615T184619Z
UID:7484-1686996000-1686996000@albinoteixeira.org.br
SUMMARY:A fé transporta montanhas
DESCRIPTION:
URL:https://albinoteixeira.org.br/evento/a-fe-transporta-montanhas-6/
LOCATION:Grupo Espírita de Fraternidade Albino Teixeira\, Rua dos Aeroviários\, 240\, Bairro Liberdade\, Belo Horizonte\, MG\, 31270-330\, Brasil
CATEGORIES:Reunião Pública
ATTACH;FMTTYPE=image/jpeg:https://albinoteixeira.org.br/wp-content/uploads/2022/06/sede-scaled-e1656615992280.jpg
END:VEVENT
BEGIN:VEVENT
DTSTART;TZID=America/Sao_Paulo:20230617T143000
DTEND;TZID=America/Sao_Paulo:20230617T143000
DTSTAMP:20260423T200339
CREATED:20230615T184740Z
LAST-MODIFIED:20230615T184740Z
UID:7486-1687012200-1687012200@albinoteixeira.org.br
SUMMARY:O servo bom
DESCRIPTION:
URL:https://albinoteixeira.org.br/evento/o-servo-bom-2/
LOCATION:Grupo Espírita de Fraternidade Albino Teixeira\, Rua dos Aeroviários\, 240\, Bairro Liberdade\, Belo Horizonte\, MG\, 31270-330\, Brasil
CATEGORIES:Reunião Pública
ATTACH;FMTTYPE=image/jpeg:https://albinoteixeira.org.br/wp-content/uploads/2022/06/sede-scaled-e1656615992280.jpg
END:VEVENT
BEGIN:VEVENT
DTSTART;TZID=America/Sao_Paulo:20230617T183000
DTEND;TZID=America/Sao_Paulo:20230617T183000
DTSTAMP:20260423T200339
CREATED:20230615T184914Z
LAST-MODIFIED:20230615T184914Z
UID:7488-1687026600-1687026600@albinoteixeira.org.br
SUMMARY:O endemoninhado epiléptico
DESCRIPTION:
URL:https://albinoteixeira.org.br/evento/o-endemoninhado-epileptico-3/
LOCATION:Grupo Espírita de Fraternidade Albino Teixeira\, Rua dos Aeroviários\, 240\, Bairro Liberdade\, Belo Horizonte\, MG\, 31270-330\, Brasil
CATEGORIES:Reunião Pública
ATTACH;FMTTYPE=image/jpeg:https://albinoteixeira.org.br/wp-content/uploads/2022/06/sede-scaled-e1656615992280.jpg
END:VEVENT
BEGIN:VEVENT
DTSTART;TZID=America/Sao_Paulo:20230618T100000
DTEND;TZID=America/Sao_Paulo:20230618T100000
DTSTAMP:20260423T200339
CREATED:20230615T185031Z
LAST-MODIFIED:20230615T200759Z
UID:7490-1687082400-1687082400@albinoteixeira.org.br
SUMMARY:Compromisso afetivo e casamentos
DESCRIPTION:
URL:https://albinoteixeira.org.br/evento/compromisso-afetivo-e-casamentos/
LOCATION:Grupo Espírita de Fraternidade Albino Teixeira\, Rua dos Aeroviários\, 240\, Bairro Liberdade\, Belo Horizonte\, MG\, 31270-330\, Brasil
CATEGORIES:Reunião Pública
ATTACH;FMTTYPE=image/jpeg:https://albinoteixeira.org.br/wp-content/uploads/2022/06/sede-scaled-e1656615992280.jpg
END:VEVENT
BEGIN:VEVENT
DTSTART;TZID=America/Sao_Paulo:20230618T190000
DTEND;TZID=America/Sao_Paulo:20230618T190000
DTSTAMP:20260423T200339
CREATED:20230615T185831Z
LAST-MODIFIED:20230615T190228Z
UID:7496-1687114800-1687114800@albinoteixeira.org.br
SUMMARY:A última ceia
DESCRIPTION:
URL:https://albinoteixeira.org.br/evento/a-ultima-ceia-2/
LOCATION:Plataforma Zoom (Senha: 123)
CATEGORIES:Online,Reunião Pública
ATTACH;FMTTYPE=image/jpeg:https://albinoteixeira.org.br/wp-content/uploads/2022/06/sede-scaled-e1656615992280.jpg
END:VEVENT
BEGIN:VEVENT
DTSTART;TZID=America/Sao_Paulo:20230619T200000
DTEND;TZID=America/Sao_Paulo:20230619T200000
DTSTAMP:20260423T200339
CREATED:20230615T185325Z
LAST-MODIFIED:20230615T185326Z
UID:7492-1687204800-1687204800@albinoteixeira.org.br
SUMMARY:A negação de Pedro
DESCRIPTION:
URL:https://albinoteixeira.org.br/evento/a-negacao-de-pedro-4/
LOCATION:Grupo Espírita de Fraternidade Albino Teixeira\, Rua dos Aeroviários\, 240\, Bairro Liberdade\, Belo Horizonte\, MG\, 31270-330\, Brasil
CATEGORIES:Reunião Pública
ATTACH;FMTTYPE=image/jpeg:https://albinoteixeira.org.br/wp-content/uploads/2022/06/sede-scaled-e1656615992280.jpg
END:VEVENT
BEGIN:VEVENT
DTSTART;TZID=America/Sao_Paulo:20230620T200000
DTEND;TZID=America/Sao_Paulo:20230620T200000
DTSTAMP:20260423T200339
CREATED:20230615T185533Z
LAST-MODIFIED:20230615T185533Z
UID:7494-1687291200-1687291200@albinoteixeira.org.br
SUMMARY:A oração do Horto
DESCRIPTION:
URL:https://albinoteixeira.org.br/evento/a-oracao-do-horto/
LOCATION:Grupo Espírita de Fraternidade Albino Teixeira\, Rua dos Aeroviários\, 240\, Bairro Liberdade\, Belo Horizonte\, MG\, 31270-330\, Brasil
CATEGORIES:Reunião Pública
ATTACH;FMTTYPE=image/jpeg:https://albinoteixeira.org.br/wp-content/uploads/2022/06/sede-scaled-e1656615992280.jpg
END:VEVENT
BEGIN:VEVENT
DTSTART;TZID=America/Sao_Paulo:20230621T150000
DTEND;TZID=America/Sao_Paulo:20230621T150000
DTSTAMP:20260423T200339
CREATED:20230621T204115Z
LAST-MODIFIED:20230621T204115Z
UID:7506-1687359600-1687359600@albinoteixeira.org.br
SUMMARY:O bom ladrão
DESCRIPTION:
URL:https://albinoteixeira.org.br/evento/o-bom-ladrao-4/
LOCATION:Grupo Espírita de Fraternidade Albino Teixeira\, Rua dos Aeroviários\, 240\, Bairro Liberdade\, Belo Horizonte\, MG\, 31270-330\, Brasil
CATEGORIES:Reunião Pública
ATTACH;FMTTYPE=image/jpeg:https://albinoteixeira.org.br/wp-content/uploads/2022/06/sede-scaled-e1656615992280.jpg
END:VEVENT
BEGIN:VEVENT
DTSTART;TZID=America/Sao_Paulo:20230621T200000
DTEND;TZID=America/Sao_Paulo:20230621T200000
DTSTAMP:20260423T200339
CREATED:20230621T203712Z
LAST-MODIFIED:20230621T204001Z
UID:7502-1687377600-1687377600@albinoteixeira.org.br
SUMMARY:Os quinhetos da Galileia
DESCRIPTION:
URL:https://albinoteixeira.org.br/evento/os-quinhetos-da-galileia/
LOCATION:Grupo Espírita de Fraternidade Albino Teixeira\, Rua dos Aeroviários\, 240\, Bairro Liberdade\, Belo Horizonte\, MG\, 31270-330\, Brasil
CATEGORIES:Reunião Pública
ATTACH;FMTTYPE=image/jpeg:https://albinoteixeira.org.br/wp-content/uploads/2022/06/sede-scaled-e1656615992280.jpg
END:VEVENT
BEGIN:VEVENT
DTSTART;TZID=America/Sao_Paulo:20230622T200000
DTEND;TZID=America/Sao_Paulo:20230622T200000
DTSTAMP:20260423T200339
CREATED:20230621T203912Z
LAST-MODIFIED:20230621T205340Z
UID:7504-1687464000-1687464000@albinoteixeira.org.br
SUMMARY:Caridade como a entendia Jesus
DESCRIPTION:
URL:https://albinoteixeira.org.br/evento/caridade-como-a-entendia-jesus-2/
LOCATION:Grupo Espírita de Fraternidade Albino Teixeira\, Rua dos Aeroviários\, 240\, Bairro Liberdade\, Belo Horizonte\, MG\, 31270-330\, Brasil
CATEGORIES:Reunião Pública
ATTACH;FMTTYPE=image/jpeg:https://albinoteixeira.org.br/wp-content/uploads/2022/06/sede-scaled-e1656615992280.jpg
END:VEVENT
BEGIN:VEVENT
DTSTART;TZID=America/Sao_Paulo:20230623T150000
DTEND;TZID=America/Sao_Paulo:20230623T150000
DTSTAMP:20260423T200339
CREATED:20230621T204304Z
LAST-MODIFIED:20230621T204304Z
UID:7508-1687532400-1687532400@albinoteixeira.org.br
SUMMARY:Cura de um hidrópico em dia de sábado
DESCRIPTION:
URL:https://albinoteixeira.org.br/evento/cura-de-um-hidropico-em-dia-de-sabado-3/
LOCATION:Grupo Espírita de Fraternidade Albino Teixeira\, Rua dos Aeroviários\, 240\, Bairro Liberdade\, Belo Horizonte\, MG\, 31270-330\, Brasil
CATEGORIES:Reunião Pública
ATTACH;FMTTYPE=image/jpeg:https://albinoteixeira.org.br/wp-content/uploads/2022/06/sede-scaled-e1656615992280.jpg
END:VEVENT
BEGIN:VEVENT
DTSTART;TZID=America/Sao_Paulo:20230623T200000
DTEND;TZID=America/Sao_Paulo:20230623T200000
DTSTAMP:20260423T200339
CREATED:20230621T204422Z
LAST-MODIFIED:20230621T204423Z
UID:7510-1687550400-1687550400@albinoteixeira.org.br
SUMMARY:Depressão na visão espírita
DESCRIPTION:
URL:https://albinoteixeira.org.br/evento/depressao-na-visao-espirita-8/
LOCATION:Grupo Espírita de Fraternidade Albino Teixeira\, Rua dos Aeroviários\, 240\, Bairro Liberdade\, Belo Horizonte\, MG\, 31270-330\, Brasil
CATEGORIES:Reunião Pública
ATTACH;FMTTYPE=image/jpeg:https://albinoteixeira.org.br/wp-content/uploads/2022/06/sede-scaled-e1656615992280.jpg
END:VEVENT
END:VCALENDAR