BEGIN:VCALENDAR
VERSION:2.0
PRODID:-//Gefrater - ECPv6.15.20//NONSGML v1.0//EN
CALSCALE:GREGORIAN
METHOD:PUBLISH
X-ORIGINAL-URL:https://albinoteixeira.org.br
X-WR-CALDESC:Eventos para Gefrater
REFRESH-INTERVAL;VALUE=DURATION:PT1H
X-Robots-Tag:noindex
X-PUBLISHED-TTL:PT1H
BEGIN:VTIMEZONE
TZID:America/Sao_Paulo
BEGIN:STANDARD
TZOFFSETFROM:-0300
TZOFFSETTO:-0300
TZNAME:-03
DTSTART:20220101T000000
END:STANDARD
END:VTIMEZONE
BEGIN:VEVENT
DTSTART;TZID=America/Sao_Paulo:20230703T200000
DTEND;TZID=America/Sao_Paulo:20230703T200000
DTSTAMP:20260423T200441
CREATED:20230702T222338Z
LAST-MODIFIED:20230702T222338Z
UID:7545-1688414400-1688414400@albinoteixeira.org.br
SUMMARY:Princípios básicos: Deus
DESCRIPTION:
URL:https://albinoteixeira.org.br/evento/principios-basicos-deus-5/
LOCATION:Grupo Espírita de Fraternidade Albino Teixeira\, Rua dos Aeroviários\, 240\, Bairro Liberdade\, Belo Horizonte\, MG\, 31270-330\, Brasil
CATEGORIES:Reunião Pública
ATTACH;FMTTYPE=image/jpeg:https://albinoteixeira.org.br/wp-content/uploads/2022/06/sede-scaled-e1656615992280.jpg
END:VEVENT
BEGIN:VEVENT
DTSTART;TZID=America/Sao_Paulo:20230704T200000
DTEND;TZID=America/Sao_Paulo:20230704T200000
DTSTAMP:20260423T200441
CREATED:20230702T222504Z
LAST-MODIFIED:20230702T224052Z
UID:7547-1688500800-1688500800@albinoteixeira.org.br
SUMMARY:Advento do Espírito de Verdade
DESCRIPTION:
URL:https://albinoteixeira.org.br/evento/advento-do-espirito-de-verdade-3/
LOCATION:Grupo Espírita de Fraternidade Albino Teixeira\, Rua dos Aeroviários\, 240\, Bairro Liberdade\, Belo Horizonte\, MG\, 31270-330\, Brasil
CATEGORIES:Reunião Pública
ATTACH;FMTTYPE=image/jpeg:https://albinoteixeira.org.br/wp-content/uploads/2022/06/sede-scaled-e1656615992280.jpg
END:VEVENT
BEGIN:VEVENT
DTSTART;TZID=America/Sao_Paulo:20230705T150000
DTEND;TZID=America/Sao_Paulo:20230705T150000
DTSTAMP:20260423T200441
CREATED:20230702T222652Z
LAST-MODIFIED:20230702T222652Z
UID:7549-1688569200-1688569200@albinoteixeira.org.br
SUMMARY:A muitas moradas na casa do Pai
DESCRIPTION:
URL:https://albinoteixeira.org.br/evento/a-muitas-moradas-na-casa-do-pai/
LOCATION:Grupo Espírita de Fraternidade Albino Teixeira\, Rua dos Aeroviários\, 240\, Bairro Liberdade\, Belo Horizonte\, MG\, 31270-330\, Brasil
CATEGORIES:Reunião Pública
ATTACH;FMTTYPE=image/jpeg:https://albinoteixeira.org.br/wp-content/uploads/2022/06/sede-scaled-e1656615992280.jpg
END:VEVENT
BEGIN:VEVENT
DTSTART;TZID=America/Sao_Paulo:20230705T200000
DTEND;TZID=America/Sao_Paulo:20230705T200000
DTSTAMP:20260423T200441
CREATED:20230702T222814Z
LAST-MODIFIED:20230702T222814Z
UID:7551-1688587200-1688587200@albinoteixeira.org.br
SUMMARY:Princípios básicos: evolução
DESCRIPTION:
URL:https://albinoteixeira.org.br/evento/principios-basicos-evolucao-3/
LOCATION:Grupo Espírita de Fraternidade Albino Teixeira\, Rua dos Aeroviários\, 240\, Bairro Liberdade\, Belo Horizonte\, MG\, 31270-330\, Brasil
CATEGORIES:Reunião Pública
ATTACH;FMTTYPE=image/jpeg:https://albinoteixeira.org.br/wp-content/uploads/2022/06/sede-scaled-e1656615992280.jpg
END:VEVENT
BEGIN:VEVENT
DTSTART;TZID=America/Sao_Paulo:20230706T200000
DTEND;TZID=America/Sao_Paulo:20230706T200000
DTSTAMP:20260423T200441
CREATED:20230702T222941Z
LAST-MODIFIED:20230702T222942Z
UID:7553-1688673600-1688673600@albinoteixeira.org.br
SUMMARY:Transição planetária
DESCRIPTION:
URL:https://albinoteixeira.org.br/evento/transicao-planetaria-3/
LOCATION:Grupo Espírita de Fraternidade Albino Teixeira\, Rua dos Aeroviários\, 240\, Bairro Liberdade\, Belo Horizonte\, MG\, 31270-330\, Brasil
CATEGORIES:Reunião Pública
ATTACH;FMTTYPE=image/jpeg:https://albinoteixeira.org.br/wp-content/uploads/2022/06/sede-scaled-e1656615992280.jpg
END:VEVENT
BEGIN:VEVENT
DTSTART;TZID=America/Sao_Paulo:20230707T150000
DTEND;TZID=America/Sao_Paulo:20230707T150000
DTSTAMP:20260423T200441
CREATED:20230702T223115Z
LAST-MODIFIED:20230702T223115Z
UID:7555-1688742000-1688742000@albinoteixeira.org.br
SUMMARY:Jesus\, médico das almas
DESCRIPTION:
URL:https://albinoteixeira.org.br/evento/jesus-medico-das-almas-7/
LOCATION:Grupo Espírita de Fraternidade Albino Teixeira\, Rua dos Aeroviários\, 240\, Bairro Liberdade\, Belo Horizonte\, MG\, 31270-330\, Brasil
CATEGORIES:Reunião Pública
ATTACH;FMTTYPE=image/jpeg:https://albinoteixeira.org.br/wp-content/uploads/2022/06/sede-scaled-e1656615992280.jpg
END:VEVENT
BEGIN:VEVENT
DTSTART;TZID=America/Sao_Paulo:20230707T200000
DTEND;TZID=America/Sao_Paulo:20230707T200000
DTSTAMP:20260423T200441
CREATED:20230702T223251Z
LAST-MODIFIED:20230702T223251Z
UID:7557-1688760000-1688760000@albinoteixeira.org.br
SUMMARY:A casa construída sobre a rocha
DESCRIPTION:
URL:https://albinoteixeira.org.br/evento/a-casa-construida-sobre-a-rocha-12/
LOCATION:Grupo Espírita de Fraternidade Albino Teixeira\, Rua dos Aeroviários\, 240\, Bairro Liberdade\, Belo Horizonte\, MG\, 31270-330\, Brasil
CATEGORIES:Reunião Pública
ATTACH;FMTTYPE=image/jpeg:https://albinoteixeira.org.br/wp-content/uploads/2022/06/sede-scaled-e1656615992280.jpg
END:VEVENT
BEGIN:VEVENT
DTSTART;TZID=America/Sao_Paulo:20230708T100000
DTEND;TZID=America/Sao_Paulo:20230708T100000
DTSTAMP:20260423T200441
CREATED:20230702T223413Z
LAST-MODIFIED:20230702T223413Z
UID:7559-1688810400-1688810400@albinoteixeira.org.br
SUMMARY:Perfeição moral: conhecimento de si mesmo
DESCRIPTION:
URL:https://albinoteixeira.org.br/evento/perfeicao-moral-conhecimento-de-si-mesmo-2/
LOCATION:Grupo Espírita de Fraternidade Albino Teixeira\, Rua dos Aeroviários\, 240\, Bairro Liberdade\, Belo Horizonte\, MG\, 31270-330\, Brasil
CATEGORIES:Reunião Pública
ATTACH;FMTTYPE=image/jpeg:https://albinoteixeira.org.br/wp-content/uploads/2022/06/sede-scaled-e1656615992280.jpg
END:VEVENT
BEGIN:VEVENT
DTSTART;TZID=America/Sao_Paulo:20230708T143000
DTEND;TZID=America/Sao_Paulo:20230708T143000
DTSTAMP:20260423T200441
CREATED:20230702T223535Z
LAST-MODIFIED:20230702T223535Z
UID:7561-1688826600-1688826600@albinoteixeira.org.br
SUMMARY:O banquete dos publicanos
DESCRIPTION:
URL:https://albinoteixeira.org.br/evento/o-banquete-dos-publicanos-2/
LOCATION:Grupo Espírita de Fraternidade Albino Teixeira\, Rua dos Aeroviários\, 240\, Bairro Liberdade\, Belo Horizonte\, MG\, 31270-330\, Brasil
CATEGORIES:Reunião Pública
ATTACH;FMTTYPE=image/jpeg:https://albinoteixeira.org.br/wp-content/uploads/2022/06/sede-scaled-e1656615992280.jpg
END:VEVENT
BEGIN:VEVENT
DTSTART;TZID=America/Sao_Paulo:20230708T183000
DTEND;TZID=America/Sao_Paulo:20230708T183000
DTSTAMP:20260423T200441
CREATED:20230702T223702Z
LAST-MODIFIED:20230702T223702Z
UID:7563-1688841000-1688841000@albinoteixeira.org.br
SUMMARY:Leis morais - lei de adoração
DESCRIPTION:
URL:https://albinoteixeira.org.br/evento/leis-morais-lei-de-adoracao-12/
LOCATION:Grupo Espírita de Fraternidade Albino Teixeira\, Rua dos Aeroviários\, 240\, Bairro Liberdade\, Belo Horizonte\, MG\, 31270-330\, Brasil
CATEGORIES:Reunião Pública
ATTACH;FMTTYPE=image/jpeg:https://albinoteixeira.org.br/wp-content/uploads/2022/06/sede-scaled-e1656615992280.jpg
END:VEVENT
BEGIN:VEVENT
DTSTART;TZID=America/Sao_Paulo:20230709T100000
DTEND;TZID=America/Sao_Paulo:20230709T100000
DTSTAMP:20260423T200441
CREATED:20230702T223843Z
LAST-MODIFIED:20230702T223843Z
UID:7565-1688896800-1688896800@albinoteixeira.org.br
SUMMARY:Na luz da compaixão
DESCRIPTION:
URL:https://albinoteixeira.org.br/evento/na-luz-da-compaixao-3/
LOCATION:Grupo Espírita de Fraternidade Albino Teixeira\, Rua dos Aeroviários\, 240\, Bairro Liberdade\, Belo Horizonte\, MG\, 31270-330\, Brasil
CATEGORIES:Reunião Pública
ATTACH;FMTTYPE=image/jpeg:https://albinoteixeira.org.br/wp-content/uploads/2022/06/sede-scaled-e1656615992280.jpg
END:VEVENT
BEGIN:VEVENT
DTSTART;TZID=America/Sao_Paulo:20230709T190000
DTEND;TZID=America/Sao_Paulo:20230709T190000
DTSTAMP:20260423T200441
CREATED:20230702T215123Z
LAST-MODIFIED:20230702T215123Z
UID:7540-1688929200-1688929200@albinoteixeira.org.br
SUMMARY:Bem aventurados os pacificadores
DESCRIPTION:
URL:https://albinoteixeira.org.br/evento/bem-aventurados-os-pacificadores-7/
LOCATION:Plataforma Zoom (Senha: 123)
CATEGORIES:Online,Reunião Pública
ATTACH;FMTTYPE=image/jpeg:https://albinoteixeira.org.br/wp-content/uploads/2022/06/sede-scaled-e1656615992280.jpg
END:VEVENT
BEGIN:VEVENT
DTSTART;TZID=America/Sao_Paulo:20230710T200000
DTEND;TZID=America/Sao_Paulo:20230710T200000
DTSTAMP:20260423T200441
CREATED:20230702T223951Z
LAST-MODIFIED:20230702T223951Z
UID:7567-1689019200-1689019200@albinoteixeira.org.br
SUMMARY:Renovação e esperança
DESCRIPTION:
URL:https://albinoteixeira.org.br/evento/renovacao-e-esperanca-7/
LOCATION:Grupo Espírita de Fraternidade Albino Teixeira\, Rua dos Aeroviários\, 240\, Bairro Liberdade\, Belo Horizonte\, MG\, 31270-330\, Brasil
CATEGORIES:Reunião Pública
ATTACH;FMTTYPE=image/jpeg:https://albinoteixeira.org.br/wp-content/uploads/2022/06/sede-scaled-e1656615992280.jpg
END:VEVENT
BEGIN:VEVENT
DTSTART;TZID=America/Sao_Paulo:20230711T200000
DTEND;TZID=America/Sao_Paulo:20230711T200000
DTSTAMP:20260423T200441
CREATED:20230710T202839Z
LAST-MODIFIED:20230710T202840Z
UID:7581-1689105600-1689105600@albinoteixeira.org.br
SUMMARY:Morte e desencarnação
DESCRIPTION:
URL:https://albinoteixeira.org.br/evento/morte-e-desencarnacao/
LOCATION:Grupo Espírita de Fraternidade Albino Teixeira\, Rua dos Aeroviários\, 240\, Bairro Liberdade\, Belo Horizonte\, MG\, 31270-330\, Brasil
CATEGORIES:Reunião Pública
ATTACH;FMTTYPE=image/jpeg:https://albinoteixeira.org.br/wp-content/uploads/2022/06/sede-scaled-e1656615992280.jpg
END:VEVENT
BEGIN:VEVENT
DTSTART;TZID=America/Sao_Paulo:20230712T150000
DTEND;TZID=America/Sao_Paulo:20230712T150000
DTSTAMP:20260423T200441
CREATED:20230710T202954Z
LAST-MODIFIED:20230710T202954Z
UID:7583-1689174000-1689174000@albinoteixeira.org.br
SUMMARY:Os tormentos voluntários
DESCRIPTION:
URL:https://albinoteixeira.org.br/evento/os-tormentos-voluntarios-10/
LOCATION:Grupo Espírita de Fraternidade Albino Teixeira\, Rua dos Aeroviários\, 240\, Bairro Liberdade\, Belo Horizonte\, MG\, 31270-330\, Brasil
CATEGORIES:Reunião Pública
ATTACH;FMTTYPE=image/jpeg:https://albinoteixeira.org.br/wp-content/uploads/2022/06/sede-scaled-e1656615992280.jpg
END:VEVENT
BEGIN:VEVENT
DTSTART;TZID=America/Sao_Paulo:20230712T200000
DTEND;TZID=America/Sao_Paulo:20230712T200000
DTSTAMP:20260423T200441
CREATED:20230710T203113Z
LAST-MODIFIED:20230710T203113Z
UID:7585-1689192000-1689192000@albinoteixeira.org.br
SUMMARY:Renovação e esperança
DESCRIPTION:
URL:https://albinoteixeira.org.br/evento/renovacao-e-esperanca-8/
LOCATION:Grupo Espírita de Fraternidade Albino Teixeira\, Rua dos Aeroviários\, 240\, Bairro Liberdade\, Belo Horizonte\, MG\, 31270-330\, Brasil
CATEGORIES:Reunião Pública
ATTACH;FMTTYPE=image/jpeg:https://albinoteixeira.org.br/wp-content/uploads/2022/06/sede-scaled-e1656615992280.jpg
END:VEVENT
BEGIN:VEVENT
DTSTART;TZID=America/Sao_Paulo:20230713T200000
DTEND;TZID=America/Sao_Paulo:20230713T200000
DTSTAMP:20260423T200441
CREATED:20230710T203232Z
LAST-MODIFIED:20230710T203232Z
UID:7587-1689278400-1689278400@albinoteixeira.org.br
SUMMARY:No estudo da salvação
DESCRIPTION:
URL:https://albinoteixeira.org.br/evento/no-estudo-da-salvacao-2/
LOCATION:Grupo Espírita de Fraternidade Albino Teixeira\, Rua dos Aeroviários\, 240\, Bairro Liberdade\, Belo Horizonte\, MG\, 31270-330\, Brasil
CATEGORIES:Reunião Pública
ATTACH;FMTTYPE=image/jpeg:https://albinoteixeira.org.br/wp-content/uploads/2022/06/sede-scaled-e1656615992280.jpg
END:VEVENT
BEGIN:VEVENT
DTSTART;TZID=America/Sao_Paulo:20230714T150000
DTEND;TZID=America/Sao_Paulo:20230714T150000
DTSTAMP:20260423T200441
CREATED:20230710T203358Z
LAST-MODIFIED:20230710T203358Z
UID:7589-1689346800-1689346800@albinoteixeira.org.br
SUMMARY:Educação\, caminho para evolução
DESCRIPTION:
URL:https://albinoteixeira.org.br/evento/educacao-caminho-para-evolucao/
LOCATION:Grupo Espírita de Fraternidade Albino Teixeira\, Rua dos Aeroviários\, 240\, Bairro Liberdade\, Belo Horizonte\, MG\, 31270-330\, Brasil
CATEGORIES:Reunião Pública
ATTACH;FMTTYPE=image/jpeg:https://albinoteixeira.org.br/wp-content/uploads/2022/06/sede-scaled-e1656615992280.jpg
END:VEVENT
BEGIN:VEVENT
DTSTART;TZID=America/Sao_Paulo:20230714T200000
DTEND;TZID=America/Sao_Paulo:20230714T200000
DTSTAMP:20260423T200441
CREATED:20230710T203515Z
LAST-MODIFIED:20230710T203515Z
UID:7591-1689364800-1689364800@albinoteixeira.org.br
SUMMARY:Felicidade e infelicidade relativas
DESCRIPTION:
URL:https://albinoteixeira.org.br/evento/felicidade-e-infelicidade-relativas-6/
LOCATION:Grupo Espírita de Fraternidade Albino Teixeira\, Rua dos Aeroviários\, 240\, Bairro Liberdade\, Belo Horizonte\, MG\, 31270-330\, Brasil
CATEGORIES:Reunião Pública
ATTACH;FMTTYPE=image/jpeg:https://albinoteixeira.org.br/wp-content/uploads/2022/06/sede-scaled-e1656615992280.jpg
END:VEVENT
BEGIN:VEVENT
DTSTART;TZID=America/Sao_Paulo:20230715T100000
DTEND;TZID=America/Sao_Paulo:20230715T100000
DTSTAMP:20260423T200441
CREATED:20230710T203728Z
LAST-MODIFIED:20230710T203728Z
UID:7593-1689415200-1689415200@albinoteixeira.org.br
SUMMARY:Amai os vossos inimigos e orai pelos que vos perseguem
DESCRIPTION:
URL:https://albinoteixeira.org.br/evento/amai-os-vossos-inimigos-e-orai-pelos-que-vos-perseguem-2/
LOCATION:Grupo Espírita de Fraternidade Albino Teixeira\, Rua dos Aeroviários\, 240\, Bairro Liberdade\, Belo Horizonte\, MG\, 31270-330\, Brasil
CATEGORIES:Reunião Pública
ATTACH;FMTTYPE=image/jpeg:https://albinoteixeira.org.br/wp-content/uploads/2022/06/sede-scaled-e1656615992280.jpg
END:VEVENT
BEGIN:VEVENT
DTSTART;TZID=America/Sao_Paulo:20230715T143000
DTEND;TZID=America/Sao_Paulo:20230715T143000
DTSTAMP:20260423T200441
CREATED:20230710T203847Z
LAST-MODIFIED:20230710T203848Z
UID:7595-1689431400-1689431400@albinoteixeira.org.br
SUMMARY:Meu reino não é deste mundo
DESCRIPTION:
URL:https://albinoteixeira.org.br/evento/meu-reino-nao-e-deste-mundo-8/
LOCATION:Grupo Espírita de Fraternidade Albino Teixeira\, Rua dos Aeroviários\, 240\, Bairro Liberdade\, Belo Horizonte\, MG\, 31270-330\, Brasil
CATEGORIES:Reunião Pública
ATTACH;FMTTYPE=image/jpeg:https://albinoteixeira.org.br/wp-content/uploads/2022/06/sede-scaled-e1656615992280.jpg
END:VEVENT
BEGIN:VEVENT
DTSTART;TZID=America/Sao_Paulo:20230715T183000
DTEND;TZID=America/Sao_Paulo:20230715T183000
DTSTAMP:20260423T200441
CREATED:20230710T204001Z
LAST-MODIFIED:20230710T204029Z
UID:7597-1689445800-1689445800@albinoteixeira.org.br
SUMMARY:Princípios básicos: Jesus
DESCRIPTION:
URL:https://albinoteixeira.org.br/evento/principios-basicos-jesus-4/
LOCATION:Grupo Espírita de Fraternidade Albino Teixeira\, Rua dos Aeroviários\, 240\, Bairro Liberdade\, Belo Horizonte\, MG\, 31270-330\, Brasil
CATEGORIES:Reunião Pública
ATTACH;FMTTYPE=image/jpeg:https://albinoteixeira.org.br/wp-content/uploads/2022/06/sede-scaled-e1656615992280.jpg
END:VEVENT
BEGIN:VEVENT
DTSTART;TZID=America/Sao_Paulo:20230716T100000
DTEND;TZID=America/Sao_Paulo:20230716T100000
DTSTAMP:20260423T200441
CREATED:20230710T204253Z
LAST-MODIFIED:20230710T204253Z
UID:7599-1689501600-1689501600@albinoteixeira.org.br
SUMMARY:Parábola do construtor de uma torre
DESCRIPTION:
URL:https://albinoteixeira.org.br/evento/parabola-do-construtor-de-uma-torre-2/
LOCATION:Grupo Espírita de Fraternidade Albino Teixeira\, Rua dos Aeroviários\, 240\, Bairro Liberdade\, Belo Horizonte\, MG\, 31270-330\, Brasil
CATEGORIES:Reunião Pública
ATTACH;FMTTYPE=image/jpeg:https://albinoteixeira.org.br/wp-content/uploads/2022/06/sede-scaled-e1656615992280.jpg
END:VEVENT
BEGIN:VEVENT
DTSTART;TZID=America/Sao_Paulo:20230716T190000
DTEND;TZID=America/Sao_Paulo:20230716T190000
DTSTAMP:20260423T200441
CREATED:20230710T204412Z
LAST-MODIFIED:20230719T125124Z
UID:7601-1689534000-1689534000@albinoteixeira.org.br
SUMMARY:Bom ânimo
DESCRIPTION:
URL:https://albinoteixeira.org.br/evento/bom-animo-9/
LOCATION:Plataforma Zoom (Senha: 123)
CATEGORIES:Online,Reunião Pública
ATTACH;FMTTYPE=image/jpeg:https://albinoteixeira.org.br/wp-content/uploads/2022/06/sede-scaled-e1656615992280.jpg
END:VEVENT
BEGIN:VEVENT
DTSTART;TZID=America/Sao_Paulo:20230717T200000
DTEND;TZID=America/Sao_Paulo:20230717T200000
DTSTAMP:20260423T200441
CREATED:20230710T204533Z
LAST-MODIFIED:20230710T204904Z
UID:7603-1689624000-1689624000@albinoteixeira.org.br
SUMMARY:Crise - oportunidade de crescimento
DESCRIPTION:
URL:https://albinoteixeira.org.br/evento/crise-oportunidade-de-crescimento-7/
LOCATION:Grupo Espírita de Fraternidade Albino Teixeira\, Rua dos Aeroviários\, 240\, Bairro Liberdade\, Belo Horizonte\, MG\, 31270-330\, Brasil
CATEGORIES:Reunião Pública
ATTACH;FMTTYPE=image/jpeg:https://albinoteixeira.org.br/wp-content/uploads/2022/06/sede-scaled-e1656615992280.jpg
END:VEVENT
BEGIN:VEVENT
DTSTART;TZID=America/Sao_Paulo:20230718T200000
DTEND;TZID=America/Sao_Paulo:20230718T200000
DTSTAMP:20260423T200441
CREATED:20230710T204710Z
LAST-MODIFIED:20230710T204710Z
UID:7605-1689710400-1689710400@albinoteixeira.org.br
SUMMARY:Conhecimento espírita: alimento para as nossas almas
DESCRIPTION:
URL:https://albinoteixeira.org.br/evento/conhecimento-espirita-alimento-para-as-nossas-almas-7/
LOCATION:Grupo Espírita de Fraternidade Albino Teixeira\, Rua dos Aeroviários\, 240\, Bairro Liberdade\, Belo Horizonte\, MG\, 31270-330\, Brasil
CATEGORIES:Reunião Pública
END:VEVENT
BEGIN:VEVENT
DTSTART;TZID=America/Sao_Paulo:20230719T150000
DTEND;TZID=America/Sao_Paulo:20230719T150000
DTSTAMP:20260423T200441
CREATED:20230719T122719Z
LAST-MODIFIED:20230719T122720Z
UID:7613-1689778800-1689778800@albinoteixeira.org.br
SUMMARY:A escolha de provas
DESCRIPTION:
URL:https://albinoteixeira.org.br/evento/a-escolha-de-provas-11/
LOCATION:Grupo Espírita de Fraternidade Albino Teixeira\, Rua dos Aeroviários\, 240\, Bairro Liberdade\, Belo Horizonte\, MG\, 31270-330\, Brasil
CATEGORIES:Reunião Pública
ATTACH;FMTTYPE=image/jpeg:https://albinoteixeira.org.br/wp-content/uploads/2022/06/sede-scaled-e1656615992280.jpg
END:VEVENT
BEGIN:VEVENT
DTSTART;TZID=America/Sao_Paulo:20230719T200000
DTEND;TZID=America/Sao_Paulo:20230719T200000
DTSTAMP:20260423T200441
CREATED:20230719T122402Z
LAST-MODIFIED:20230719T122759Z
UID:7609-1689796800-1689796800@albinoteixeira.org.br
SUMMARY:Ide e ensinai
DESCRIPTION:
URL:https://albinoteixeira.org.br/evento/ide-e-ensinai-3/
LOCATION:Grupo Espírita de Fraternidade Albino Teixeira\, Rua dos Aeroviários\, 240\, Bairro Liberdade\, Belo Horizonte\, MG\, 31270-330\, Brasil
CATEGORIES:Reunião Pública
ATTACH;FMTTYPE=image/jpeg:https://albinoteixeira.org.br/wp-content/uploads/2022/06/sede-scaled-e1656615992280.jpg
END:VEVENT
BEGIN:VEVENT
DTSTART;TZID=America/Sao_Paulo:20230720T200000
DTEND;TZID=America/Sao_Paulo:20230720T200000
DTSTAMP:20260423T200441
CREATED:20230719T122526Z
LAST-MODIFIED:20230719T122618Z
UID:7611-1689883200-1689883200@albinoteixeira.org.br
SUMMARY:Prossigamos
DESCRIPTION:
URL:https://albinoteixeira.org.br/evento/prossigamos-4/
LOCATION:Grupo Espírita de Fraternidade Albino Teixeira\, Rua dos Aeroviários\, 240\, Bairro Liberdade\, Belo Horizonte\, MG\, 31270-330\, Brasil
CATEGORIES:Reunião Pública
ATTACH;FMTTYPE=image/jpeg:https://albinoteixeira.org.br/wp-content/uploads/2022/06/sede-scaled-e1656615992280.jpg
END:VEVENT
BEGIN:VEVENT
DTSTART;TZID=America/Sao_Paulo:20230721T150000
DTEND;TZID=America/Sao_Paulo:20230721T150000
DTSTAMP:20260423T200441
CREATED:20230719T122943Z
LAST-MODIFIED:20230719T122943Z
UID:7615-1689951600-1689951600@albinoteixeira.org.br
SUMMARY:Princípios básicos: livre arbítrio
DESCRIPTION:
URL:https://albinoteixeira.org.br/evento/principios-basicos-livre-arbitrio-3/
LOCATION:Grupo Espírita de Fraternidade Albino Teixeira\, Rua dos Aeroviários\, 240\, Bairro Liberdade\, Belo Horizonte\, MG\, 31270-330\, Brasil
CATEGORIES:Reunião Pública
ATTACH;FMTTYPE=image/jpeg:https://albinoteixeira.org.br/wp-content/uploads/2022/06/sede-scaled-e1656615992280.jpg
END:VEVENT
END:VCALENDAR