BEGIN:VCALENDAR
VERSION:2.0
PRODID:-//Gefrater - ECPv6.15.20//NONSGML v1.0//EN
CALSCALE:GREGORIAN
METHOD:PUBLISH
X-ORIGINAL-URL:https://albinoteixeira.org.br
X-WR-CALDESC:Eventos para Gefrater
REFRESH-INTERVAL;VALUE=DURATION:PT1H
X-Robots-Tag:noindex
X-PUBLISHED-TTL:PT1H
BEGIN:VTIMEZONE
TZID:America/Sao_Paulo
BEGIN:STANDARD
TZOFFSETFROM:-0300
TZOFFSETTO:-0300
TZNAME:-03
DTSTART:20220101T000000
END:STANDARD
END:VTIMEZONE
BEGIN:VEVENT
DTSTART;TZID=America/Sao_Paulo:20231212T200000
DTEND;TZID=America/Sao_Paulo:20231212T200000
DTSTAMP:20260425T182533
CREATED:20231208T140818Z
LAST-MODIFIED:20231208T140818Z
UID:8091-1702411200-1702411200@albinoteixeira.org.br
SUMMARY:Cartas de Paulo - Romanos
DESCRIPTION:
URL:https://albinoteixeira.org.br/evento/cartas-de-paulo-romanos-2/
LOCATION:Grupo Espírita de Fraternidade Albino Teixeira\, Rua dos Aeroviários\, 240\, Bairro Liberdade\, Belo Horizonte\, MG\, 31270-330\, Brasil
CATEGORIES:Reunião Pública
ATTACH;FMTTYPE=image/jpeg:https://albinoteixeira.org.br/wp-content/uploads/2022/06/sede-scaled-e1656615992280.jpg
END:VEVENT
BEGIN:VEVENT
DTSTART;TZID=America/Sao_Paulo:20231213T150000
DTEND;TZID=America/Sao_Paulo:20231213T150000
DTSTAMP:20260425T182533
CREATED:20231208T141023Z
LAST-MODIFIED:20231208T141024Z
UID:8093-1702479600-1702479600@albinoteixeira.org.br
SUMMARY:O julgo leve e o consolador prometido
DESCRIPTION:
URL:https://albinoteixeira.org.br/evento/o-julgo-leve-e-o-consolador-prometido/
LOCATION:Grupo Espírita de Fraternidade Albino Teixeira\, Rua dos Aeroviários\, 240\, Bairro Liberdade\, Belo Horizonte\, MG\, 31270-330\, Brasil
CATEGORIES:Reunião Pública
ATTACH;FMTTYPE=image/jpeg:https://albinoteixeira.org.br/wp-content/uploads/2022/06/sede-scaled-e1656615992280.jpg
END:VEVENT
BEGIN:VEVENT
DTSTART;TZID=America/Sao_Paulo:20231213T200000
DTEND;TZID=America/Sao_Paulo:20231213T200000
DTSTAMP:20260425T182533
CREATED:20231208T141224Z
LAST-MODIFIED:20231208T141224Z
UID:8095-1702497600-1702497600@albinoteixeira.org.br
SUMMARY:Onde entrardes\, dizei antes: "paz seja nesta casa"
DESCRIPTION:
URL:https://albinoteixeira.org.br/evento/onde-entrardes-dizei-antes-paz-seja-nesta-casa/
LOCATION:Grupo Espírita de Fraternidade Albino Teixeira\, Rua dos Aeroviários\, 240\, Bairro Liberdade\, Belo Horizonte\, MG\, 31270-330\, Brasil
CATEGORIES:Reunião Pública
ATTACH;FMTTYPE=image/jpeg:https://albinoteixeira.org.br/wp-content/uploads/2022/06/sede-scaled-e1656615992280.jpg
END:VEVENT
BEGIN:VEVENT
DTSTART;TZID=America/Sao_Paulo:20231214T200000
DTEND;TZID=America/Sao_Paulo:20231214T200000
DTSTAMP:20260425T182533
CREATED:20231208T141417Z
LAST-MODIFIED:20231208T141417Z
UID:8097-1702584000-1702584000@albinoteixeira.org.br
SUMMARY:Que te importa a ti? Seguem-me tu
DESCRIPTION:
URL:https://albinoteixeira.org.br/evento/que-te-importa-a-ti-seguem-me-tu/
LOCATION:Grupo Espírita de Fraternidade Albino Teixeira\, Rua dos Aeroviários\, 240\, Bairro Liberdade\, Belo Horizonte\, MG\, 31270-330\, Brasil
CATEGORIES:Reunião Pública
ATTACH;FMTTYPE=image/jpeg:https://albinoteixeira.org.br/wp-content/uploads/2022/06/sede-scaled-e1656615992280.jpg
END:VEVENT
BEGIN:VEVENT
DTSTART;TZID=America/Sao_Paulo:20231215T150000
DTEND;TZID=America/Sao_Paulo:20231215T150000
DTSTAMP:20260425T182533
CREATED:20231208T141557Z
LAST-MODIFIED:20231208T141557Z
UID:8099-1702652400-1702652400@albinoteixeira.org.br
SUMMARY:Bem aventurados os pobres de espírito
DESCRIPTION:
URL:https://albinoteixeira.org.br/evento/bem-aventurados-os-pobres-de-espirito-3/
LOCATION:Grupo Espírita de Fraternidade Albino Teixeira\, Rua dos Aeroviários\, 240\, Bairro Liberdade\, Belo Horizonte\, MG\, 31270-330\, Brasil
CATEGORIES:Reunião Pública
ATTACH;FMTTYPE=image/jpeg:https://albinoteixeira.org.br/wp-content/uploads/2022/06/sede-scaled-e1656615992280.jpg
END:VEVENT
BEGIN:VEVENT
DTSTART;TZID=America/Sao_Paulo:20231215T200000
DTEND;TZID=America/Sao_Paulo:20231215T200000
DTSTAMP:20260425T182533
CREATED:20231208T141722Z
LAST-MODIFIED:20231208T141722Z
UID:8101-1702670400-1702670400@albinoteixeira.org.br
SUMMARY:O filho do orgulho
DESCRIPTION:
URL:https://albinoteixeira.org.br/evento/o-filho-do-orgulho-4/
LOCATION:Grupo Espírita de Fraternidade Albino Teixeira\, Rua dos Aeroviários\, 240\, Bairro Liberdade\, Belo Horizonte\, MG\, 31270-330\, Brasil
CATEGORIES:Reunião Pública
ATTACH;FMTTYPE=image/jpeg:https://albinoteixeira.org.br/wp-content/uploads/2022/06/sede-scaled-e1656615992280.jpg
END:VEVENT
BEGIN:VEVENT
DTSTART;TZID=America/Sao_Paulo:20240115T200000
DTEND;TZID=America/Sao_Paulo:20240115T200000
DTSTAMP:20260425T182533
CREATED:20240114T230734Z
LAST-MODIFIED:20240114T230734Z
UID:8119-1705348800-1705348800@albinoteixeira.org.br
SUMMARY:Resistência ao mal
DESCRIPTION:
URL:https://albinoteixeira.org.br/evento/resistencia-ao-mal-3/
LOCATION:Grupo Espírita de Fraternidade Albino Teixeira\, Rua dos Aeroviários\, 240\, Bairro Liberdade\, Belo Horizonte\, MG\, 31270-330\, Brasil
CATEGORIES:Reunião Pública
ATTACH;FMTTYPE=image/jpeg:https://albinoteixeira.org.br/wp-content/uploads/2022/06/sede-scaled-e1656615992280.jpg
END:VEVENT
BEGIN:VEVENT
DTSTART;TZID=America/Sao_Paulo:20240116T200000
DTEND;TZID=America/Sao_Paulo:20240116T200000
DTSTAMP:20260425T182533
CREATED:20240114T224020Z
LAST-MODIFIED:20240114T224020Z
UID:8106-1705435200-1705435200@albinoteixeira.org.br
SUMMARY:Eu\, pacificador
DESCRIPTION:
URL:https://albinoteixeira.org.br/evento/eu-pacificador-6/
LOCATION:Grupo Espírita de Fraternidade Albino Teixeira\, Rua dos Aeroviários\, 240\, Bairro Liberdade\, Belo Horizonte\, MG\, 31270-330\, Brasil
CATEGORIES:Reunião Pública
ATTACH;FMTTYPE=image/jpeg:https://albinoteixeira.org.br/wp-content/uploads/2022/06/sede-scaled-e1656615992280.jpg
END:VEVENT
BEGIN:VEVENT
DTSTART;TZID=America/Sao_Paulo:20240117T150000
DTEND;TZID=America/Sao_Paulo:20240117T150000
DTSTAMP:20260425T182533
CREATED:20240114T225815Z
LAST-MODIFIED:20240114T225815Z
UID:8111-1705503600-1705503600@albinoteixeira.org.br
SUMMARY:Amar ao próximo como a si mesmo
DESCRIPTION:
URL:https://albinoteixeira.org.br/evento/amar-ao-proximo-como-a-si-mesmo-4/
LOCATION:Grupo Espírita de Fraternidade Albino Teixeira\, Rua dos Aeroviários\, 240\, Bairro Liberdade\, Belo Horizonte\, MG\, 31270-330\, Brasil
CATEGORIES:Reunião Pública
ATTACH;FMTTYPE=image/jpeg:https://albinoteixeira.org.br/wp-content/uploads/2022/06/sede-scaled-e1656615992280.jpg
END:VEVENT
BEGIN:VEVENT
DTSTART;TZID=America/Sao_Paulo:20240117T200000
DTEND;TZID=America/Sao_Paulo:20240117T200000
DTSTAMP:20260425T182533
CREATED:20240114T230551Z
LAST-MODIFIED:20240114T230551Z
UID:8116-1705521600-1705521600@albinoteixeira.org.br
SUMMARY:Velar com Jesus
DESCRIPTION:
URL:https://albinoteixeira.org.br/evento/velar-com-jesus-9/
LOCATION:Grupo Espírita de Fraternidade Albino Teixeira\, Rua dos Aeroviários\, 240\, Bairro Liberdade\, Belo Horizonte\, MG\, 31270-330\, Brasil
CATEGORIES:Reunião Pública
ATTACH;FMTTYPE=image/jpeg:https://albinoteixeira.org.br/wp-content/uploads/2022/06/sede-scaled-e1656615992280.jpg
END:VEVENT
BEGIN:VEVENT
DTSTART;TZID=America/Sao_Paulo:20240118T200000
DTEND;TZID=America/Sao_Paulo:20240118T200000
DTSTAMP:20260425T182533
CREATED:20240115T115616Z
LAST-MODIFIED:20240115T115616Z
UID:8124-1705608000-1705608000@albinoteixeira.org.br
SUMMARY:Confiemos\, Jesus está no leme
DESCRIPTION:
URL:https://albinoteixeira.org.br/evento/confiemos-jesus-esta-no-leme-8/
LOCATION:Grupo Espírita de Fraternidade Albino Teixeira\, Rua dos Aeroviários\, 240\, Bairro Liberdade\, Belo Horizonte\, MG\, 31270-330\, Brasil
CATEGORIES:Reunião Pública
ATTACH;FMTTYPE=image/jpeg:https://albinoteixeira.org.br/wp-content/uploads/2022/06/sede-scaled-e1656615992280.jpg
END:VEVENT
BEGIN:VEVENT
DTSTART;TZID=America/Sao_Paulo:20240119T150000
DTEND;TZID=America/Sao_Paulo:20240119T150000
DTSTAMP:20260425T182533
CREATED:20240115T115726Z
LAST-MODIFIED:20240115T115726Z
UID:8126-1705676400-1705676400@albinoteixeira.org.br
SUMMARY:Eu sou a luz do mundo
DESCRIPTION:
URL:https://albinoteixeira.org.br/evento/eu-sou-a-luz-do-mundo-11/
LOCATION:Grupo Espírita de Fraternidade Albino Teixeira\, Rua dos Aeroviários\, 240\, Bairro Liberdade\, Belo Horizonte\, MG\, 31270-330\, Brasil
CATEGORIES:Reunião Pública
ATTACH;FMTTYPE=image/jpeg:https://albinoteixeira.org.br/wp-content/uploads/2022/06/sede-scaled-e1656615992280.jpg
END:VEVENT
BEGIN:VEVENT
DTSTART;TZID=America/Sao_Paulo:20240119T200000
DTEND;TZID=America/Sao_Paulo:20240119T200000
DTSTAMP:20260425T182533
CREATED:20240115T115858Z
LAST-MODIFIED:20240115T115858Z
UID:8128-1705694400-1705694400@albinoteixeira.org.br
SUMMARY:Parábola do Bom Samaritano
DESCRIPTION:
URL:https://albinoteixeira.org.br/evento/parabola-do-bom-samaritano-5/
LOCATION:Grupo Espírita de Fraternidade Albino Teixeira\, Rua dos Aeroviários\, 240\, Bairro Liberdade\, Belo Horizonte\, MG\, 31270-330\, Brasil
CATEGORIES:Reunião Pública
ATTACH;FMTTYPE=image/jpeg:https://albinoteixeira.org.br/wp-content/uploads/2022/06/sede-scaled-e1656615992280.jpg
END:VEVENT
BEGIN:VEVENT
DTSTART;TZID=America/Sao_Paulo:20240120T100000
DTEND;TZID=America/Sao_Paulo:20240120T100000
DTSTAMP:20260425T182533
CREATED:20240115T115956Z
LAST-MODIFIED:20240115T115956Z
UID:8130-1705744800-1705744800@albinoteixeira.org.br
SUMMARY:Pedi e obtereis
DESCRIPTION:
URL:https://albinoteixeira.org.br/evento/pedi-e-obtereis-6/
LOCATION:Grupo Espírita de Fraternidade Albino Teixeira\, Rua dos Aeroviários\, 240\, Bairro Liberdade\, Belo Horizonte\, MG\, 31270-330\, Brasil
CATEGORIES:Reunião Pública
ATTACH;FMTTYPE=image/jpeg:https://albinoteixeira.org.br/wp-content/uploads/2022/06/sede-scaled-e1656615992280.jpg
END:VEVENT
BEGIN:VEVENT
DTSTART;TZID=America/Sao_Paulo:20240120T143000
DTEND;TZID=America/Sao_Paulo:20240120T143000
DTSTAMP:20260425T182533
CREATED:20240115T120116Z
LAST-MODIFIED:20240115T120116Z
UID:8132-1705761000-1705761000@albinoteixeira.org.br
SUMMARY:A fé\, sem obras\, é morta em si mesma
DESCRIPTION:
URL:https://albinoteixeira.org.br/evento/a-fe-sem-obras-e-morta-em-si-mesma-2/
LOCATION:Grupo Espírita de Fraternidade Albino Teixeira\, Rua dos Aeroviários\, 240\, Bairro Liberdade\, Belo Horizonte\, MG\, 31270-330\, Brasil
CATEGORIES:Reunião Pública
ATTACH;FMTTYPE=image/jpeg:https://albinoteixeira.org.br/wp-content/uploads/2022/06/sede-scaled-e1656615992280.jpg
END:VEVENT
BEGIN:VEVENT
DTSTART;VALUE=DATE:20240121
DTEND;VALUE=DATE:20240122
DTSTAMP:20260425T182533
CREATED:20240115T120322Z
LAST-MODIFIED:20240115T120322Z
UID:8134-1705795200-1705881599@albinoteixeira.org.br
SUMMARY:Onde estiver o seu tesouro\, aí estará seu coração
DESCRIPTION:
URL:https://albinoteixeira.org.br/evento/onde-estiver-o-seu-tesouro-ai-estara-seu-coracao-6/
LOCATION:Grupo Espírita de Fraternidade Albino Teixeira\, Rua dos Aeroviários\, 240\, Bairro Liberdade\, Belo Horizonte\, MG\, 31270-330\, Brasil
CATEGORIES:Reunião Pública
ATTACH;FMTTYPE=image/jpeg:https://albinoteixeira.org.br/wp-content/uploads/2022/06/sede-scaled-e1656615992280.jpg
END:VEVENT
BEGIN:VEVENT
DTSTART;TZID=America/Sao_Paulo:20240121T190000
DTEND;TZID=America/Sao_Paulo:20240121T190000
DTSTAMP:20260425T182533
CREATED:20240115T120455Z
LAST-MODIFIED:20240115T120455Z
UID:8136-1705863600-1705863600@albinoteixeira.org.br
SUMMARY:Caridade como a entendia Jesus
DESCRIPTION:
URL:https://albinoteixeira.org.br/evento/caridade-como-a-entendia-jesus-3/
LOCATION:Plataforma Zoom (Senha: 123)
CATEGORIES:Online,Reunião Pública
ATTACH;FMTTYPE=image/jpeg:https://albinoteixeira.org.br/wp-content/uploads/2022/06/sede-scaled-e1656615992280.jpg
END:VEVENT
BEGIN:VEVENT
DTSTART;TZID=America/Sao_Paulo:20240122T200000
DTEND;TZID=America/Sao_Paulo:20240122T200000
DTSTAMP:20260425T182533
CREATED:20240115T120547Z
LAST-MODIFIED:20240115T120548Z
UID:8138-1705953600-1705953600@albinoteixeira.org.br
SUMMARY:Fidelidade a Deus
DESCRIPTION:
URL:https://albinoteixeira.org.br/evento/fidelidade-a-deus-5/
LOCATION:Grupo Espírita de Fraternidade Albino Teixeira\, Rua dos Aeroviários\, 240\, Bairro Liberdade\, Belo Horizonte\, MG\, 31270-330\, Brasil
CATEGORIES:Reunião Pública
ATTACH;FMTTYPE=image/jpeg:https://albinoteixeira.org.br/wp-content/uploads/2022/06/sede-scaled-e1656615992280.jpg
END:VEVENT
BEGIN:VEVENT
DTSTART;TZID=America/Sao_Paulo:20240123T200000
DTEND;TZID=America/Sao_Paulo:20240123T200000
DTSTAMP:20260425T182533
CREATED:20240115T120647Z
LAST-MODIFIED:20240115T120647Z
UID:8140-1706040000-1706040000@albinoteixeira.org.br
SUMMARY:Perdão das ofensas
DESCRIPTION:
URL:https://albinoteixeira.org.br/evento/perdao-das-ofensas-5/
LOCATION:Grupo Espírita de Fraternidade Albino Teixeira\, Rua dos Aeroviários\, 240\, Bairro Liberdade\, Belo Horizonte\, MG\, 31270-330\, Brasil
CATEGORIES:Reunião Pública
ATTACH;FMTTYPE=image/jpeg:https://albinoteixeira.org.br/wp-content/uploads/2022/06/sede-scaled-e1656615992280.jpg
END:VEVENT
BEGIN:VEVENT
DTSTART;TZID=America/Sao_Paulo:20240124T150000
DTEND;TZID=America/Sao_Paulo:20240124T150000
DTSTAMP:20260425T182533
CREATED:20240115T120804Z
LAST-MODIFIED:20240115T121025Z
UID:8142-1706108400-1706108400@albinoteixeira.org.br
SUMMARY:Parábola do Talentos
DESCRIPTION:
URL:https://albinoteixeira.org.br/evento/parabola-do-talentos/
LOCATION:Grupo Espírita de Fraternidade Albino Teixeira\, Rua dos Aeroviários\, 240\, Bairro Liberdade\, Belo Horizonte\, MG\, 31270-330\, Brasil
CATEGORIES:Reunião Pública
ATTACH;FMTTYPE=image/jpeg:https://albinoteixeira.org.br/wp-content/uploads/2022/06/sede-scaled-e1656615992280.jpg
END:VEVENT
BEGIN:VEVENT
DTSTART;TZID=America/Sao_Paulo:20240124T200000
DTEND;TZID=America/Sao_Paulo:20240124T200000
DTSTAMP:20260425T182533
CREATED:20240115T120918Z
LAST-MODIFIED:20240115T120918Z
UID:8144-1706126400-1706126400@albinoteixeira.org.br
SUMMARY:Cristo Consolador
DESCRIPTION:
URL:https://albinoteixeira.org.br/evento/cristo-consolador-5/
LOCATION:Grupo Espírita de Fraternidade Albino Teixeira\, Rua dos Aeroviários\, 240\, Bairro Liberdade\, Belo Horizonte\, MG\, 31270-330\, Brasil
CATEGORIES:Reunião Pública
END:VEVENT
BEGIN:VEVENT
DTSTART;TZID=America/Sao_Paulo:20240125T200000
DTEND;TZID=America/Sao_Paulo:20240125T200000
DTSTAMP:20260425T182533
CREATED:20240123T162742Z
LAST-MODIFIED:20240123T162742Z
UID:8153-1706212800-1706212800@albinoteixeira.org.br
SUMMARY:Fé raciocinada
DESCRIPTION:
URL:https://albinoteixeira.org.br/evento/fe-raciocinada-4/
LOCATION:Grupo Espírita de Fraternidade Albino Teixeira\, Rua dos Aeroviários\, 240\, Bairro Liberdade\, Belo Horizonte\, MG\, 31270-330\, Brasil
CATEGORIES:Reunião Pública
ATTACH;FMTTYPE=image/jpeg:https://albinoteixeira.org.br/wp-content/uploads/2022/06/sede-scaled-e1656615992280.jpg
END:VEVENT
BEGIN:VEVENT
DTSTART;TZID=America/Sao_Paulo:20240126T150000
DTEND;TZID=America/Sao_Paulo:20240126T150000
DTSTAMP:20260425T182533
CREATED:20240123T162932Z
LAST-MODIFIED:20240123T162932Z
UID:8155-1706281200-1706281200@albinoteixeira.org.br
SUMMARY:Parábola do Fermento
DESCRIPTION:
URL:https://albinoteixeira.org.br/evento/parabola-do-fermento-3/
LOCATION:Grupo Espírita de Fraternidade Albino Teixeira\, Rua dos Aeroviários\, 240\, Bairro Liberdade\, Belo Horizonte\, MG\, 31270-330\, Brasil
CATEGORIES:Reunião Pública
ATTACH;FMTTYPE=image/jpeg:https://albinoteixeira.org.br/wp-content/uploads/2022/06/sede-scaled-e1656615992280.jpg
END:VEVENT
BEGIN:VEVENT
DTSTART;TZID=America/Sao_Paulo:20240126T200000
DTEND;TZID=America/Sao_Paulo:20240126T200000
DTSTAMP:20260425T182533
CREATED:20240123T163056Z
LAST-MODIFIED:20240123T163056Z
UID:8157-1706299200-1706299200@albinoteixeira.org.br
SUMMARY:Quem é meu próximo
DESCRIPTION:
URL:https://albinoteixeira.org.br/evento/quem-e-meu-proximo-6/
LOCATION:Grupo Espírita de Fraternidade Albino Teixeira\, Rua dos Aeroviários\, 240\, Bairro Liberdade\, Belo Horizonte\, MG\, 31270-330\, Brasil
CATEGORIES:Reunião Pública
ATTACH;FMTTYPE=image/jpeg:https://albinoteixeira.org.br/wp-content/uploads/2022/06/sede-scaled-e1656615992280.jpg
END:VEVENT
BEGIN:VEVENT
DTSTART;TZID=America/Sao_Paulo:20240127T100000
DTEND;TZID=America/Sao_Paulo:20240127T100000
DTSTAMP:20260425T182533
CREATED:20240123T163214Z
LAST-MODIFIED:20240123T163215Z
UID:8159-1706349600-1706349600@albinoteixeira.org.br
SUMMARY:Ante o livre arbítrio
DESCRIPTION:
URL:https://albinoteixeira.org.br/evento/ante-o-livre-arbitrio-10/
LOCATION:Grupo Espírita de Fraternidade Albino Teixeira\, Rua dos Aeroviários\, 240\, Bairro Liberdade\, Belo Horizonte\, MG\, 31270-330\, Brasil
CATEGORIES:Reunião Pública
ATTACH;FMTTYPE=image/jpeg:https://albinoteixeira.org.br/wp-content/uploads/2022/06/sede-scaled-e1656615992280.jpg
END:VEVENT
BEGIN:VEVENT
DTSTART;TZID=America/Sao_Paulo:20240127T143000
DTEND;TZID=America/Sao_Paulo:20240127T143000
DTSTAMP:20260425T182533
CREATED:20240123T163357Z
LAST-MODIFIED:20240123T163357Z
UID:8161-1706365800-1706365800@albinoteixeira.org.br
SUMMARY:Amai os vossos inimigos e orai pelos que vos perseguem
DESCRIPTION:
URL:https://albinoteixeira.org.br/evento/amai-os-vossos-inimigos-e-orai-pelos-que-vos-perseguem-3/
LOCATION:Grupo Espírita de Fraternidade Albino Teixeira\, Rua dos Aeroviários\, 240\, Bairro Liberdade\, Belo Horizonte\, MG\, 31270-330\, Brasil
CATEGORIES:Reunião Pública
ATTACH;FMTTYPE=image/jpeg:https://albinoteixeira.org.br/wp-content/uploads/2022/06/sede-scaled-e1656615992280.jpg
END:VEVENT
BEGIN:VEVENT
DTSTART;TZID=America/Sao_Paulo:20240128T100000
DTEND;TZID=America/Sao_Paulo:20240128T100000
DTSTAMP:20260425T182533
CREATED:20240123T163508Z
LAST-MODIFIED:20240123T163508Z
UID:8163-1706436000-1706436000@albinoteixeira.org.br
SUMMARY:Perfeição moral
DESCRIPTION:
URL:https://albinoteixeira.org.br/evento/perfeicao-moral-6/
LOCATION:Grupo Espírita de Fraternidade Albino Teixeira\, Rua dos Aeroviários\, 240\, Bairro Liberdade\, Belo Horizonte\, MG\, 31270-330\, Brasil
CATEGORIES:Reunião Pública
ATTACH;FMTTYPE=image/jpeg:https://albinoteixeira.org.br/wp-content/uploads/2022/06/sede-scaled-e1656615992280.jpg
END:VEVENT
BEGIN:VEVENT
DTSTART;TZID=America/Sao_Paulo:20240128T190000
DTEND;TZID=America/Sao_Paulo:20240128T190000
DTSTAMP:20260425T182533
CREATED:20240123T163607Z
LAST-MODIFIED:20240123T163607Z
UID:8165-1706468400-1706468400@albinoteixeira.org.br
SUMMARY:Eu sou a luz do mundo
DESCRIPTION:
URL:https://albinoteixeira.org.br/evento/eu-sou-a-luz-do-mundo-12/
LOCATION:Plataforma Zoom (Senha: 123)
CATEGORIES:Online,Reunião Pública
ATTACH;FMTTYPE=image/jpeg:https://albinoteixeira.org.br/wp-content/uploads/2022/06/sede-scaled-e1656615992280.jpg
END:VEVENT
BEGIN:VEVENT
DTSTART;TZID=America/Sao_Paulo:20240129T200000
DTEND;TZID=America/Sao_Paulo:20240129T200000
DTSTAMP:20260425T182533
CREATED:20240123T163650Z
LAST-MODIFIED:20240123T163650Z
UID:8167-1706558400-1706558400@albinoteixeira.org.br
SUMMARY:O perdão
DESCRIPTION:
URL:https://albinoteixeira.org.br/evento/o-perdao-12/
LOCATION:Grupo Espírita de Fraternidade Albino Teixeira\, Rua dos Aeroviários\, 240\, Bairro Liberdade\, Belo Horizonte\, MG\, 31270-330\, Brasil
CATEGORIES:Reunião Pública
ATTACH;FMTTYPE=image/jpeg:https://albinoteixeira.org.br/wp-content/uploads/2022/06/sede-scaled-e1656615992280.jpg
END:VEVENT
BEGIN:VEVENT
DTSTART;TZID=America/Sao_Paulo:20240130T200000
DTEND;TZID=America/Sao_Paulo:20240130T200000
DTSTAMP:20260425T182533
CREATED:20240123T163749Z
LAST-MODIFIED:20240123T163749Z
UID:8169-1706644800-1706644800@albinoteixeira.org.br
SUMMARY:Sal da Terra
DESCRIPTION:
URL:https://albinoteixeira.org.br/evento/sal-da-terra-6/
LOCATION:Grupo Espírita de Fraternidade Albino Teixeira\, Rua dos Aeroviários\, 240\, Bairro Liberdade\, Belo Horizonte\, MG\, 31270-330\, Brasil
CATEGORIES:Reunião Pública
ATTACH;FMTTYPE=image/jpeg:https://albinoteixeira.org.br/wp-content/uploads/2022/06/sede-scaled-e1656615992280.jpg
END:VEVENT
END:VCALENDAR