BEGIN:VCALENDAR
VERSION:2.0
PRODID:-//Gefrater - ECPv6.15.20//NONSGML v1.0//EN
CALSCALE:GREGORIAN
METHOD:PUBLISH
X-WR-CALNAME:Gefrater
X-ORIGINAL-URL:https://albinoteixeira.org.br
X-WR-CALDESC:Eventos para Gefrater
REFRESH-INTERVAL;VALUE=DURATION:PT1H
X-Robots-Tag:noindex
X-PUBLISHED-TTL:PT1H
BEGIN:VTIMEZONE
TZID:America/Sao_Paulo
BEGIN:STANDARD
TZOFFSETFROM:-0300
TZOFFSETTO:-0300
TZNAME:-03
DTSTART:20210101T000000
END:STANDARD
END:VTIMEZONE
BEGIN:VEVENT
DTSTART;TZID=America/Sao_Paulo:20221201T200000
DTEND;TZID=America/Sao_Paulo:20221201T200000
DTSTAMP:20260426T011631
CREATED:20221129T104508Z
LAST-MODIFIED:20221129T104509Z
UID:6579-1669924800-1669924800@albinoteixeira.org.br
SUMMARY:Fragilidade emocional
DESCRIPTION:
URL:https://albinoteixeira.org.br/evento/fragilidade-emocional-3/
LOCATION:Grupo Espírita de Fraternidade Albino Teixeira\, Rua dos Aeroviários\, 240\, Bairro Liberdade\, Belo Horizonte\, MG\, 31270-330\, Brasil
CATEGORIES:Reunião Pública
ATTACH;FMTTYPE=image/jpeg:https://albinoteixeira.org.br/wp-content/uploads/2022/06/sede-scaled-e1656615992280.jpg
END:VEVENT
BEGIN:VEVENT
DTSTART;TZID=America/Sao_Paulo:20221202T150000
DTEND;TZID=America/Sao_Paulo:20221202T150000
DTSTAMP:20260426T011631
CREATED:20221129T104622Z
LAST-MODIFIED:20221129T104623Z
UID:6581-1669993200-1669993200@albinoteixeira.org.br
SUMMARY:O servo bom
DESCRIPTION:
URL:https://albinoteixeira.org.br/evento/o-servo-bom/
LOCATION:Grupo Espírita de Fraternidade Albino Teixeira\, Rua dos Aeroviários\, 240\, Bairro Liberdade\, Belo Horizonte\, MG\, 31270-330\, Brasil
CATEGORIES:Reunião Pública
ATTACH;FMTTYPE=image/jpeg:https://albinoteixeira.org.br/wp-content/uploads/2022/06/sede-scaled-e1656615992280.jpg
END:VEVENT
BEGIN:VEVENT
DTSTART;TZID=America/Sao_Paulo:20221202T200000
DTEND;TZID=America/Sao_Paulo:20221202T200000
DTSTAMP:20260426T011631
CREATED:20221129T104731Z
LAST-MODIFIED:20221129T104731Z
UID:6583-1670011200-1670011200@albinoteixeira.org.br
SUMMARY:Liberdade em Cristo
DESCRIPTION:
URL:https://albinoteixeira.org.br/evento/liberdade-em-cristo-2/
LOCATION:Grupo Espírita de Fraternidade Albino Teixeira\, Rua dos Aeroviários\, 240\, Bairro Liberdade\, Belo Horizonte\, MG\, 31270-330\, Brasil
CATEGORIES:Reunião Pública
ATTACH;FMTTYPE=image/jpeg:https://albinoteixeira.org.br/wp-content/uploads/2022/06/sede-scaled-e1656615992280.jpg
END:VEVENT
BEGIN:VEVENT
DTSTART;TZID=America/Sao_Paulo:20221203T100000
DTEND;TZID=America/Sao_Paulo:20221203T100000
DTSTAMP:20260426T011631
CREATED:20221129T104826Z
LAST-MODIFIED:20221129T112006Z
UID:6585-1670061600-1670061600@albinoteixeira.org.br
SUMMARY:Estranha moral
DESCRIPTION:
URL:https://albinoteixeira.org.br/evento/estranha-moral-5/
LOCATION:Grupo Espírita de Fraternidade Albino Teixeira\, Rua dos Aeroviários\, 240\, Bairro Liberdade\, Belo Horizonte\, MG\, 31270-330\, Brasil
CATEGORIES:Reunião Pública
ATTACH;FMTTYPE=image/jpeg:https://albinoteixeira.org.br/wp-content/uploads/2022/06/sede-scaled-e1656615992280.jpg
END:VEVENT
BEGIN:VEVENT
DTSTART;TZID=America/Sao_Paulo:20221203T150000
DTEND;TZID=America/Sao_Paulo:20221203T150000
DTSTAMP:20260426T011631
CREATED:20221129T104940Z
LAST-MODIFIED:20221129T104940Z
UID:6587-1670079600-1670079600@albinoteixeira.org.br
SUMMARY:Buscai e achareis
DESCRIPTION:
URL:https://albinoteixeira.org.br/evento/buscai-e-achareis-2/
LOCATION:Grupo Espírita de Fraternidade Albino Teixeira\, Rua dos Aeroviários\, 240\, Bairro Liberdade\, Belo Horizonte\, MG\, 31270-330\, Brasil
CATEGORIES:Reunião Pública
ATTACH;FMTTYPE=image/jpeg:https://albinoteixeira.org.br/wp-content/uploads/2022/06/sede-scaled-e1656615992280.jpg
END:VEVENT
BEGIN:VEVENT
DTSTART;TZID=America/Sao_Paulo:20221203T183000
DTEND;TZID=America/Sao_Paulo:20221203T183000
DTSTAMP:20260426T011631
CREATED:20221129T105117Z
LAST-MODIFIED:20221129T105117Z
UID:6589-1670092200-1670092200@albinoteixeira.org.br
SUMMARY:Princípios básicos: vida futura
DESCRIPTION:
URL:https://albinoteixeira.org.br/evento/principios-basicos-vida-futura-5/
LOCATION:Grupo Espírita de Fraternidade Albino Teixeira\, Rua dos Aeroviários\, 240\, Bairro Liberdade\, Belo Horizonte\, MG\, 31270-330\, Brasil
CATEGORIES:Reunião Pública
ATTACH;FMTTYPE=image/jpeg:https://albinoteixeira.org.br/wp-content/uploads/2022/06/sede-scaled-e1656615992280.jpg
END:VEVENT
BEGIN:VEVENT
DTSTART;TZID=America/Sao_Paulo:20221204T100000
DTEND;TZID=America/Sao_Paulo:20221204T100000
DTSTAMP:20260426T011631
CREATED:20221129T105233Z
LAST-MODIFIED:20221129T105233Z
UID:6591-1670148000-1670148000@albinoteixeira.org.br
SUMMARY:Enfermos da alma
DESCRIPTION:
URL:https://albinoteixeira.org.br/evento/enfermos-da-alma-3/
LOCATION:Grupo Espírita de Fraternidade Albino Teixeira\, Rua dos Aeroviários\, 240\, Bairro Liberdade\, Belo Horizonte\, MG\, 31270-330\, Brasil
CATEGORIES:Reunião Pública
ATTACH;FMTTYPE=image/jpeg:https://albinoteixeira.org.br/wp-content/uploads/2022/06/sede-scaled-e1656615992280.jpg
END:VEVENT
BEGIN:VEVENT
DTSTART;TZID=America/Sao_Paulo:20221204T190000
DTEND;TZID=America/Sao_Paulo:20221204T190000
DTSTAMP:20260426T011631
CREATED:20221129T111637Z
LAST-MODIFIED:20221129T111638Z
UID:6628-1670180400-1670180400@albinoteixeira.org.br
SUMMARY:O cego de Jericó
DESCRIPTION:
URL:https://albinoteixeira.org.br/evento/o-cego-de-jerico/
LOCATION:Plataforma Zoom (Senha: 123)
CATEGORIES:Online,Reunião Pública
ATTACH;FMTTYPE=image/jpeg:https://albinoteixeira.org.br/wp-content/uploads/2022/06/sede-scaled-e1656615992280.jpg
END:VEVENT
BEGIN:VEVENT
DTSTART;TZID=America/Sao_Paulo:20221205T200000
DTEND;TZID=America/Sao_Paulo:20221205T200000
DTSTAMP:20260426T011631
CREATED:20221129T105346Z
LAST-MODIFIED:20221129T105346Z
UID:6593-1670270400-1670270400@albinoteixeira.org.br
SUMMARY:Ressentimento doentio
DESCRIPTION:
URL:https://albinoteixeira.org.br/evento/ressentimento-doentio-3/
LOCATION:Grupo Espírita de Fraternidade Albino Teixeira\, Rua dos Aeroviários\, 240\, Bairro Liberdade\, Belo Horizonte\, MG\, 31270-330\, Brasil
CATEGORIES:Reunião Pública
ATTACH;FMTTYPE=image/jpeg:https://albinoteixeira.org.br/wp-content/uploads/2022/06/sede-scaled-e1656615992280.jpg
END:VEVENT
BEGIN:VEVENT
DTSTART;TZID=America/Sao_Paulo:20221206T200000
DTEND;TZID=America/Sao_Paulo:20221206T200000
DTSTAMP:20260426T011631
CREATED:20221129T105511Z
LAST-MODIFIED:20221129T105511Z
UID:6595-1670356800-1670356800@albinoteixeira.org.br
SUMMARY:Bem aventurados os pacificadores
DESCRIPTION:
URL:https://albinoteixeira.org.br/evento/bem-aventurados-os-pacificadores-6/
LOCATION:Grupo Espírita de Fraternidade Albino Teixeira\, Rua dos Aeroviários\, 240\, Bairro Liberdade\, Belo Horizonte\, MG\, 31270-330\, Brasil
CATEGORIES:Reunião Pública
ATTACH;FMTTYPE=image/jpeg:https://albinoteixeira.org.br/wp-content/uploads/2022/06/sede-scaled-e1656615992280.jpg
END:VEVENT
BEGIN:VEVENT
DTSTART;TZID=America/Sao_Paulo:20221207T150000
DTEND;TZID=America/Sao_Paulo:20221207T150000
DTSTAMP:20260426T011631
CREATED:20221129T105704Z
LAST-MODIFIED:20221129T105705Z
UID:6597-1670425200-1670425200@albinoteixeira.org.br
SUMMARY:Princípios básicos: influência dos espíritos em nossas vidas
DESCRIPTION:
URL:https://albinoteixeira.org.br/evento/principios-basicos-influencia-dos-espiritos-em-nossas-vidas-3/
LOCATION:Grupo Espírita de Fraternidade Albino Teixeira\, Rua dos Aeroviários\, 240\, Bairro Liberdade\, Belo Horizonte\, MG\, 31270-330\, Brasil
CATEGORIES:Reunião Pública
ATTACH;FMTTYPE=image/jpeg:https://albinoteixeira.org.br/wp-content/uploads/2022/06/sede-scaled-e1656615992280.jpg
END:VEVENT
BEGIN:VEVENT
DTSTART;TZID=America/Sao_Paulo:20221207T200000
DTEND;TZID=America/Sao_Paulo:20221207T200000
DTSTAMP:20260426T011631
CREATED:20221129T105836Z
LAST-MODIFIED:20221202T125716Z
UID:6600-1670443200-1670443200@albinoteixeira.org.br
SUMMARY:Eurípides Barsanulfo - o médium
DESCRIPTION:
URL:https://albinoteixeira.org.br/evento/euripides-barsanulfo-o-medium/
LOCATION:Grupo Espírita de Fraternidade Albino Teixeira\, Rua dos Aeroviários\, 240\, Bairro Liberdade\, Belo Horizonte\, MG\, 31270-330\, Brasil
CATEGORIES:Reunião Pública
ATTACH;FMTTYPE=image/jpeg:https://albinoteixeira.org.br/wp-content/uploads/2022/06/sede-scaled-e1656615992280.jpg
END:VEVENT
BEGIN:VEVENT
DTSTART;TZID=America/Sao_Paulo:20221208T200000
DTEND;TZID=America/Sao_Paulo:20221208T200000
DTSTAMP:20260426T011631
CREATED:20221129T105932Z
LAST-MODIFIED:20221129T112116Z
UID:6603-1670529600-1670529600@albinoteixeira.org.br
SUMMARY:Obsessão espiritual
DESCRIPTION:
URL:https://albinoteixeira.org.br/evento/obsessao-espiritual-4/
LOCATION:Grupo Espírita de Fraternidade Albino Teixeira\, Rua dos Aeroviários\, 240\, Bairro Liberdade\, Belo Horizonte\, MG\, 31270-330\, Brasil
CATEGORIES:Reunião Pública
ATTACH;FMTTYPE=image/jpeg:https://albinoteixeira.org.br/wp-content/uploads/2022/06/sede-scaled-e1656615992280.jpg
END:VEVENT
BEGIN:VEVENT
DTSTART;TZID=America/Sao_Paulo:20221209T150000
DTEND;TZID=America/Sao_Paulo:20221209T150000
DTSTAMP:20260426T011631
CREATED:20221129T110117Z
LAST-MODIFIED:20221129T110117Z
UID:6605-1670598000-1670598000@albinoteixeira.org.br
SUMMARY:Princípios básicos: reencarnação
DESCRIPTION:
URL:https://albinoteixeira.org.br/evento/principios-basicos-reencarnacao-5/
LOCATION:Grupo Espírita de Fraternidade Albino Teixeira\, Rua dos Aeroviários\, 240\, Bairro Liberdade\, Belo Horizonte\, MG\, 31270-330\, Brasil
CATEGORIES:Reunião Pública
ATTACH;FMTTYPE=image/jpeg:https://albinoteixeira.org.br/wp-content/uploads/2022/06/sede-scaled-e1656615992280.jpg
END:VEVENT
BEGIN:VEVENT
DTSTART;TZID=America/Sao_Paulo:20221209T200000
DTEND;TZID=America/Sao_Paulo:20221209T200000
DTSTAMP:20260426T011631
CREATED:20221129T110243Z
LAST-MODIFIED:20221129T110243Z
UID:6607-1670616000-1670616000@albinoteixeira.org.br
SUMMARY:Velar com Jesus
DESCRIPTION:
URL:https://albinoteixeira.org.br/evento/velar-com-jesus-6/
LOCATION:Grupo Espírita de Fraternidade Albino Teixeira\, Rua dos Aeroviários\, 240\, Bairro Liberdade\, Belo Horizonte\, MG\, 31270-330\, Brasil
CATEGORIES:Reunião Pública
ATTACH;FMTTYPE=image/jpeg:https://albinoteixeira.org.br/wp-content/uploads/2022/06/sede-scaled-e1656615992280.jpg
END:VEVENT
BEGIN:VEVENT
DTSTART;TZID=America/Sao_Paulo:20221210T100000
DTEND;TZID=America/Sao_Paulo:20221210T100000
DTSTAMP:20260426T011631
CREATED:20221129T110359Z
LAST-MODIFIED:20221129T110359Z
UID:6609-1670666400-1670666400@albinoteixeira.org.br
SUMMARY:Providência Divina
DESCRIPTION:
URL:https://albinoteixeira.org.br/evento/providencia-divina-7/
LOCATION:Grupo Espírita de Fraternidade Albino Teixeira\, Rua dos Aeroviários\, 240\, Bairro Liberdade\, Belo Horizonte\, MG\, 31270-330\, Brasil
CATEGORIES:Reunião Pública
ATTACH;FMTTYPE=image/jpeg:https://albinoteixeira.org.br/wp-content/uploads/2022/06/sede-scaled-e1656615992280.jpg
END:VEVENT
BEGIN:VEVENT
DTSTART;TZID=America/Sao_Paulo:20221210T150000
DTEND;TZID=America/Sao_Paulo:20221210T150000
DTSTAMP:20260426T011631
CREATED:20221129T110510Z
LAST-MODIFIED:20221129T110511Z
UID:6611-1670684400-1670684400@albinoteixeira.org.br
SUMMARY:Justiça das aflições
DESCRIPTION:
URL:https://albinoteixeira.org.br/evento/justica-das-aflicoes-6/
LOCATION:Grupo Espírita de Fraternidade Albino Teixeira\, Rua dos Aeroviários\, 240\, Bairro Liberdade\, Belo Horizonte\, MG\, 31270-330\, Brasil
CATEGORIES:Reunião Pública
ATTACH;FMTTYPE=image/jpeg:https://albinoteixeira.org.br/wp-content/uploads/2022/06/sede-scaled-e1656615992280.jpg
END:VEVENT
BEGIN:VEVENT
DTSTART;TZID=America/Sao_Paulo:20221210T183000
DTEND;TZID=America/Sao_Paulo:20221210T183000
DTSTAMP:20260426T011631
CREATED:20221129T110640Z
LAST-MODIFIED:20221129T110640Z
UID:6613-1670697000-1670697000@albinoteixeira.org.br
SUMMARY:Amor e renúncia
DESCRIPTION:
URL:https://albinoteixeira.org.br/evento/amor-e-renuncia-7/
LOCATION:Grupo Espírita de Fraternidade Albino Teixeira\, Rua dos Aeroviários\, 240\, Bairro Liberdade\, Belo Horizonte\, MG\, 31270-330\, Brasil
CATEGORIES:Reunião Pública
ATTACH;FMTTYPE=image/jpeg:https://albinoteixeira.org.br/wp-content/uploads/2022/06/sede-scaled-e1656615992280.jpg
END:VEVENT
BEGIN:VEVENT
DTSTART;TZID=America/Sao_Paulo:20221211T100000
DTEND;TZID=America/Sao_Paulo:20221211T100000
DTSTAMP:20260426T011631
CREATED:20221129T110754Z
LAST-MODIFIED:20221129T110754Z
UID:6615-1670752800-1670752800@albinoteixeira.org.br
SUMMARY:Comunhão com Deus
DESCRIPTION:
URL:https://albinoteixeira.org.br/evento/comunhao-com-deus-4/
LOCATION:Grupo Espírita de Fraternidade Albino Teixeira\, Rua dos Aeroviários\, 240\, Bairro Liberdade\, Belo Horizonte\, MG\, 31270-330\, Brasil
CATEGORIES:Reunião Pública
ATTACH;FMTTYPE=image/jpeg:https://albinoteixeira.org.br/wp-content/uploads/2022/06/sede-scaled-e1656615992280.jpg
END:VEVENT
BEGIN:VEVENT
DTSTART;TZID=America/Sao_Paulo:20221211T190000
DTEND;TZID=America/Sao_Paulo:20221211T190000
DTSTAMP:20260426T011631
CREATED:20221129T111759Z
LAST-MODIFIED:20221129T111759Z
UID:6630-1670785200-1670785200@albinoteixeira.org.br
SUMMARY:Leis morais - lei de adoração
DESCRIPTION:
URL:https://albinoteixeira.org.br/evento/leis-morais-lei-de-adoracao-10/
LOCATION:Plataforma Zoom (Senha: 123)
CATEGORIES:Online,Reunião Pública
ATTACH;FMTTYPE=image/jpeg:https://albinoteixeira.org.br/wp-content/uploads/2022/06/sede-scaled-e1656615992280.jpg
END:VEVENT
BEGIN:VEVENT
DTSTART;TZID=America/Sao_Paulo:20221212T200000
DTEND;TZID=America/Sao_Paulo:20221212T200000
DTSTAMP:20260426T011631
CREATED:20221129T110908Z
LAST-MODIFIED:20221129T110908Z
UID:6617-1670875200-1670875200@albinoteixeira.org.br
SUMMARY:Saúde do corpo e do espírito
DESCRIPTION:
URL:https://albinoteixeira.org.br/evento/saude-do-corpo-e-do-espirito-4/
LOCATION:Grupo Espírita de Fraternidade Albino Teixeira\, Rua dos Aeroviários\, 240\, Bairro Liberdade\, Belo Horizonte\, MG\, 31270-330\, Brasil
CATEGORIES:Reunião Pública
ATTACH;FMTTYPE=image/jpeg:https://albinoteixeira.org.br/wp-content/uploads/2022/06/sede-scaled-e1656615992280.jpg
END:VEVENT
BEGIN:VEVENT
DTSTART;TZID=America/Sao_Paulo:20221213T200000
DTEND;TZID=America/Sao_Paulo:20221213T200000
DTSTAMP:20260426T011631
CREATED:20221129T111020Z
LAST-MODIFIED:20221202T180626Z
UID:6619-1670961600-1670961600@albinoteixeira.org.br
SUMMARY:Bom ânimo
DESCRIPTION:
URL:https://albinoteixeira.org.br/evento/bom-animo-7/
LOCATION:Grupo Espírita de Fraternidade Albino Teixeira\, Rua dos Aeroviários\, 240\, Bairro Liberdade\, Belo Horizonte\, MG\, 31270-330\, Brasil
CATEGORIES:Reunião Pública
ATTACH;FMTTYPE=image/jpeg:https://albinoteixeira.org.br/wp-content/uploads/2022/06/sede-scaled-e1656615992280.jpg
END:VEVENT
BEGIN:VEVENT
DTSTART;TZID=America/Sao_Paulo:20221214T150000
DTEND;TZID=America/Sao_Paulo:20221214T150000
DTSTAMP:20260426T011631
CREATED:20221129T111128Z
LAST-MODIFIED:20221129T111128Z
UID:6622-1671030000-1671030000@albinoteixeira.org.br
SUMMARY:Leis morais - lei de destruição
DESCRIPTION:
URL:https://albinoteixeira.org.br/evento/leis-morais-lei-de-destruicao-4/
LOCATION:Grupo Espírita de Fraternidade Albino Teixeira\, Rua dos Aeroviários\, 240\, Bairro Liberdade\, Belo Horizonte\, MG\, 31270-330\, Brasil
CATEGORIES:Reunião Pública
ATTACH;FMTTYPE=image/jpeg:https://albinoteixeira.org.br/wp-content/uploads/2022/06/sede-scaled-e1656615992280.jpg
END:VEVENT
BEGIN:VEVENT
DTSTART;TZID=America/Sao_Paulo:20221214T200000
DTEND;TZID=America/Sao_Paulo:20221214T200000
DTSTAMP:20260426T011631
CREATED:20221129T111233Z
LAST-MODIFIED:20221129T111233Z
UID:6624-1671048000-1671048000@albinoteixeira.org.br
SUMMARY:Leis morais - lei de igualdade
DESCRIPTION:
URL:https://albinoteixeira.org.br/evento/leis-morais-lei-de-igualdade-2/
LOCATION:Grupo Espírita de Fraternidade Albino Teixeira\, Rua dos Aeroviários\, 240\, Bairro Liberdade\, Belo Horizonte\, MG\, 31270-330\, Brasil
CATEGORIES:Reunião Pública
ATTACH;FMTTYPE=image/jpeg:https://albinoteixeira.org.br/wp-content/uploads/2022/06/sede-scaled-e1656615992280.jpg
END:VEVENT
BEGIN:VEVENT
DTSTART;TZID=America/Sao_Paulo:20221215T200000
DTEND;TZID=America/Sao_Paulo:20221215T200000
DTSTAMP:20260426T011631
CREATED:20221129T111503Z
LAST-MODIFIED:20221129T111503Z
UID:6626-1671134400-1671134400@albinoteixeira.org.br
SUMMARY:Amai os vossos inimigos e orai pelos que vos perseguem
DESCRIPTION:
URL:https://albinoteixeira.org.br/evento/amai-os-vossos-inimigos-e-orai-pelos-que-vos-perseguem/
LOCATION:Grupo Espírita de Fraternidade Albino Teixeira\, Rua dos Aeroviários\, 240\, Bairro Liberdade\, Belo Horizonte\, MG\, 31270-330\, Brasil
CATEGORIES:Reunião Pública
ATTACH;FMTTYPE=image/jpeg:https://albinoteixeira.org.br/wp-content/uploads/2022/06/sede-scaled-e1656615992280.jpg
END:VEVENT
BEGIN:VEVENT
DTSTART;TZID=America/Sao_Paulo:20221216T150000
DTEND;TZID=America/Sao_Paulo:20221216T150000
DTSTAMP:20260426T011631
CREATED:20221214T121720Z
LAST-MODIFIED:20221214T121721Z
UID:6638-1671202800-1671202800@albinoteixeira.org.br
SUMMARY:O Cristo Consolador
DESCRIPTION:
URL:https://albinoteixeira.org.br/evento/o-cristo-consolador-3/
LOCATION:Grupo Espírita de Fraternidade Albino Teixeira\, Rua dos Aeroviários\, 240\, Bairro Liberdade\, Belo Horizonte\, MG\, 31270-330\, Brasil
CATEGORIES:Reunião Pública
ATTACH;FMTTYPE=image/jpeg:https://albinoteixeira.org.br/wp-content/uploads/2022/06/sede-scaled-e1656615992280.jpg
END:VEVENT
BEGIN:VEVENT
DTSTART;TZID=America/Sao_Paulo:20221216T200000
DTEND;TZID=America/Sao_Paulo:20221216T200000
DTSTAMP:20260426T011631
CREATED:20221214T121823Z
LAST-MODIFIED:20221214T121823Z
UID:6640-1671220800-1671220800@albinoteixeira.org.br
SUMMARY:Viver com simplicidade
DESCRIPTION:
URL:https://albinoteixeira.org.br/evento/viver-com-simplicidade-3/
LOCATION:Grupo Espírita de Fraternidade Albino Teixeira\, Rua dos Aeroviários\, 240\, Bairro Liberdade\, Belo Horizonte\, MG\, 31270-330\, Brasil
CATEGORIES:Reunião Pública
ATTACH;FMTTYPE=image/jpeg:https://albinoteixeira.org.br/wp-content/uploads/2022/06/sede-scaled-e1656615992280.jpg
END:VEVENT
BEGIN:VEVENT
DTSTART;TZID=America/Sao_Paulo:20221217T100000
DTEND;TZID=America/Sao_Paulo:20221217T100000
DTSTAMP:20260426T011631
CREATED:20221214T121956Z
LAST-MODIFIED:20221214T121956Z
UID:6642-1671271200-1671271200@albinoteixeira.org.br
SUMMARY:O natal com Jesus
DESCRIPTION:
URL:https://albinoteixeira.org.br/evento/o-natal-com-jesus-4/
LOCATION:Grupo Espírita de Fraternidade Albino Teixeira\, Rua dos Aeroviários\, 240\, Bairro Liberdade\, Belo Horizonte\, MG\, 31270-330\, Brasil
CATEGORIES:Reunião Pública
ATTACH;FMTTYPE=image/jpeg:https://albinoteixeira.org.br/wp-content/uploads/2022/06/sede-scaled-e1656615992280.jpg
END:VEVENT
BEGIN:VEVENT
DTSTART;TZID=America/Sao_Paulo:20221217T143000
DTEND;TZID=America/Sao_Paulo:20221217T143000
DTSTAMP:20260426T011631
CREATED:20221214T122105Z
LAST-MODIFIED:20221214T122106Z
UID:6644-1671287400-1671287400@albinoteixeira.org.br
SUMMARY:O nascimento de Jesus no coração dos homens
DESCRIPTION:
URL:https://albinoteixeira.org.br/evento/o-nascimento-de-jesus-no-coracao-dos-homens/
LOCATION:Grupo Espírita de Fraternidade Albino Teixeira\, Rua dos Aeroviários\, 240\, Bairro Liberdade\, Belo Horizonte\, MG\, 31270-330\, Brasil
CATEGORIES:Reunião Pública
END:VEVENT
BEGIN:VEVENT
DTSTART;TZID=America/Sao_Paulo:20221217T183000
DTEND;TZID=America/Sao_Paulo:20221217T183000
DTSTAMP:20260426T011631
CREATED:20221214T122236Z
LAST-MODIFIED:20221214T122236Z
UID:6646-1671301800-1671301800@albinoteixeira.org.br
SUMMARY:Paz seja convosco!
DESCRIPTION:
URL:https://albinoteixeira.org.br/evento/paz-seja-convosco-3/
LOCATION:Grupo Espírita de Fraternidade Albino Teixeira\, Rua dos Aeroviários\, 240\, Bairro Liberdade\, Belo Horizonte\, MG\, 31270-330\, Brasil
CATEGORIES:Reunião Pública
ATTACH;FMTTYPE=image/jpeg:https://albinoteixeira.org.br/wp-content/uploads/2022/06/sede-scaled-e1656615992280.jpg
END:VEVENT
END:VCALENDAR