BEGIN:VCALENDAR
VERSION:2.0
PRODID:-//Gefrater - ECPv6.15.20//NONSGML v1.0//EN
CALSCALE:GREGORIAN
METHOD:PUBLISH
X-WR-CALNAME:Gefrater
X-ORIGINAL-URL:https://albinoteixeira.org.br
X-WR-CALDESC:Eventos para Gefrater
REFRESH-INTERVAL;VALUE=DURATION:PT1H
X-Robots-Tag:noindex
X-PUBLISHED-TTL:PT1H
BEGIN:VTIMEZONE
TZID:America/Sao_Paulo
BEGIN:STANDARD
TZOFFSETFROM:-0300
TZOFFSETTO:-0300
TZNAME:-03
DTSTART:20220101T000000
END:STANDARD
END:VTIMEZONE
BEGIN:VEVENT
DTSTART;TZID=America/Sao_Paulo:20230201T150000
DTEND;TZID=America/Sao_Paulo:20230201T150000
DTSTAMP:20260423T082205
CREATED:20230131T102506Z
LAST-MODIFIED:20230131T102507Z
UID:6803-1675263600-1675263600@albinoteixeira.org.br
SUMMARY:Parábola doa Talentos
DESCRIPTION:
URL:https://albinoteixeira.org.br/evento/parabola-doa-talentos/
LOCATION:Grupo Espírita de Fraternidade Albino Teixeira\, Rua dos Aeroviários\, 240\, Bairro Liberdade\, Belo Horizonte\, MG\, 31270-330\, Brasil
CATEGORIES:Reunião Pública
ATTACH;FMTTYPE=image/jpeg:https://albinoteixeira.org.br/wp-content/uploads/2022/06/sede-scaled-e1656615992280.jpg
END:VEVENT
BEGIN:VEVENT
DTSTART;TZID=America/Sao_Paulo:20230201T200000
DTEND;TZID=America/Sao_Paulo:20230201T200000
DTSTAMP:20260423T082205
CREATED:20230131T102655Z
LAST-MODIFIED:20230131T102655Z
UID:6805-1675281600-1675281600@albinoteixeira.org.br
SUMMARY:Então\, enquanto temos tempo\, façamos bem a todos
DESCRIPTION:
URL:https://albinoteixeira.org.br/evento/entao-enquanto-temos-tempo-facamos-bem-a-todos/
LOCATION:Grupo Espírita de Fraternidade Albino Teixeira\, Rua dos Aeroviários\, 240\, Bairro Liberdade\, Belo Horizonte\, MG\, 31270-330\, Brasil
CATEGORIES:Reunião Pública
ATTACH;FMTTYPE=image/jpeg:https://albinoteixeira.org.br/wp-content/uploads/2022/06/sede-scaled-e1656615992280.jpg
END:VEVENT
BEGIN:VEVENT
DTSTART;TZID=America/Sao_Paulo:20230202T200000
DTEND;TZID=America/Sao_Paulo:20230202T200000
DTSTAMP:20260423T082205
CREATED:20230131T102817Z
LAST-MODIFIED:20230131T102817Z
UID:6809-1675368000-1675368000@albinoteixeira.org.br
SUMMARY:Ressurreição de Lázaro
DESCRIPTION:
URL:https://albinoteixeira.org.br/evento/ressurreicao-de-lazaro-3/
LOCATION:Grupo Espírita de Fraternidade Albino Teixeira\, Rua dos Aeroviários\, 240\, Bairro Liberdade\, Belo Horizonte\, MG\, 31270-330\, Brasil
CATEGORIES:Reunião Pública
ATTACH;FMTTYPE=image/jpeg:https://albinoteixeira.org.br/wp-content/uploads/2022/06/sede-scaled-e1656615992280.jpg
END:VEVENT
BEGIN:VEVENT
DTSTART;TZID=America/Sao_Paulo:20230203T150000
DTEND;TZID=America/Sao_Paulo:20230203T150000
DTSTAMP:20260423T082205
CREATED:20230131T102926Z
LAST-MODIFIED:20230131T102926Z
UID:6812-1675436400-1675436400@albinoteixeira.org.br
SUMMARY:A caminho de Emaús
DESCRIPTION:
URL:https://albinoteixeira.org.br/evento/a-caminho-de-emaus-5/
LOCATION:Grupo Espírita de Fraternidade Albino Teixeira\, Rua dos Aeroviários\, 240\, Bairro Liberdade\, Belo Horizonte\, MG\, 31270-330\, Brasil
CATEGORIES:Reunião Pública
END:VEVENT
BEGIN:VEVENT
DTSTART;TZID=America/Sao_Paulo:20230203T200000
DTEND;TZID=America/Sao_Paulo:20230203T200000
DTSTAMP:20260423T082205
CREATED:20230131T103134Z
LAST-MODIFIED:20230131T103134Z
UID:6814-1675454400-1675454400@albinoteixeira.org.br
SUMMARY:O endemoninhado epiléptico
DESCRIPTION:
URL:https://albinoteixeira.org.br/evento/o-endemoninhado-epileptico-2/
LOCATION:Grupo Espírita de Fraternidade Albino Teixeira\, Rua dos Aeroviários\, 240\, Bairro Liberdade\, Belo Horizonte\, MG\, 31270-330\, Brasil
CATEGORIES:Reunião Pública
ATTACH;FMTTYPE=image/jpeg:https://albinoteixeira.org.br/wp-content/uploads/2022/06/sede-scaled-e1656615992280.jpg
END:VEVENT
BEGIN:VEVENT
DTSTART;TZID=America/Sao_Paulo:20230204T100000
DTEND;TZID=America/Sao_Paulo:20230204T100000
DTSTAMP:20260423T082205
CREATED:20230131T103235Z
LAST-MODIFIED:20230131T103235Z
UID:6817-1675504800-1675504800@albinoteixeira.org.br
SUMMARY:Caridade: cura da alma
DESCRIPTION:
URL:https://albinoteixeira.org.br/evento/caridade-cura-da-alma-4/
LOCATION:Grupo Espírita de Fraternidade Albino Teixeira\, Rua dos Aeroviários\, 240\, Bairro Liberdade\, Belo Horizonte\, MG\, 31270-330\, Brasil
CATEGORIES:Reunião Pública
ATTACH;FMTTYPE=image/jpeg:https://albinoteixeira.org.br/wp-content/uploads/2022/06/sede-scaled-e1656615992280.jpg
END:VEVENT
BEGIN:VEVENT
DTSTART;TZID=America/Sao_Paulo:20230204T150000
DTEND;TZID=America/Sao_Paulo:20230204T150000
DTSTAMP:20260423T082205
CREATED:20230131T103423Z
LAST-MODIFIED:20230131T103423Z
UID:6819-1675522800-1675522800@albinoteixeira.org.br
SUMMARY:A inspiração de Pedro
DESCRIPTION:
URL:https://albinoteixeira.org.br/evento/a-inspiracao-de-pedro-6/
LOCATION:Grupo Espírita de Fraternidade Albino Teixeira\, Rua dos Aeroviários\, 240\, Bairro Liberdade\, Belo Horizonte\, MG\, 31270-330\, Brasil
CATEGORIES:Reunião Pública
ATTACH;FMTTYPE=image/jpeg:https://albinoteixeira.org.br/wp-content/uploads/2022/06/sede-scaled-e1656615992280.jpg
END:VEVENT
BEGIN:VEVENT
DTSTART;TZID=America/Sao_Paulo:20230204T183000
DTEND;TZID=America/Sao_Paulo:20230204T183000
DTSTAMP:20260423T082205
CREATED:20230131T103533Z
LAST-MODIFIED:20230131T103533Z
UID:6821-1675535400-1675535400@albinoteixeira.org.br
SUMMARY:Não vim destruir a lei\, mas cumprir
DESCRIPTION:
URL:https://albinoteixeira.org.br/evento/nao-vim-destruir-a-lei-mas-cumprir-2/
LOCATION:Grupo Espírita de Fraternidade Albino Teixeira\, Rua dos Aeroviários\, 240\, Bairro Liberdade\, Belo Horizonte\, MG\, 31270-330\, Brasil
CATEGORIES:Reunião Pública
ATTACH;FMTTYPE=image/jpeg:https://albinoteixeira.org.br/wp-content/uploads/2022/06/sede-scaled-e1656615992280.jpg
END:VEVENT
BEGIN:VEVENT
DTSTART;TZID=America/Sao_Paulo:20230205T100000
DTEND;TZID=America/Sao_Paulo:20230205T100000
DTSTAMP:20260423T082205
CREATED:20230131T103655Z
LAST-MODIFIED:20230131T103655Z
UID:6823-1675591200-1675591200@albinoteixeira.org.br
SUMMARY:O perfeito amor lança fora o temor
DESCRIPTION:
URL:https://albinoteixeira.org.br/evento/o-perfeito-amor-lanca-fora-o-temor-2/
LOCATION:Grupo Espírita de Fraternidade Albino Teixeira\, Rua dos Aeroviários\, 240\, Bairro Liberdade\, Belo Horizonte\, MG\, 31270-330\, Brasil
CATEGORIES:Reunião Pública
ATTACH;FMTTYPE=image/jpeg:https://albinoteixeira.org.br/wp-content/uploads/2022/06/sede-scaled-e1656615992280.jpg
END:VEVENT
BEGIN:VEVENT
DTSTART;TZID=America/Sao_Paulo:20230205T190000
DTEND;TZID=America/Sao_Paulo:20230205T190000
DTSTAMP:20260423T082205
CREATED:20230206T122252Z
LAST-MODIFIED:20230206T122253Z
UID:6941-1675623600-1675623600@albinoteixeira.org.br
SUMMARY:Responsabilidade moral
DESCRIPTION:
URL:https://albinoteixeira.org.br/evento/responsabilidade-moral-2/
LOCATION:Plataforma Zoom (Senha: 123)
CATEGORIES:Online,Reunião Pública
ATTACH;FMTTYPE=image/jpeg:https://albinoteixeira.org.br/wp-content/uploads/2022/06/sede-scaled-e1656615992280.jpg
END:VEVENT
BEGIN:VEVENT
DTSTART;TZID=America/Sao_Paulo:20230206T200000
DTEND;TZID=America/Sao_Paulo:20230206T200000
DTSTAMP:20260423T082205
CREATED:20230206T120224Z
LAST-MODIFIED:20230206T120224Z
UID:6908-1675713600-1675713600@albinoteixeira.org.br
SUMMARY:Cura da filha da mulher Cananéia
DESCRIPTION:
URL:https://albinoteixeira.org.br/evento/cura-da-filha-da-mulher-cananeia/
LOCATION:Grupo Espírita de Fraternidade Albino Teixeira\, Rua dos Aeroviários\, 240\, Bairro Liberdade\, Belo Horizonte\, MG\, 31270-330\, Brasil
CATEGORIES:Reunião Pública
ATTACH;FMTTYPE=image/jpeg:https://albinoteixeira.org.br/wp-content/uploads/2022/06/sede-scaled-e1656615992280.jpg
END:VEVENT
BEGIN:VEVENT
DTSTART;TZID=America/Sao_Paulo:20230207T200000
DTEND;TZID=America/Sao_Paulo:20230207T200000
DTSTAMP:20260423T082205
CREATED:20230206T120408Z
LAST-MODIFIED:20230206T120408Z
UID:6910-1675800000-1675800000@albinoteixeira.org.br
SUMMARY:Fragilidade emocional
DESCRIPTION:
URL:https://albinoteixeira.org.br/evento/fragilidade-emocional-4/
LOCATION:Grupo Espírita de Fraternidade Albino Teixeira\, Rua dos Aeroviários\, 240\, Bairro Liberdade\, Belo Horizonte\, MG\, 31270-330\, Brasil
CATEGORIES:Reunião Pública
ATTACH;FMTTYPE=image/jpeg:https://albinoteixeira.org.br/wp-content/uploads/2022/06/sede-scaled-e1656615992280.jpg
END:VEVENT
BEGIN:VEVENT
DTSTART;TZID=America/Sao_Paulo:20230208T150000
DTEND;TZID=America/Sao_Paulo:20230208T150000
DTSTAMP:20260423T082205
CREATED:20230206T120535Z
LAST-MODIFIED:20230206T120535Z
UID:6912-1675868400-1675868400@albinoteixeira.org.br
SUMMARY:A casa construída sobre a rocha
DESCRIPTION:
URL:https://albinoteixeira.org.br/evento/a-casa-construida-sobre-a-rocha-10/
LOCATION:MG
CATEGORIES:Reunião Pública
ATTACH;FMTTYPE=image/jpeg:https://albinoteixeira.org.br/wp-content/uploads/2022/06/sede-scaled-e1656615992280.jpg
END:VEVENT
BEGIN:VEVENT
DTSTART;TZID=America/Sao_Paulo:20230208T200000
DTEND;TZID=America/Sao_Paulo:20230208T200000
DTSTAMP:20260423T082205
CREATED:20230206T120637Z
LAST-MODIFIED:20230206T120637Z
UID:6915-1675886400-1675886400@albinoteixeira.org.br
SUMMARY:A missão de Paulo
DESCRIPTION:
URL:https://albinoteixeira.org.br/evento/a-missao-de-paulo-3/
LOCATION:Grupo Espírita de Fraternidade Albino Teixeira\, Rua dos Aeroviários\, 240\, Bairro Liberdade\, Belo Horizonte\, MG\, 31270-330\, Brasil
CATEGORIES:Reunião Pública
ATTACH;FMTTYPE=image/jpeg:https://albinoteixeira.org.br/wp-content/uploads/2022/06/sede-scaled-e1656615992280.jpg
END:VEVENT
BEGIN:VEVENT
DTSTART;TZID=America/Sao_Paulo:20230209T200000
DTEND;TZID=America/Sao_Paulo:20230209T200000
DTSTAMP:20260423T082205
CREATED:20230206T120800Z
LAST-MODIFIED:20230206T120800Z
UID:6917-1675972800-1675972800@albinoteixeira.org.br
SUMMARY:O vazio existencial
DESCRIPTION:
URL:https://albinoteixeira.org.br/evento/o-vazio-existencial-2/
LOCATION:MG
CATEGORIES:Reunião Pública
ATTACH;FMTTYPE=image/jpeg:https://albinoteixeira.org.br/wp-content/uploads/2022/06/sede-scaled-e1656615992280.jpg
END:VEVENT
BEGIN:VEVENT
DTSTART;TZID=America/Sao_Paulo:20230210T150000
DTEND;TZID=America/Sao_Paulo:20230210T150000
DTSTAMP:20260423T082205
CREATED:20230206T120943Z
LAST-MODIFIED:20230206T120943Z
UID:6920-1676041200-1676041200@albinoteixeira.org.br
SUMMARY:Não saiba sua mão esquerda o que faz a direita
DESCRIPTION:
URL:https://albinoteixeira.org.br/evento/nao-saiba-sua-mao-esquerda-o-que-faz-a-direita-2/
LOCATION:Grupo Espírita de Fraternidade Albino Teixeira\, Rua dos Aeroviários\, 240\, Bairro Liberdade\, Belo Horizonte\, MG\, 31270-330\, Brasil
CATEGORIES:Reunião Pública
ATTACH;FMTTYPE=image/jpeg:https://albinoteixeira.org.br/wp-content/uploads/2022/06/sede-scaled-e1656615992280.jpg
END:VEVENT
BEGIN:VEVENT
DTSTART;TZID=America/Sao_Paulo:20230210T200000
DTEND;TZID=America/Sao_Paulo:20230210T200000
DTSTAMP:20260423T082205
CREATED:20230206T121133Z
LAST-MODIFIED:20230206T121134Z
UID:6922-1676059200-1676059200@albinoteixeira.org.br
SUMMARY:Brasil: coração do mundo\, pátria do evangelho
DESCRIPTION:
URL:https://albinoteixeira.org.br/evento/brasil-coracao-do-mundo-patria-do-evangelho-4/
LOCATION:Grupo Espírita de Fraternidade Albino Teixeira\, Rua dos Aeroviários\, 240\, Bairro Liberdade\, Belo Horizonte\, MG\, 31270-330\, Brasil
CATEGORIES:Reunião Pública
ATTACH;FMTTYPE=image/jpeg:https://albinoteixeira.org.br/wp-content/uploads/2022/06/sede-scaled-e1656615992280.jpg
END:VEVENT
BEGIN:VEVENT
DTSTART;TZID=America/Sao_Paulo:20230211T100000
DTEND;TZID=America/Sao_Paulo:20230211T100000
DTSTAMP:20260423T082205
CREATED:20230206T121226Z
LAST-MODIFIED:20230206T121244Z
UID:6924-1676109600-1676109600@albinoteixeira.org.br
SUMMARY:Os dons vêm do alto
DESCRIPTION:
URL:https://albinoteixeira.org.br/evento/os-dons-vem-do-alto-5/
LOCATION:Grupo Espírita de Fraternidade Albino Teixeira\, Rua dos Aeroviários\, 240\, Bairro Liberdade\, Belo Horizonte\, MG\, 31270-330\, Brasil
CATEGORIES:Reunião Pública
ATTACH;FMTTYPE=image/jpeg:https://albinoteixeira.org.br/wp-content/uploads/2022/06/sede-scaled-e1656615992280.jpg
END:VEVENT
BEGIN:VEVENT
DTSTART;TZID=America/Sao_Paulo:20230211T150000
DTEND;TZID=America/Sao_Paulo:20230211T150000
DTSTAMP:20260423T082205
CREATED:20230206T121408Z
LAST-MODIFIED:20230206T121408Z
UID:6926-1676127600-1676127600@albinoteixeira.org.br
SUMMARY:As lições de Jesus e a mulher adúltera
DESCRIPTION:
URL:https://albinoteixeira.org.br/evento/as-licoes-de-jesus-e-a-mulher-adultera-4/
LOCATION:Grupo Espírita de Fraternidade Albino Teixeira\, Rua dos Aeroviários\, 240\, Bairro Liberdade\, Belo Horizonte\, MG\, 31270-330\, Brasil
CATEGORIES:Reunião Pública
ATTACH;FMTTYPE=image/jpeg:https://albinoteixeira.org.br/wp-content/uploads/2022/06/sede-scaled-e1656615992280.jpg
END:VEVENT
BEGIN:VEVENT
DTSTART;TZID=America/Sao_Paulo:20230211T183000
DTEND;TZID=America/Sao_Paulo:20230211T183000
DTSTAMP:20260423T082205
CREATED:20230206T121530Z
LAST-MODIFIED:20230206T121531Z
UID:6928-1676140200-1676140200@albinoteixeira.org.br
SUMMARY:Eu sou a luz do mundo
DESCRIPTION:
URL:https://albinoteixeira.org.br/evento/eu-sou-a-luz-do-mundo-7/
LOCATION:Grupo Espírita de Fraternidade Albino Teixeira\, Rua dos Aeroviários\, 240\, Bairro Liberdade\, Belo Horizonte\, MG\, 31270-330\, Brasil
CATEGORIES:Reunião Pública
ATTACH;FMTTYPE=image/jpeg:https://albinoteixeira.org.br/wp-content/uploads/2022/06/sede-scaled-e1656615992280.jpg
END:VEVENT
BEGIN:VEVENT
DTSTART;TZID=America/Sao_Paulo:20230212T100000
DTEND;TZID=America/Sao_Paulo:20230212T100000
DTSTAMP:20260423T082205
CREATED:20230206T121659Z
LAST-MODIFIED:20230206T121700Z
UID:6931-1676196000-1676196000@albinoteixeira.org.br
SUMMARY:Pois que aproveitaria ao homem ganhar o mundo e perder sua alma?
DESCRIPTION:
URL:https://albinoteixeira.org.br/evento/pois-que-aproveitaria-ao-homem-ganhar-o-mundo-e-perder-sua-alma/
LOCATION:Grupo Espírita de Fraternidade Albino Teixeira\, Rua dos Aeroviários\, 240\, Bairro Liberdade\, Belo Horizonte\, MG\, 31270-330\, Brasil
CATEGORIES:Reunião Pública
ATTACH;FMTTYPE=image/jpeg:https://albinoteixeira.org.br/wp-content/uploads/2022/06/sede-scaled-e1656615992280.jpg
END:VEVENT
BEGIN:VEVENT
DTSTART;TZID=America/Sao_Paulo:20230212T190000
DTEND;TZID=America/Sao_Paulo:20230212T190000
DTSTAMP:20260423T082205
CREATED:20230206T122412Z
LAST-MODIFIED:20230206T122412Z
UID:6943-1676228400-1676228400@albinoteixeira.org.br
SUMMARY:Os trabalhadores da última hora
DESCRIPTION:
URL:https://albinoteixeira.org.br/evento/os-trabalhadores-da-ultima-hora-2/
LOCATION:Plataforma Zoom (Senha: 123)
CATEGORIES:Online,Reunião Pública
ATTACH;FMTTYPE=image/jpeg:https://albinoteixeira.org.br/wp-content/uploads/2022/06/sede-scaled-e1656615992280.jpg
END:VEVENT
BEGIN:VEVENT
DTSTART;TZID=America/Sao_Paulo:20230213T200000
DTEND;TZID=America/Sao_Paulo:20230213T200000
DTSTAMP:20260423T082205
CREATED:20230206T121802Z
LAST-MODIFIED:20230206T121803Z
UID:6933-1676318400-1676318400@albinoteixeira.org.br
SUMMARY:Resistência ao mal
DESCRIPTION:
URL:https://albinoteixeira.org.br/evento/resistencia-ao-mal-2/
LOCATION:Grupo Espírita de Fraternidade Albino Teixeira\, Rua dos Aeroviários\, 240\, Bairro Liberdade\, Belo Horizonte\, MG\, 31270-330\, Brasil
CATEGORIES:Reunião Pública
ATTACH;FMTTYPE=image/jpeg:https://albinoteixeira.org.br/wp-content/uploads/2022/06/sede-scaled-e1656615992280.jpg
END:VEVENT
BEGIN:VEVENT
DTSTART;TZID=America/Sao_Paulo:20230214T200000
DTEND;TZID=America/Sao_Paulo:20230214T200000
DTSTAMP:20260423T082205
CREATED:20230206T121927Z
LAST-MODIFIED:20230206T121927Z
UID:6935-1676404800-1676404800@albinoteixeira.org.br
SUMMARY:Meu Reino não é deste mundo
DESCRIPTION:
URL:https://albinoteixeira.org.br/evento/meu-reino-nao-e-deste-mundo-7/
LOCATION:Grupo Espírita de Fraternidade Albino Teixeira\, Rua dos Aeroviários\, 240\, Bairro Liberdade\, Belo Horizonte\, MG\, 31270-330\, Brasil
CATEGORIES:Reunião Pública
ATTACH;FMTTYPE=image/jpeg:https://albinoteixeira.org.br/wp-content/uploads/2022/06/sede-scaled-e1656615992280.jpg
END:VEVENT
BEGIN:VEVENT
DTSTART;TZID=America/Sao_Paulo:20230215T150000
DTEND;TZID=America/Sao_Paulo:20230215T150000
DTSTAMP:20260423T082205
CREATED:20230206T122034Z
LAST-MODIFIED:20230206T122034Z
UID:6937-1676473200-1676473200@albinoteixeira.org.br
SUMMARY:No exemplo do Mestre
DESCRIPTION:
URL:https://albinoteixeira.org.br/evento/no-exemplo-do-mestre-4/
LOCATION:Grupo Espírita de Fraternidade Albino Teixeira\, Rua dos Aeroviários\, 240\, Bairro Liberdade\, Belo Horizonte\, MG\, 31270-330\, Brasil
CATEGORIES:Reunião Pública
ATTACH;FMTTYPE=image/jpeg:https://albinoteixeira.org.br/wp-content/uploads/2022/06/sede-scaled-e1656615992280.jpg
END:VEVENT
BEGIN:VEVENT
DTSTART;TZID=America/Sao_Paulo:20230215T200000
DTEND;TZID=America/Sao_Paulo:20230215T200000
DTSTAMP:20260423T082205
CREATED:20230206T122142Z
LAST-MODIFIED:20230206T122143Z
UID:6939-1676491200-1676491200@albinoteixeira.org.br
SUMMARY:Os tormentos voluntários
DESCRIPTION:
URL:https://albinoteixeira.org.br/evento/os-tormentos-voluntarios-9/
LOCATION:Grupo Espírita de Fraternidade Albino Teixeira\, Rua dos Aeroviários\, 240\, Bairro Liberdade\, Belo Horizonte\, MG\, 31270-330\, Brasil
CATEGORIES:Reunião Pública
ATTACH;FMTTYPE=image/jpeg:https://albinoteixeira.org.br/wp-content/uploads/2022/06/sede-scaled-e1656615992280.jpg
END:VEVENT
BEGIN:VEVENT
DTSTART;TZID=America/Sao_Paulo:20230216T200000
DTEND;TZID=America/Sao_Paulo:20230216T200000
DTSTAMP:20260423T082205
CREATED:20230215T121053Z
LAST-MODIFIED:20230215T121053Z
UID:6990-1676577600-1676577600@albinoteixeira.org.br
SUMMARY:Vivência da felicidade
DESCRIPTION:
URL:https://albinoteixeira.org.br/evento/vivencia-da-felicidade-2/
LOCATION:Grupo Espírita de Fraternidade Albino Teixeira\, Rua dos Aeroviários\, 240\, Bairro Liberdade\, Belo Horizonte\, MG\, 31270-330\, Brasil
CATEGORIES:Reunião Pública
ATTACH;FMTTYPE=image/jpeg:https://albinoteixeira.org.br/wp-content/uploads/2022/06/sede-scaled-e1656615992280.jpg
END:VEVENT
BEGIN:VEVENT
DTSTART;TZID=America/Sao_Paulo:20230217T150000
DTEND;TZID=America/Sao_Paulo:20230217T150000
DTSTAMP:20260423T082205
CREATED:20230215T121248Z
LAST-MODIFIED:20230215T121249Z
UID:6993-1676646000-1676646000@albinoteixeira.org.br
SUMMARY:Há muitas moradas na Casa do Pai
DESCRIPTION:
URL:https://albinoteixeira.org.br/evento/ha-muitas-moradas-na-casa-do-pai-6/
LOCATION:Grupo Espírita de Fraternidade Albino Teixeira\, Rua dos Aeroviários\, 240\, Bairro Liberdade\, Belo Horizonte\, MG\, 31270-330\, Brasil
CATEGORIES:Reunião Pública
ATTACH;FMTTYPE=image/jpeg:https://albinoteixeira.org.br/wp-content/uploads/2022/06/sede-scaled-e1656615992280.jpg
END:VEVENT
BEGIN:VEVENT
DTSTART;TZID=America/Sao_Paulo:20230217T200000
DTEND;TZID=America/Sao_Paulo:20230217T200000
DTSTAMP:20260423T082205
CREATED:20230215T121417Z
LAST-MODIFIED:20230215T121417Z
UID:6996-1676664000-1676664000@albinoteixeira.org.br
SUMMARY:Os brandos possuirão a terra
DESCRIPTION:
URL:https://albinoteixeira.org.br/evento/os-brandos-possuirao-a-terra-2/
LOCATION:Grupo Espírita de Fraternidade Albino Teixeira\, Rua dos Aeroviários\, 240\, Bairro Liberdade\, Belo Horizonte\, MG\, 31270-330\, Brasil
CATEGORIES:Reunião Pública
ATTACH;FMTTYPE=image/jpeg:https://albinoteixeira.org.br/wp-content/uploads/2022/06/sede-scaled-e1656615992280.jpg
END:VEVENT
BEGIN:VEVENT
DTSTART;TZID=America/Sao_Paulo:20230218T100000
DTEND;TZID=America/Sao_Paulo:20230218T100000
DTSTAMP:20260423T082205
CREATED:20230215T121548Z
LAST-MODIFIED:20230215T121549Z
UID:6998-1676714400-1676714400@albinoteixeira.org.br
SUMMARY:O julgamento e a maledicência
DESCRIPTION:
URL:https://albinoteixeira.org.br/evento/o-julgamento-e-a-maledicencia-8/
LOCATION:Grupo Espírita de Fraternidade Albino Teixeira\, Rua dos Aeroviários\, 240\, Bairro Liberdade\, Belo Horizonte\, MG\, 31270-330\, Brasil
CATEGORIES:Reunião Pública
ATTACH;FMTTYPE=image/jpeg:https://albinoteixeira.org.br/wp-content/uploads/2022/06/sede-scaled-e1656615992280.jpg
END:VEVENT
END:VCALENDAR