BEGIN:VCALENDAR
VERSION:2.0
PRODID:-//Gefrater - ECPv6.15.20//NONSGML v1.0//EN
CALSCALE:GREGORIAN
METHOD:PUBLISH
X-ORIGINAL-URL:https://albinoteixeira.org.br
X-WR-CALDESC:Eventos para Gefrater
REFRESH-INTERVAL;VALUE=DURATION:PT1H
X-Robots-Tag:noindex
X-PUBLISHED-TTL:PT1H
BEGIN:VTIMEZONE
TZID:America/Sao_Paulo
BEGIN:STANDARD
TZOFFSETFROM:-0300
TZOFFSETTO:-0300
TZNAME:-03
DTSTART:20220101T000000
END:STANDARD
END:VTIMEZONE
BEGIN:VEVENT
DTSTART;TZID=America/Sao_Paulo:20231001T100000
DTEND;TZID=America/Sao_Paulo:20231001T100000
DTSTAMP:20260425T103109
CREATED:20231002T224039Z
LAST-MODIFIED:20231002T224041Z
UID:7885-1696154400-1696154400@albinoteixeira.org.br
SUMMARY:Bem aventurados os pacificadores
DESCRIPTION: 
URL:https://albinoteixeira.org.br/evento/bem-aventurados-os-pacificadores-9/
LOCATION:Grupo Espírita de Fraternidade Albino Teixeira\, Rua dos Aeroviários\, 240\, Bairro Liberdade\, Belo Horizonte\, MG\, 31270-330\, Brasil
CATEGORIES:Reunião Pública
ATTACH;FMTTYPE=image/jpeg:https://albinoteixeira.org.br/wp-content/uploads/2022/06/sede-scaled-e1656615992280.jpg
END:VEVENT
BEGIN:VEVENT
DTSTART;TZID=America/Sao_Paulo:20231001T190000
DTEND;TZID=America/Sao_Paulo:20231001T190000
DTSTAMP:20260425T103109
CREATED:20231002T224154Z
LAST-MODIFIED:20231002T224154Z
UID:7887-1696186800-1696186800@albinoteixeira.org.br
SUMMARY:A cada um conforme suas obras
DESCRIPTION: 
URL:https://albinoteixeira.org.br/evento/a-cada-um-conforme-suas-obras-3/
LOCATION:Plataforma Zoom (Senha: 123)
CATEGORIES:Online,Reunião Pública
END:VEVENT
BEGIN:VEVENT
DTSTART;TZID=America/Sao_Paulo:20231002T200000
DTEND;TZID=America/Sao_Paulo:20231002T200000
DTSTAMP:20260425T103109
CREATED:20231002T224302Z
LAST-MODIFIED:20231002T224302Z
UID:7889-1696276800-1696276800@albinoteixeira.org.br
SUMMARY:Confiemos\, Jesus está no leme
DESCRIPTION:
URL:https://albinoteixeira.org.br/evento/confiemos-jesus-esta-no-leme-7/
LOCATION:Grupo Espírita de Fraternidade Albino Teixeira\, Rua dos Aeroviários\, 240\, Bairro Liberdade\, Belo Horizonte\, MG\, 31270-330\, Brasil
CATEGORIES:Reunião Pública
ATTACH;FMTTYPE=image/jpeg:https://albinoteixeira.org.br/wp-content/uploads/2022/06/sede-scaled-e1656615992280.jpg
END:VEVENT
BEGIN:VEVENT
DTSTART;TZID=America/Sao_Paulo:20231003T200000
DTEND;TZID=America/Sao_Paulo:20231003T200000
DTSTAMP:20260425T103109
CREATED:20231002T224423Z
LAST-MODIFIED:20231002T224424Z
UID:7891-1696363200-1696363200@albinoteixeira.org.br
SUMMARY:Kardec\, o codificador do espiritismo
DESCRIPTION:
URL:https://albinoteixeira.org.br/evento/kardec-o-codificador-do-espiritismo-5/
LOCATION:Grupo Espírita de Fraternidade Albino Teixeira\, Rua dos Aeroviários\, 240\, Bairro Liberdade\, Belo Horizonte\, MG\, 31270-330\, Brasil
CATEGORIES:Reunião Pública
ATTACH;FMTTYPE=image/jpeg:https://albinoteixeira.org.br/wp-content/uploads/2022/06/sede-scaled-e1656615992280.jpg
END:VEVENT
BEGIN:VEVENT
DTSTART;TZID=America/Sao_Paulo:20231004T150000
DTEND;TZID=America/Sao_Paulo:20231004T150000
DTSTAMP:20260425T103109
CREATED:20231002T224523Z
LAST-MODIFIED:20231002T224523Z
UID:7893-1696431600-1696431600@albinoteixeira.org.br
SUMMARY:A obra básica
DESCRIPTION: 
URL:https://albinoteixeira.org.br/evento/a-obra-basica-2/
LOCATION:Grupo Espírita de Fraternidade Albino Teixeira\, Rua dos Aeroviários\, 240\, Bairro Liberdade\, Belo Horizonte\, MG\, 31270-330\, Brasil
CATEGORIES:Reunião Pública
ATTACH;FMTTYPE=image/jpeg:https://albinoteixeira.org.br/wp-content/uploads/2022/06/sede-scaled-e1656615992280.jpg
END:VEVENT
BEGIN:VEVENT
DTSTART;TZID=America/Sao_Paulo:20231004T200000
DTEND;TZID=America/Sao_Paulo:20231004T200000
DTSTAMP:20260425T103109
CREATED:20231002T224634Z
LAST-MODIFIED:20231002T224635Z
UID:7895-1696449600-1696449600@albinoteixeira.org.br
SUMMARY:O consolador prometido
DESCRIPTION:
URL:https://albinoteixeira.org.br/evento/o-consolador-prometido-5/
LOCATION:Grupo Espírita de Fraternidade Albino Teixeira\, Rua dos Aeroviários\, 240\, Bairro Liberdade\, Belo Horizonte\, MG\, 31270-330\, Brasil
CATEGORIES:Reunião Pública
ATTACH;FMTTYPE=image/jpeg:https://albinoteixeira.org.br/wp-content/uploads/2022/06/sede-scaled-e1656615992280.jpg
END:VEVENT
BEGIN:VEVENT
DTSTART;TZID=America/Sao_Paulo:20231005T200000
DTEND;TZID=America/Sao_Paulo:20231005T200000
DTSTAMP:20260425T103109
CREATED:20231002T224802Z
LAST-MODIFIED:20231002T224802Z
UID:7897-1696536000-1696536000@albinoteixeira.org.br
SUMMARY:A importância de O Livros dos Espíritos
DESCRIPTION:
URL:https://albinoteixeira.org.br/evento/a-importancia-de-o-livros-dos-espiritos/
LOCATION:Grupo Espírita de Fraternidade Albino Teixeira\, Rua dos Aeroviários\, 240\, Bairro Liberdade\, Belo Horizonte\, MG\, 31270-330\, Brasil
CATEGORIES:Reunião Pública
ATTACH;FMTTYPE=image/jpeg:https://albinoteixeira.org.br/wp-content/uploads/2022/06/sede-scaled-e1656615992280.jpg
END:VEVENT
BEGIN:VEVENT
DTSTART;TZID=America/Sao_Paulo:20231006T150000
DTEND;TZID=America/Sao_Paulo:20231006T150000
DTSTAMP:20260425T103109
CREATED:20231002T224910Z
LAST-MODIFIED:20231002T224910Z
UID:7899-1696604400-1696604400@albinoteixeira.org.br
SUMMARY:Fora da caridade não há salvação
DESCRIPTION:
URL:https://albinoteixeira.org.br/evento/fora-da-caridade-nao-ha-salvacao-7/
LOCATION:Grupo Espírita de Fraternidade Albino Teixeira\, Rua dos Aeroviários\, 240\, Bairro Liberdade\, Belo Horizonte\, MG\, 31270-330\, Brasil
CATEGORIES:Reunião Pública
ATTACH;FMTTYPE=image/jpeg:https://albinoteixeira.org.br/wp-content/uploads/2022/06/sede-scaled-e1656615992280.jpg
END:VEVENT
BEGIN:VEVENT
DTSTART;TZID=America/Sao_Paulo:20231006T200000
DTEND;TZID=America/Sao_Paulo:20231006T200000
DTSTAMP:20260425T103109
CREATED:20231002T225058Z
LAST-MODIFIED:20231002T225058Z
UID:7901-1696622400-1696622400@albinoteixeira.org.br
SUMMARY:O Evangelho Segundo o Espiritismo - o ensino moral
DESCRIPTION:
URL:https://albinoteixeira.org.br/evento/o-evangelho-segundo-o-espiritismo-o-ensino-moral-4/
LOCATION:Grupo Espírita de Fraternidade Albino Teixeira\, Rua dos Aeroviários\, 240\, Bairro Liberdade\, Belo Horizonte\, MG\, 31270-330\, Brasil
CATEGORIES:Reunião Pública
ATTACH;FMTTYPE=image/jpeg:https://albinoteixeira.org.br/wp-content/uploads/2022/06/sede-scaled-e1656615992280.jpg
END:VEVENT
BEGIN:VEVENT
DTSTART;TZID=America/Sao_Paulo:20231007T100000
DTEND;TZID=America/Sao_Paulo:20231007T100000
DTSTAMP:20260425T103109
CREATED:20231002T225250Z
LAST-MODIFIED:20231002T225250Z
UID:7903-1696672800-1696672800@albinoteixeira.org.br
SUMMARY:O Céu e o Inferno - passagem de vida corporal à vida espiritual
DESCRIPTION:
URL:https://albinoteixeira.org.br/evento/o-ceu-e-o-inferno-passagem-de-vida-corporal-a-vida-espiritual/
LOCATION:Grupo Espírita de Fraternidade Albino Teixeira\, Rua dos Aeroviários\, 240\, Bairro Liberdade\, Belo Horizonte\, MG\, 31270-330\, Brasil
CATEGORIES:Reunião Pública
ATTACH;FMTTYPE=image/jpeg:https://albinoteixeira.org.br/wp-content/uploads/2022/06/sede-scaled-e1656615992280.jpg
END:VEVENT
BEGIN:VEVENT
DTSTART;TZID=America/Sao_Paulo:20231007T143000
DTEND;TZID=America/Sao_Paulo:20231007T143000
DTSTAMP:20260425T103109
CREATED:20231002T225439Z
LAST-MODIFIED:20231002T225439Z
UID:7905-1696689000-1696689000@albinoteixeira.org.br
SUMMARY:A era do Espírito: tempo de fé\, razão e autoconhecimento
DESCRIPTION:
URL:https://albinoteixeira.org.br/evento/a-era-do-espirito-tempo-de-fe-razao-e-autoconhecimento-6/
LOCATION:Grupo Espírita de Fraternidade Albino Teixeira\, Rua dos Aeroviários\, 240\, Bairro Liberdade\, Belo Horizonte\, MG\, 31270-330\, Brasil
CATEGORIES:Reunião Pública
ATTACH;FMTTYPE=image/jpeg:https://albinoteixeira.org.br/wp-content/uploads/2022/06/sede-scaled-e1656615992280.jpg
END:VEVENT
BEGIN:VEVENT
DTSTART;TZID=America/Sao_Paulo:20231007T183000
DTEND;TZID=America/Sao_Paulo:20231007T183000
DTSTAMP:20260425T103109
CREATED:20231002T225621Z
LAST-MODIFIED:20231002T225621Z
UID:7907-1696703400-1696703400@albinoteixeira.org.br
SUMMARY:A tríade universal: Deus\, espírito e matéria
DESCRIPTION:
URL:https://albinoteixeira.org.br/evento/a-triade-universal-deus-espirito-e-materia-2/
LOCATION:Grupo Espírita de Fraternidade Albino Teixeira\, Rua dos Aeroviários\, 240\, Bairro Liberdade\, Belo Horizonte\, MG\, 31270-330\, Brasil
CATEGORIES:Reunião Pública
ATTACH;FMTTYPE=image/jpeg:https://albinoteixeira.org.br/wp-content/uploads/2022/06/sede-scaled-e1656615992280.jpg
END:VEVENT
BEGIN:VEVENT
DTSTART;TZID=America/Sao_Paulo:20231008T100000
DTEND;TZID=America/Sao_Paulo:20231008T100000
DTSTAMP:20260425T103109
CREATED:20231002T225821Z
LAST-MODIFIED:20231002T225821Z
UID:7909-1696759200-1696759200@albinoteixeira.org.br
SUMMARY:Nascer\, morrer\, renascer e progredir sempre\, tal é a Lei
DESCRIPTION: 
URL:https://albinoteixeira.org.br/evento/nascer-morrer-renascer-e-progredir-sempre-tal-e-a-lei-4/
LOCATION:Grupo Espírita de Fraternidade Albino Teixeira\, Rua dos Aeroviários\, 240\, Bairro Liberdade\, Belo Horizonte\, MG\, 31270-330\, Brasil
CATEGORIES:Reunião Pública
ATTACH;FMTTYPE=image/jpeg:https://albinoteixeira.org.br/wp-content/uploads/2022/06/sede-scaled-e1656615992280.jpg
END:VEVENT
BEGIN:VEVENT
DTSTART;TZID=America/Sao_Paulo:20231008T190000
DTEND;TZID=America/Sao_Paulo:20231008T190000
DTSTAMP:20260425T103109
CREATED:20231002T230036Z
LAST-MODIFIED:20231002T230037Z
UID:7911-1696791600-1696791600@albinoteixeira.org.br
SUMMARY:Espiritismo: filosofia com bases cientistas e consequências morais
DESCRIPTION:
URL:https://albinoteixeira.org.br/evento/espiritismo-filosofia-com-bases-cientistas-e-consequencias-morais/
LOCATION:Plataforma Zoom (Senha: 123)
CATEGORIES:Online,Reunião Pública
ATTACH;FMTTYPE=image/jpeg:https://albinoteixeira.org.br/wp-content/uploads/2022/06/sede-scaled-e1656615992280.jpg
END:VEVENT
BEGIN:VEVENT
DTSTART;TZID=America/Sao_Paulo:20231009T200000
DTEND;TZID=America/Sao_Paulo:20231009T200000
DTSTAMP:20260425T103109
CREATED:20231002T230209Z
LAST-MODIFIED:20231002T230209Z
UID:7913-1696881600-1696881600@albinoteixeira.org.br
SUMMARY:Evolução orgânica e moral do ser
DESCRIPTION:
URL:https://albinoteixeira.org.br/evento/evolucao-organica-e-moral-do-ser/
LOCATION:Grupo Espírita de Fraternidade Albino Teixeira\, Rua dos Aeroviários\, 240\, Bairro Liberdade\, Belo Horizonte\, MG\, 31270-330\, Brasil
CATEGORIES:Reunião Pública
ATTACH;FMTTYPE=image/jpeg:https://albinoteixeira.org.br/wp-content/uploads/2022/06/sede-scaled-e1656615992280.jpg
END:VEVENT
BEGIN:VEVENT
DTSTART;TZID=America/Sao_Paulo:20231010T200000
DTEND;TZID=America/Sao_Paulo:20231010T200000
DTSTAMP:20260425T103109
CREATED:20231002T230331Z
LAST-MODIFIED:20231002T230332Z
UID:7915-1696968000-1696968000@albinoteixeira.org.br
SUMMARY:Orgulho e egoísmo
DESCRIPTION:
URL:https://albinoteixeira.org.br/evento/orgulho-e-egoismo-2/
LOCATION:Grupo Espírita de Fraternidade Albino Teixeira\, Rua dos Aeroviários\, 240\, Bairro Liberdade\, Belo Horizonte\, MG\, 31270-330\, Brasil
CATEGORIES:Reunião Pública
ATTACH;FMTTYPE=image/jpeg:https://albinoteixeira.org.br/wp-content/uploads/2022/06/sede-scaled-e1656615992280.jpg
END:VEVENT
BEGIN:VEVENT
DTSTART;TZID=America/Sao_Paulo:20231011T150000
DTEND;TZID=America/Sao_Paulo:20231011T150000
DTSTAMP:20260425T103109
CREATED:20231002T230449Z
LAST-MODIFIED:20231002T232208Z
UID:7917-1697036400-1697036400@albinoteixeira.org.br
SUMMARY:A lição da vigilância
DESCRIPTION:
URL:https://albinoteixeira.org.br/evento/a-licao-da-vigilancia-7/
LOCATION:Grupo Espírita de Fraternidade Albino Teixeira\, Rua dos Aeroviários\, 240\, Bairro Liberdade\, Belo Horizonte\, MG\, 31270-330\, Brasil
CATEGORIES:Reunião Pública
ATTACH;FMTTYPE=image/jpeg:https://albinoteixeira.org.br/wp-content/uploads/2022/06/sede-scaled-e1656615992280.jpg
END:VEVENT
BEGIN:VEVENT
DTSTART;TZID=America/Sao_Paulo:20231011T200000
DTEND;TZID=America/Sao_Paulo:20231011T200000
DTSTAMP:20260425T103109
CREATED:20231002T230606Z
LAST-MODIFIED:20231002T230606Z
UID:7920-1697054400-1697054400@albinoteixeira.org.br
SUMMARY:Espiritismo e ecologia
DESCRIPTION:
URL:https://albinoteixeira.org.br/evento/espiritismo-e-ecologia-4/
LOCATION:Grupo Espírita de Fraternidade Albino Teixeira\, Rua dos Aeroviários\, 240\, Bairro Liberdade\, Belo Horizonte\, MG\, 31270-330\, Brasil
CATEGORIES:Reunião Pública
ATTACH;FMTTYPE=image/jpeg:https://albinoteixeira.org.br/wp-content/uploads/2022/06/sede-scaled-e1656615992280.jpg
END:VEVENT
BEGIN:VEVENT
DTSTART;TZID=America/Sao_Paulo:20231012T200000
DTEND;TZID=America/Sao_Paulo:20231012T200000
DTSTAMP:20260425T103109
CREATED:20231002T230806Z
LAST-MODIFIED:20231002T230806Z
UID:7922-1697140800-1697140800@albinoteixeira.org.br
SUMMARY:Amai os vossos inimigos e orai pelos que vos perseguem. (Jesus)
DESCRIPTION:
URL:https://albinoteixeira.org.br/evento/amai-os-vossos-inimigos-e-orai-pelos-que-vos-perseguem-jesus/
LOCATION:Plataforma YouTube
CATEGORIES:Reunião Pública
ATTACH;FMTTYPE=image/jpeg:https://albinoteixeira.org.br/wp-content/uploads/2022/06/sede-scaled-e1656615992280.jpg
END:VEVENT
BEGIN:VEVENT
DTSTART;TZID=America/Sao_Paulo:20231013T150000
DTEND;TZID=America/Sao_Paulo:20231013T150000
DTSTAMP:20260425T103109
CREATED:20231002T230939Z
LAST-MODIFIED:20231002T230939Z
UID:7924-1697209200-1697209200@albinoteixeira.org.br
SUMMARY:Jesus acalma a tempestade
DESCRIPTION:
URL:https://albinoteixeira.org.br/evento/jesus-acalma-a-tempestade-5/
LOCATION:Grupo Espírita de Fraternidade Albino Teixeira\, Rua dos Aeroviários\, 240\, Bairro Liberdade\, Belo Horizonte\, MG\, 31270-330\, Brasil
CATEGORIES:Reunião Pública
ATTACH;FMTTYPE=image/jpeg:https://albinoteixeira.org.br/wp-content/uploads/2022/06/sede-scaled-e1656615992280.jpg
END:VEVENT
BEGIN:VEVENT
DTSTART;TZID=America/Sao_Paulo:20231013T200000
DTEND;TZID=America/Sao_Paulo:20231013T200000
DTSTAMP:20260425T103109
CREATED:20231002T231117Z
LAST-MODIFIED:20231002T232414Z
UID:7926-1697227200-1697227200@albinoteixeira.org.br
SUMMARY:Bem aventurados os que tem puro o coração
DESCRIPTION:
URL:https://albinoteixeira.org.br/evento/bem-aventurados-os-que-tem-puro-o-coracao/
LOCATION:Grupo Espírita de Fraternidade Albino Teixeira\, Rua dos Aeroviários\, 240\, Bairro Liberdade\, Belo Horizonte\, MG\, 31270-330\, Brasil
CATEGORIES:Reunião Pública
ATTACH;FMTTYPE=image/jpeg:https://albinoteixeira.org.br/wp-content/uploads/2022/06/sede-scaled-e1656615992280.jpg
END:VEVENT
BEGIN:VEVENT
DTSTART;TZID=America/Sao_Paulo:20231014T100000
DTEND;TZID=America/Sao_Paulo:20231014T100000
DTSTAMP:20260425T103109
CREATED:20231002T231418Z
LAST-MODIFIED:20231002T231418Z
UID:7928-1697277600-1697277600@albinoteixeira.org.br
SUMMARY:E não vos conformeis com este mundo\, mas transformai-vos
DESCRIPTION:
URL:https://albinoteixeira.org.br/evento/e-nao-vos-conformeis-com-este-mundo-mas-transformai-vos-3/
LOCATION:Grupo Espírita de Fraternidade Albino Teixeira\, Rua dos Aeroviários\, 240\, Bairro Liberdade\, Belo Horizonte\, MG\, 31270-330\, Brasil
CATEGORIES:Reunião Pública
ATTACH;FMTTYPE=image/jpeg:https://albinoteixeira.org.br/wp-content/uploads/2022/06/sede-scaled-e1656615992280.jpg
END:VEVENT
BEGIN:VEVENT
DTSTART;TZID=America/Sao_Paulo:20231014T143000
DTEND;TZID=America/Sao_Paulo:20231014T143000
DTSTAMP:20260425T103109
CREATED:20231002T231608Z
LAST-MODIFIED:20231002T231608Z
UID:7932-1697293800-1697293800@albinoteixeira.org.br
SUMMARY:A importância da Evangelização Infantil
DESCRIPTION:
URL:https://albinoteixeira.org.br/evento/a-importancia-da-evangelizacao-infantil/
LOCATION:Grupo Espírita de Fraternidade Albino Teixeira\, Rua dos Aeroviários\, 240\, Bairro Liberdade\, Belo Horizonte\, MG\, 31270-330\, Brasil
CATEGORIES:Reunião Pública
ATTACH;FMTTYPE=image/jpeg:https://albinoteixeira.org.br/wp-content/uploads/2022/06/sede-scaled-e1656615992280.jpg
END:VEVENT
BEGIN:VEVENT
DTSTART;TZID=America/Sao_Paulo:20231014T183000
DTEND;TZID=America/Sao_Paulo:20231014T183000
DTSTAMP:20260425T103109
CREATED:20231002T231742Z
LAST-MODIFIED:20231002T231742Z
UID:7934-1697308200-1697308200@albinoteixeira.org.br
SUMMARY:A fé humana e a fé Divina
DESCRIPTION: 
URL:https://albinoteixeira.org.br/evento/a-fe-humana-e-a-fe-divina/
LOCATION:Grupo Espírita de Fraternidade Albino Teixeira\, Rua dos Aeroviários\, 240\, Bairro Liberdade\, Belo Horizonte\, MG\, 31270-330\, Brasil
CATEGORIES:Reunião Pública
ATTACH;FMTTYPE=image/jpeg:https://albinoteixeira.org.br/wp-content/uploads/2022/06/sede-scaled-e1656615992280.jpg
END:VEVENT
BEGIN:VEVENT
DTSTART;TZID=America/Sao_Paulo:20231015T100000
DTEND;TZID=America/Sao_Paulo:20231015T100000
DTSTAMP:20260425T103109
CREATED:20231002T231851Z
LAST-MODIFIED:20231002T231851Z
UID:7936-1697364000-1697364000@albinoteixeira.org.br
SUMMARY:Relacionamentos familiares
DESCRIPTION:
URL:https://albinoteixeira.org.br/evento/relacionamentos-familiares-2/
LOCATION:Grupo Espírita de Fraternidade Albino Teixeira\, Rua dos Aeroviários\, 240\, Bairro Liberdade\, Belo Horizonte\, MG\, 31270-330\, Brasil
CATEGORIES:Reunião Pública
ATTACH;FMTTYPE=image/jpeg:https://albinoteixeira.org.br/wp-content/uploads/2022/06/sede-scaled-e1656615992280.jpg
END:VEVENT
BEGIN:VEVENT
DTSTART;TZID=America/Sao_Paulo:20231015T190000
DTEND;TZID=America/Sao_Paulo:20231015T190000
DTSTAMP:20260425T103109
CREATED:20231002T232013Z
LAST-MODIFIED:20231002T232013Z
UID:7938-1697396400-1697396400@albinoteixeira.org.br
SUMMARY:Saúde do corpo e do espírito
DESCRIPTION:
URL:https://albinoteixeira.org.br/evento/saude-do-corpo-e-do-espirito-6/
LOCATION:Plataforma Zoom (Senha: 123)
CATEGORIES:Online,Reunião Pública
ATTACH;FMTTYPE=image/jpeg:https://albinoteixeira.org.br/wp-content/uploads/2022/06/sede-scaled-e1656615992280.jpg
END:VEVENT
BEGIN:VEVENT
DTSTART;TZID=America/Sao_Paulo:20231016T200000
DTEND;TZID=America/Sao_Paulo:20231016T200000
DTSTAMP:20260425T103109
CREATED:20231018T104419Z
LAST-MODIFIED:20231018T104421Z
UID:7941-1697486400-1697486400@albinoteixeira.org.br
SUMMARY:Quantos pães tendes?
DESCRIPTION:
URL:https://albinoteixeira.org.br/evento/quantos-paes-tendes-7/
LOCATION:Grupo Espírita de Fraternidade Albino Teixeira\, Rua dos Aeroviários\, 240\, Bairro Liberdade\, Belo Horizonte\, MG\, 31270-330\, Brasil
CATEGORIES:Reunião Pública
ATTACH;FMTTYPE=image/jpeg:https://albinoteixeira.org.br/wp-content/uploads/2022/06/sede-scaled-e1656615992280.jpg
END:VEVENT
BEGIN:VEVENT
DTSTART;TZID=America/Sao_Paulo:20231017T200000
DTEND;TZID=America/Sao_Paulo:20231017T200000
DTSTAMP:20260425T103109
CREATED:20231018T104530Z
LAST-MODIFIED:20231018T104530Z
UID:7943-1697572800-1697572800@albinoteixeira.org.br
SUMMARY:Amor e renúncia
DESCRIPTION:
URL:https://albinoteixeira.org.br/evento/amor-e-renuncia-9/
LOCATION:Grupo Espírita de Fraternidade Albino Teixeira\, Rua dos Aeroviários\, 240\, Bairro Liberdade\, Belo Horizonte\, MG\, 31270-330\, Brasil
CATEGORIES:Reunião Pública
ATTACH;FMTTYPE=image/jpeg:https://albinoteixeira.org.br/wp-content/uploads/2022/06/sede-scaled-e1656615992280.jpg
END:VEVENT
BEGIN:VEVENT
DTSTART;TZID=America/Sao_Paulo:20231018T150000
DTEND;TZID=America/Sao_Paulo:20231018T150000
DTSTAMP:20260425T103109
CREATED:20231018T104701Z
LAST-MODIFIED:20231018T104702Z
UID:7945-1697641200-1697641200@albinoteixeira.org.br
SUMMARY:Meu reino não é deste mundo
DESCRIPTION:
URL:https://albinoteixeira.org.br/evento/meu-reino-nao-e-deste-mundo-10/
LOCATION:Grupo Espírita de Fraternidade Albino Teixeira\, Rua dos Aeroviários\, 240\, Bairro Liberdade\, Belo Horizonte\, MG\, 31270-330\, Brasil
CATEGORIES:Reunião Pública
ATTACH;FMTTYPE=image/jpeg:https://albinoteixeira.org.br/wp-content/uploads/2022/06/sede-scaled-e1656615992280.jpg
END:VEVENT
BEGIN:VEVENT
DTSTART;TZID=America/Sao_Paulo:20231018T200000
DTEND;TZID=America/Sao_Paulo:20231018T200000
DTSTAMP:20260425T103109
CREATED:20231018T105028Z
LAST-MODIFIED:20231018T105028Z
UID:7947-1697659200-1697659200@albinoteixeira.org.br
SUMMARY:E Jesus\, estendendo a mão\, tocou-o\, dizendo: quero; sê limpo
DESCRIPTION:
URL:https://albinoteixeira.org.br/evento/e-jesus-estendendo-a-mao-tocou-o-dizendo-quero-se-limpo/
LOCATION:Grupo Espírita de Fraternidade Albino Teixeira\, Rua dos Aeroviários\, 240\, Bairro Liberdade\, Belo Horizonte\, MG\, 31270-330\, Brasil
CATEGORIES:Reunião Pública
ATTACH;FMTTYPE=image/jpeg:https://albinoteixeira.org.br/wp-content/uploads/2022/06/sede-scaled-e1656615992280.jpg
END:VEVENT
END:VCALENDAR