BEGIN:VCALENDAR
VERSION:2.0
PRODID:-//Gefrater - ECPv6.15.20//NONSGML v1.0//EN
CALSCALE:GREGORIAN
METHOD:PUBLISH
X-WR-CALNAME:Gefrater
X-ORIGINAL-URL:https://albinoteixeira.org.br
X-WR-CALDESC:Eventos para Gefrater
REFRESH-INTERVAL;VALUE=DURATION:PT1H
X-Robots-Tag:noindex
X-PUBLISHED-TTL:PT1H
BEGIN:VTIMEZONE
TZID:America/Sao_Paulo
BEGIN:STANDARD
TZOFFSETFROM:-0300
TZOFFSETTO:-0300
TZNAME:-03
DTSTART:20230101T000000
END:STANDARD
END:VTIMEZONE
BEGIN:VEVENT
DTSTART;TZID=America/Sao_Paulo:20240501T150000
DTEND;TZID=America/Sao_Paulo:20240501T150000
DTSTAMP:20260426T012419
CREATED:20240502T104952Z
LAST-MODIFIED:20240502T104952Z
UID:8470-1714575600-1714575600@albinoteixeira.org.br
SUMMARY:Leis morais: lei do trabalho
DESCRIPTION:
URL:https://albinoteixeira.org.br/evento/leis-morais-lei-do-trabalho-5/
LOCATION:Grupo Espírita de Fraternidade Albino Teixeira\, Rua dos Aeroviários\, 240\, Bairro Liberdade\, Belo Horizonte\, MG\, 31270-330\, Brasil
CATEGORIES:Reunião Pública
ATTACH;FMTTYPE=image/jpeg:https://albinoteixeira.org.br/wp-content/uploads/2022/06/sede-scaled-e1656615992280.jpg
END:VEVENT
BEGIN:VEVENT
DTSTART;TZID=America/Sao_Paulo:20240501T200000
DTEND;TZID=America/Sao_Paulo:20240501T200000
DTSTAMP:20260426T012419
CREATED:20240502T105056Z
LAST-MODIFIED:20240502T105056Z
UID:8472-1714593600-1714593600@albinoteixeira.org.br
SUMMARY:Trabalho
DESCRIPTION:
URL:https://albinoteixeira.org.br/evento/trabalho-3/
LOCATION:Grupo Espírita de Fraternidade Albino Teixeira\, Rua dos Aeroviários\, 240\, Bairro Liberdade\, Belo Horizonte\, MG\, 31270-330\, Brasil
CATEGORIES:Reunião Pública
ATTACH;FMTTYPE=image/jpeg:https://albinoteixeira.org.br/wp-content/uploads/2022/06/sede-scaled-e1656615992280.jpg
END:VEVENT
BEGIN:VEVENT
DTSTART;TZID=America/Sao_Paulo:20240502T200000
DTEND;TZID=America/Sao_Paulo:20240502T200000
DTSTAMP:20260426T012419
CREATED:20240502T105147Z
LAST-MODIFIED:20240502T105147Z
UID:8475-1714680000-1714680000@albinoteixeira.org.br
SUMMARY:A escolha de provas
DESCRIPTION:
URL:https://albinoteixeira.org.br/evento/a-escolha-de-provas-13/
LOCATION:Grupo Espírita de Fraternidade Albino Teixeira\, Rua dos Aeroviários\, 240\, Bairro Liberdade\, Belo Horizonte\, MG\, 31270-330\, Brasil
CATEGORIES:Reunião Pública
ATTACH;FMTTYPE=image/jpeg:https://albinoteixeira.org.br/wp-content/uploads/2022/06/sede-scaled-e1656615992280.jpg
END:VEVENT
BEGIN:VEVENT
DTSTART;TZID=America/Sao_Paulo:20240503T150000
DTEND;TZID=America/Sao_Paulo:20240503T150000
DTSTAMP:20260426T012419
CREATED:20240502T105317Z
LAST-MODIFIED:20240502T105317Z
UID:8477-1714748400-1714748400@albinoteixeira.org.br
SUMMARY:O dom esquecido
DESCRIPTION:
URL:https://albinoteixeira.org.br/evento/o-dom-esquecido/
LOCATION:Grupo Espírita de Fraternidade Albino Teixeira\, Rua dos Aeroviários\, 240\, Bairro Liberdade\, Belo Horizonte\, MG\, 31270-330\, Brasil
CATEGORIES:Reunião Pública
ATTACH;FMTTYPE=image/jpeg:https://albinoteixeira.org.br/wp-content/uploads/2022/06/sede-scaled-e1656615992280.jpg
END:VEVENT
BEGIN:VEVENT
DTSTART;TZID=America/Sao_Paulo:20240503T200000
DTEND;TZID=America/Sao_Paulo:20240503T200000
DTSTAMP:20260426T012419
CREATED:20240502T105434Z
LAST-MODIFIED:20240502T105434Z
UID:8480-1714766400-1714766400@albinoteixeira.org.br
SUMMARY:A resposta celeste
DESCRIPTION:
URL:https://albinoteixeira.org.br/evento/a-resposta-celeste/
LOCATION:Grupo Espírita de Fraternidade Albino Teixeira\, Rua dos Aeroviários\, 240\, Bairro Liberdade\, Belo Horizonte\, MG\, 31270-330\, Brasil
CATEGORIES:Reunião Pública
ATTACH;FMTTYPE=image/jpeg:https://albinoteixeira.org.br/wp-content/uploads/2022/06/sede-scaled-e1656615992280.jpg
END:VEVENT
BEGIN:VEVENT
DTSTART;TZID=America/Sao_Paulo:20240504T100000
DTEND;TZID=America/Sao_Paulo:20240504T100000
DTSTAMP:20260426T012419
CREATED:20240502T105547Z
LAST-MODIFIED:20240502T105547Z
UID:8482-1714816800-1714816800@albinoteixeira.org.br
SUMMARY:A regra de ajudar
DESCRIPTION:
URL:https://albinoteixeira.org.br/evento/a-regra-de-ajudar/
LOCATION:Grupo Espírita de Fraternidade Albino Teixeira\, Rua dos Aeroviários\, 240\, Bairro Liberdade\, Belo Horizonte\, MG\, 31270-330\, Brasil
CATEGORIES:Reunião Pública
ATTACH;FMTTYPE=image/jpeg:https://albinoteixeira.org.br/wp-content/uploads/2022/06/sede-scaled-e1656615992280.jpg
END:VEVENT
BEGIN:VEVENT
DTSTART;TZID=America/Sao_Paulo:20240504T143000
DTEND;TZID=America/Sao_Paulo:20240504T143000
DTSTAMP:20260426T012419
CREATED:20240502T105655Z
LAST-MODIFIED:20240502T105655Z
UID:8484-1714833000-1714833000@albinoteixeira.org.br
SUMMARY:A razão da dor
DESCRIPTION:
URL:https://albinoteixeira.org.br/evento/a-razao-da-dor/
LOCATION:Grupo Espírita de Fraternidade Albino Teixeira\, Rua dos Aeroviários\, 240\, Bairro Liberdade\, Belo Horizonte\, MG\, 31270-330\, Brasil
CATEGORIES:Reunião Pública
ATTACH;FMTTYPE=image/jpeg:https://albinoteixeira.org.br/wp-content/uploads/2022/06/sede-scaled-e1656615992280.jpg
END:VEVENT
BEGIN:VEVENT
DTSTART;TZID=America/Sao_Paulo:20240505T100000
DTEND;TZID=America/Sao_Paulo:20240505T100000
DTSTAMP:20260426T012419
CREATED:20240502T105805Z
LAST-MODIFIED:20240516T110932Z
UID:8486-1714903200-1714903200@albinoteixeira.org.br
SUMMARY:Cura da filha da mulher Cananéia
DESCRIPTION:
URL:https://albinoteixeira.org.br/evento/cura-da-filha-da-mulher-cananeia-2/
LOCATION:Grupo Espírita de Fraternidade Albino Teixeira\, Rua dos Aeroviários\, 240\, Bairro Liberdade\, Belo Horizonte\, MG\, 31270-330\, Brasil
CATEGORIES:Reunião Pública
ATTACH;FMTTYPE=image/jpeg:https://albinoteixeira.org.br/wp-content/uploads/2022/06/sede-scaled-e1656615992280.jpg
END:VEVENT
BEGIN:VEVENT
DTSTART;TZID=America/Sao_Paulo:20240505T190000
DTEND;TZID=America/Sao_Paulo:20240505T190000
DTSTAMP:20260426T012419
CREATED:20240502T105911Z
LAST-MODIFIED:20240502T105911Z
UID:8488-1714935600-1714935600@albinoteixeira.org.br
SUMMARY:O apelo divino
DESCRIPTION:
URL:https://albinoteixeira.org.br/evento/o-apelo-divino/
LOCATION:Plataforma Zoom (Senha: 123)
CATEGORIES:Online,Reunião Pública
ATTACH;FMTTYPE=image/jpeg:https://albinoteixeira.org.br/wp-content/uploads/2022/06/sede-scaled-e1656615992280.jpg
END:VEVENT
BEGIN:VEVENT
DTSTART;TZID=America/Sao_Paulo:20240506T200000
DTEND;TZID=America/Sao_Paulo:20240506T200000
DTSTAMP:20260426T012419
CREATED:20240502T110031Z
LAST-MODIFIED:20240502T110031Z
UID:8490-1715025600-1715025600@albinoteixeira.org.br
SUMMARY:A serva escandalizada
DESCRIPTION:
URL:https://albinoteixeira.org.br/evento/a-serva-escandalizada/
LOCATION:Grupo Espírita de Fraternidade Albino Teixeira\, Rua dos Aeroviários\, 240\, Bairro Liberdade\, Belo Horizonte\, MG\, 31270-330\, Brasil
CATEGORIES:Reunião Pública
ATTACH;FMTTYPE=image/jpeg:https://albinoteixeira.org.br/wp-content/uploads/2022/06/sede-scaled-e1656615992280.jpg
END:VEVENT
BEGIN:VEVENT
DTSTART;TZID=America/Sao_Paulo:20240507T200000
DTEND;TZID=America/Sao_Paulo:20240507T200000
DTSTAMP:20260426T012419
CREATED:20240502T110136Z
LAST-MODIFIED:20240502T110136Z
UID:8492-1715112000-1715112000@albinoteixeira.org.br
SUMMARY:A necessidade de entendimento
DESCRIPTION:
URL:https://albinoteixeira.org.br/evento/a-necessidade-de-entendimento/
LOCATION:Grupo Espírita de Fraternidade Albino Teixeira\, Rua dos Aeroviários\, 240\, Bairro Liberdade\, Belo Horizonte\, MG\, 31270-330\, Brasil
CATEGORIES:Reunião Pública
ATTACH;FMTTYPE=image/jpeg:https://albinoteixeira.org.br/wp-content/uploads/2022/06/sede-scaled-e1656615992280.jpg
END:VEVENT
BEGIN:VEVENT
DTSTART;TZID=America/Sao_Paulo:20240508T150000
DTEND;TZID=America/Sao_Paulo:20240508T150000
DTSTAMP:20260426T012419
CREATED:20240502T110240Z
LAST-MODIFIED:20240502T110240Z
UID:8494-1715180400-1715180400@albinoteixeira.org.br
SUMMARY:O maior servidor
DESCRIPTION:
URL:https://albinoteixeira.org.br/evento/o-maior-servidor-2/
LOCATION:Grupo Espírita de Fraternidade Albino Teixeira\, Rua dos Aeroviários\, 240\, Bairro Liberdade\, Belo Horizonte\, MG\, 31270-330\, Brasil
CATEGORIES:Reunião Pública
ATTACH;FMTTYPE=image/jpeg:https://albinoteixeira.org.br/wp-content/uploads/2022/06/sede-scaled-e1656615992280.jpg
END:VEVENT
BEGIN:VEVENT
DTSTART;TZID=America/Sao_Paulo:20240508T200000
DTEND;TZID=America/Sao_Paulo:20240508T200000
DTSTAMP:20260426T012419
CREATED:20240502T110341Z
LAST-MODIFIED:20240502T110341Z
UID:8496-1715198400-1715198400@albinoteixeira.org.br
SUMMARY:A lição da semente
DESCRIPTION:
URL:https://albinoteixeira.org.br/evento/a-licao-da-semente-2/
LOCATION:Grupo Espírita de Fraternidade Albino Teixeira\, Rua dos Aeroviários\, 240\, Bairro Liberdade\, Belo Horizonte\, MG\, 31270-330\, Brasil
CATEGORIES:Reunião Pública
ATTACH;FMTTYPE=image/jpeg:https://albinoteixeira.org.br/wp-content/uploads/2022/06/sede-scaled-e1656615992280.jpg
END:VEVENT
BEGIN:VEVENT
DTSTART;TZID=America/Sao_Paulo:20240516T200000
DTEND;TZID=America/Sao_Paulo:20240516T200000
DTSTAMP:20260426T012419
CREATED:20240516T103250Z
LAST-MODIFIED:20240516T110816Z
UID:8499-1715889600-1715889600@albinoteixeira.org.br
SUMMARY:Ambiente domestico
DESCRIPTION:
URL:https://albinoteixeira.org.br/evento/ambiente-domestico-2/
LOCATION:Grupo Espírita de Fraternidade Albino Teixeira\, Rua dos Aeroviários\, 240\, Bairro Liberdade\, Belo Horizonte\, MG\, 31270-330\, Brasil
CATEGORIES:Reunião Pública
ATTACH;FMTTYPE=image/jpeg:https://albinoteixeira.org.br/wp-content/uploads/2022/06/sede-scaled-e1656615992280.jpg
END:VEVENT
BEGIN:VEVENT
DTSTART;TZID=America/Sao_Paulo:20240517T150000
DTEND;TZID=America/Sao_Paulo:20240517T150000
DTSTAMP:20260426T012419
CREATED:20240516T103420Z
LAST-MODIFIED:20240516T103420Z
UID:8501-1715958000-1715958000@albinoteixeira.org.br
SUMMARY:Família\, oportunidade divina
DESCRIPTION:
URL:https://albinoteixeira.org.br/evento/familia-oportunidade-divina-4/
LOCATION:Grupo Espírita de Fraternidade Albino Teixeira\, Rua dos Aeroviários\, 240\, Bairro Liberdade\, Belo Horizonte\, MG\, 31270-330\, Brasil
CATEGORIES:Reunião Pública
ATTACH;FMTTYPE=image/jpeg:https://albinoteixeira.org.br/wp-content/uploads/2022/06/sede-scaled-e1656615992280.jpg
END:VEVENT
BEGIN:VEVENT
DTSTART;TZID=America/Sao_Paulo:20240517T200000
DTEND;TZID=America/Sao_Paulo:20240517T200000
DTSTAMP:20260426T012419
CREATED:20240516T103629Z
LAST-MODIFIED:20240516T103629Z
UID:8503-1715976000-1715976000@albinoteixeira.org.br
SUMMARY:Honrai a vosso pai e vossa mãe
DESCRIPTION:
URL:https://albinoteixeira.org.br/evento/honrai-a-vosso-pai-e-vossa-mae/
LOCATION:Grupo Espírita de Fraternidade Albino Teixeira\, Rua dos Aeroviários\, 240\, Bairro Liberdade\, Belo Horizonte\, MG\, 31270-330\, Brasil
CATEGORIES:Reunião Pública
ATTACH;FMTTYPE=image/jpeg:https://albinoteixeira.org.br/wp-content/uploads/2022/06/sede-scaled-e1656615992280.jpg
END:VEVENT
BEGIN:VEVENT
DTSTART;TZID=America/Sao_Paulo:20240518T100000
DTEND;TZID=America/Sao_Paulo:20240518T100000
DTSTAMP:20260426T012419
CREATED:20240516T103731Z
LAST-MODIFIED:20240516T103731Z
UID:8505-1716026400-1716026400@albinoteixeira.org.br
SUMMARY:O passe
DESCRIPTION:
URL:https://albinoteixeira.org.br/evento/o-passe-8/
LOCATION:Grupo Espírita de Fraternidade Albino Teixeira\, Rua dos Aeroviários\, 240\, Bairro Liberdade\, Belo Horizonte\, MG\, 31270-330\, Brasil
CATEGORIES:Reunião Pública
ATTACH;FMTTYPE=image/jpeg:https://albinoteixeira.org.br/wp-content/uploads/2022/06/sede-scaled-e1656615992280.jpg
END:VEVENT
BEGIN:VEVENT
DTSTART;TZID=America/Sao_Paulo:20240518T143000
DTEND;TZID=America/Sao_Paulo:20240518T143000
DTSTAMP:20260426T012419
CREATED:20240516T103854Z
LAST-MODIFIED:20240516T103854Z
UID:8507-1716042600-1716042600@albinoteixeira.org.br
SUMMARY:Evangelho no lar
DESCRIPTION:
URL:https://albinoteixeira.org.br/evento/evangelho-no-lar-4/
LOCATION:Grupo Espírita de Fraternidade Albino Teixeira\, Rua dos Aeroviários\, 240\, Bairro Liberdade\, Belo Horizonte\, MG\, 31270-330\, Brasil
CATEGORIES:Reunião Pública
ATTACH;FMTTYPE=image/jpeg:https://albinoteixeira.org.br/wp-content/uploads/2022/06/sede-scaled-e1656615992280.jpg
END:VEVENT
BEGIN:VEVENT
DTSTART;TZID=America/Sao_Paulo:20240519T100000
DTEND;TZID=America/Sao_Paulo:20240519T100000
DTSTAMP:20260426T012419
CREATED:20240516T104017Z
LAST-MODIFIED:20240516T104017Z
UID:8510-1716112800-1716112800@albinoteixeira.org.br
SUMMARY:O incentivo santo
DESCRIPTION:
URL:https://albinoteixeira.org.br/evento/o-incentivo-santo/
LOCATION:Grupo Espírita de Fraternidade Albino Teixeira\, Rua dos Aeroviários\, 240\, Bairro Liberdade\, Belo Horizonte\, MG\, 31270-330\, Brasil
CATEGORIES:Reunião Pública
ATTACH;FMTTYPE=image/jpeg:https://albinoteixeira.org.br/wp-content/uploads/2022/06/sede-scaled-e1656615992280.jpg
END:VEVENT
BEGIN:VEVENT
DTSTART;TZID=America/Sao_Paulo:20240519T190000
DTEND;TZID=America/Sao_Paulo:20240519T190000
DTSTAMP:20260426T012419
CREATED:20240516T104133Z
LAST-MODIFIED:20240516T104133Z
UID:8512-1716145200-1716145200@albinoteixeira.org.br
SUMMARY:A mensagem da compaixão
DESCRIPTION:
URL:https://albinoteixeira.org.br/evento/a-mensagem-da-compaixao/
LOCATION:Plataforma Zoom (Senha: 123)
CATEGORIES:Online,Reunião Pública
ATTACH;FMTTYPE=image/jpeg:https://albinoteixeira.org.br/wp-content/uploads/2022/06/sede-scaled-e1656615992280.jpg
END:VEVENT
BEGIN:VEVENT
DTSTART;TZID=America/Sao_Paulo:20240520T200000
DTEND;TZID=America/Sao_Paulo:20240520T200000
DTSTAMP:20260426T012419
CREATED:20240516T104330Z
LAST-MODIFIED:20240516T104330Z
UID:8514-1716235200-1716235200@albinoteixeira.org.br
SUMMARY:A gloria do esforço
DESCRIPTION:
URL:https://albinoteixeira.org.br/evento/a-gloria-do-esforco/
LOCATION:Grupo Espírita de Fraternidade Albino Teixeira\, Rua dos Aeroviários\, 240\, Bairro Liberdade\, Belo Horizonte\, MG\, 31270-330\, Brasil
CATEGORIES:Reunião Pública
ATTACH;FMTTYPE=image/jpeg:https://albinoteixeira.org.br/wp-content/uploads/2022/06/sede-scaled-e1656615992280.jpg
END:VEVENT
BEGIN:VEVENT
DTSTART;TZID=America/Sao_Paulo:20240521T200000
DTEND;TZID=America/Sao_Paulo:20240521T200000
DTSTAMP:20260426T012419
CREATED:20240516T104636Z
LAST-MODIFIED:20240516T104636Z
UID:8516-1716321600-1716321600@albinoteixeira.org.br
SUMMARY:A lição do essencial
DESCRIPTION:
URL:https://albinoteixeira.org.br/evento/a-licao-do-essencial-3/
LOCATION:Grupo Espírita de Fraternidade Albino Teixeira\, Rua dos Aeroviários\, 240\, Bairro Liberdade\, Belo Horizonte\, MG\, 31270-330\, Brasil
CATEGORIES:Reunião Pública
ATTACH;FMTTYPE=image/jpeg:https://albinoteixeira.org.br/wp-content/uploads/2022/06/sede-scaled-e1656615992280.jpg
END:VEVENT
BEGIN:VEVENT
DTSTART;TZID=America/Sao_Paulo:20240522T150000
DTEND;TZID=America/Sao_Paulo:20240522T150000
DTSTAMP:20260426T012419
CREATED:20240516T104751Z
LAST-MODIFIED:20240516T104751Z
UID:8518-1716390000-1716390000@albinoteixeira.org.br
SUMMARY:O imperativo da ação
DESCRIPTION:
URL:https://albinoteixeira.org.br/evento/o-imperativo-da-acao/
LOCATION:Grupo Espírita de Fraternidade Albino Teixeira\, Rua dos Aeroviários\, 240\, Bairro Liberdade\, Belo Horizonte\, MG\, 31270-330\, Brasil
CATEGORIES:Reunião Pública
ATTACH;FMTTYPE=image/jpeg:https://albinoteixeira.org.br/wp-content/uploads/2022/06/sede-scaled-e1656615992280.jpg
END:VEVENT
BEGIN:VEVENT
DTSTART;TZID=America/Sao_Paulo:20240522T200000
DTEND;TZID=America/Sao_Paulo:20240522T200000
DTSTAMP:20260426T012419
CREATED:20240516T104917Z
LAST-MODIFIED:20240516T104917Z
UID:8521-1716408000-1716408000@albinoteixeira.org.br
SUMMARY:A árvore preciosa
DESCRIPTION:
URL:https://albinoteixeira.org.br/evento/a-arvore-preciosa/
LOCATION:Grupo Espírita de Fraternidade Albino Teixeira\, Rua dos Aeroviários\, 240\, Bairro Liberdade\, Belo Horizonte\, MG\, 31270-330\, Brasil
CATEGORIES:Reunião Pública
ATTACH;FMTTYPE=image/jpeg:https://albinoteixeira.org.br/wp-content/uploads/2022/06/sede-scaled-e1656615992280.jpg
END:VEVENT
BEGIN:VEVENT
DTSTART;TZID=America/Sao_Paulo:20240523T200000
DTEND;TZID=America/Sao_Paulo:20240523T200000
DTSTAMP:20260426T012419
CREATED:20240516T105031Z
LAST-MODIFIED:20240516T105031Z
UID:8523-1716494400-1716494400@albinoteixeira.org.br
SUMMARY:O educador conturbado
DESCRIPTION:
URL:https://albinoteixeira.org.br/evento/o-educador-conturbado/
LOCATION:Grupo Espírita de Fraternidade Albino Teixeira\, Rua dos Aeroviários\, 240\, Bairro Liberdade\, Belo Horizonte\, MG\, 31270-330\, Brasil
CATEGORIES:Reunião Pública
ATTACH;FMTTYPE=image/jpeg:https://albinoteixeira.org.br/wp-content/uploads/2022/06/sede-scaled-e1656615992280.jpg
END:VEVENT
BEGIN:VEVENT
DTSTART;TZID=America/Sao_Paulo:20240524T150000
DTEND;TZID=America/Sao_Paulo:20240524T150000
DTSTAMP:20260426T012419
CREATED:20240516T105141Z
LAST-MODIFIED:20240516T105141Z
UID:8525-1716562800-1716562800@albinoteixeira.org.br
SUMMARY:O proveito comum
DESCRIPTION:
URL:https://albinoteixeira.org.br/evento/o-proveito-comum/
LOCATION:Grupo Espírita de Fraternidade Albino Teixeira\, Rua dos Aeroviários\, 240\, Bairro Liberdade\, Belo Horizonte\, MG\, 31270-330\, Brasil
CATEGORIES:Reunião Pública
ATTACH;FMTTYPE=image/jpeg:https://albinoteixeira.org.br/wp-content/uploads/2022/06/sede-scaled-e1656615992280.jpg
END:VEVENT
BEGIN:VEVENT
DTSTART;TZID=America/Sao_Paulo:20240524T200000
DTEND;TZID=America/Sao_Paulo:20240524T200000
DTSTAMP:20260426T012419
CREATED:20240516T105247Z
LAST-MODIFIED:20240516T105247Z
UID:8527-1716580800-1716580800@albinoteixeira.org.br
SUMMARY:Trabalho
DESCRIPTION:
URL:https://albinoteixeira.org.br/evento/trabalho-4/
LOCATION:Grupo Espírita de Fraternidade Albino Teixeira\, Rua dos Aeroviários\, 240\, Bairro Liberdade\, Belo Horizonte\, MG\, 31270-330\, Brasil
CATEGORIES:Reunião Pública
ATTACH;FMTTYPE=image/jpeg:https://albinoteixeira.org.br/wp-content/uploads/2022/06/sede-scaled-e1656615992280.jpg
END:VEVENT
BEGIN:VEVENT
DTSTART;TZID=America/Sao_Paulo:20240525T100000
DTEND;TZID=America/Sao_Paulo:20240525T100000
DTSTAMP:20260426T012419
CREATED:20240516T105434Z
LAST-MODIFIED:20240516T105434Z
UID:8529-1716631200-1716631200@albinoteixeira.org.br
SUMMARY:Sono e Espiritualidade
DESCRIPTION:
URL:https://albinoteixeira.org.br/evento/sono-e-espiritualidade/
LOCATION:Grupo Espírita de Fraternidade Albino Teixeira\, Rua dos Aeroviários\, 240\, Bairro Liberdade\, Belo Horizonte\, MG\, 31270-330\, Brasil
CATEGORIES:Reunião Pública
ATTACH;FMTTYPE=image/jpeg:https://albinoteixeira.org.br/wp-content/uploads/2022/06/sede-scaled-e1656615992280.jpg
END:VEVENT
BEGIN:VEVENT
DTSTART;TZID=America/Sao_Paulo:20240525T143000
DTEND;TZID=America/Sao_Paulo:20240525T143000
DTSTAMP:20260426T012419
CREATED:20240516T105533Z
LAST-MODIFIED:20240516T105533Z
UID:8531-1716647400-1716647400@albinoteixeira.org.br
SUMMARY:O passe
DESCRIPTION:
URL:https://albinoteixeira.org.br/evento/o-passe-9/
LOCATION:Grupo Espírita de Fraternidade Albino Teixeira\, Rua dos Aeroviários\, 240\, Bairro Liberdade\, Belo Horizonte\, MG\, 31270-330\, Brasil
CATEGORIES:Reunião Pública
ATTACH;FMTTYPE=image/jpeg:https://albinoteixeira.org.br/wp-content/uploads/2022/06/sede-scaled-e1656615992280.jpg
END:VEVENT
BEGIN:VEVENT
DTSTART;TZID=America/Sao_Paulo:20240526T100000
DTEND;TZID=America/Sao_Paulo:20240526T100000
DTSTAMP:20260426T012419
CREATED:20240516T105644Z
LAST-MODIFIED:20240516T105644Z
UID:8533-1716717600-1716717600@albinoteixeira.org.br
SUMMARY:Em oração
DESCRIPTION:
URL:https://albinoteixeira.org.br/evento/em-oracao/
LOCATION:Grupo Espírita de Fraternidade Albino Teixeira\, Rua dos Aeroviários\, 240\, Bairro Liberdade\, Belo Horizonte\, MG\, 31270-330\, Brasil
CATEGORIES:Reunião Pública
ATTACH;FMTTYPE=image/jpeg:https://albinoteixeira.org.br/wp-content/uploads/2022/06/sede-scaled-e1656615992280.jpg
END:VEVENT
END:VCALENDAR